Workbook

Sheet Kalkulacka
B1: Kalkulačka ŠPF pre porovnanie výhodnosti pôžičky ŠPF s komerčnými bankami
B3: Výber vstupných hodnôt | H3: Základný predpoklad
B4: Doba splácania v rokoch | C4: Výška pôžičky | D4: Odklad (ŠPF a FNPV) | H4: Diskontná sadzba | I4: 0.03
B5: 5
B6: 8 | C6: 4 | D6: 6
B7: =OFFSET('DATA SPF'!A3,Kalkulacka!B6,0,1,1) -> 8 | C7: =OFFSET('DATA SPF'!B3,Kalkulacka!C6,0,1,1) -> 1328 | D7: =OFFSET('DATA SPF'!C3,Kalkulacka!D6,0,1,1) -> 5
H8: © Rada Študentského pôžičkového fondu, 2012
B9: Poskytovateľ pôžičky | C9: ŠPF do 31.12.2012 | D9: FNPV od 1.1.2013 | E9: Banka A | F9: Banka B | H9: Všeobecné poznámky Úroky sú uvedené v ročnom vyjadrení (p.a.).
B10: Úrok počas štúdia | C10: 0 | D10: 0 | E10: 0.079 | F10: 0.085 | H10: * Pre ŠPF a FNPV sa jedná o dobu splácania istiny a úrokov. Je preto vhodnejšie porovnávať celkovo zaplatené sumy, keďže tie odrážajú aj potenciálne dlhšiu dobu splácania v prípade ŠPF a FNPV.
B11: Úrok po skončení štúdia | C11: 0.03 | D11: 0.045 | E11: 0.079 | F11: 0.085
B12: Rozsah výšky jednej pôžičky v € | C12: 332 až 1 328 | D12: 332 až 1 328 | E12: 500 až 10 000 | F12: 1 000 až 8 500
B13: Rozsah doby splatnosti v mesiacoch | C13: 1 až 120 | D13: 1 až 120 | E13: 12 až 72 | F13: 12 až 120 | H13: V prípade pôžičky ŠPF a FNPV a v prípade odkladu sa doba splácania predlžuje o splácanie poplatkov, maximálna celková doba splácania je celkovo 10 rokov.
B14: Rozsah odkladu splatnosti pôžičky | C14: Počas štúdia | D14: Počas štúdia | E14: Bez odkladu | F14: Bez odkladu
B15: Indikatívna mesačná splátka | C15: =-(PMT(C$11/12,$B$7*12,($C$7+C18))) -> 15.658979 | D15: =-(PMT(D$11/12,$B$7*12,($C$7+D18))) -> 16.585018 | E15: =IF(OR($B$7>6,$C$7>10000,$C$7<500),"Parametre pôžičky nespĺňajú podmienky banky.",-(PMT(E11/12,$B$7*12,$C$7))) -> Parametre pôžičky nespĺňajú podmienky banky. | F15: =IF(OR($B$7>10,$C$7>8500,$C$7<1000),"Parametre pôžičky nespĺňajú podmienky banky.",-(PMT(F11/12,$B$7*12,$C$7+($F$17*$B$7*12)))) -> 23.243863 | H15: Indikatívna výška mesačnej splátky je vypočítaná podľa výberu doby splácania a výšky pôžičky. Výpočet za jednotlivé inštitúcie sa môže mierne líšiť od štandardného vzorca výpočtu splátok.
B16: Mesačné poplatky počas štúdia | C16: 0 | D16: 0 | E16: 0 | F16: 2.99 | H16: Mesačné poplatky sú poplatky za vedenie úverového účtu.
B17: Mesačné poplatky po skončení štúdia | C17: 1 | D17: 1 | E17: 0 | F17: 2.99 | H17: Mesačné poplatky sú poplatky za vedenie úverového účtu.
B18: Poplatok za poskytnutie pôžičky a iné poplatky | C18: 7 | D18: 7 | E18: =IF(($C$7*0.02)<33,33,$C$7*0.02) -> 33 | F18: =IF(C7<2000,39,IF(C7<4000,79,IF(C7<6000,119,IF(C7<10000,169,239)))) -> 39 | H18: V prípade ŠPF obsahuje aj poplatok za dohodu o splátkach a za súhlas s odkladom splátok.
B19: Ročné povinné poistenie | C19: =(0.0035*$C$7) -> 4.648 | D19: =(0.0035*$C$7) -> 4.648 | E19: 0 | F19: 0 | H19: Povinné poistenie obsahuje iba pôžička ŠPF.
B20: Ročný poplatok z výpis z účtu | C20: 1 | D20: 1 | E20: 0 | F20: 0 | H20: Ročný poplatok za výpis z účtu obsahuje iba pôžička ŠPF.
B22: Celkovo zaplatené (nominálne) | C22: =IF(OR($B$7>10,$C$7>1328),"Parametre pôžičky nespĺňajú podmienky ŠPF.",('DATA SPF'!$B$255)) -> 1675.2943 | D22: =IF(OR($B$7>10,$C$7>1328),"Parametre pôžičky nespĺňajú podmienky FNPV.",('DATA FNPV'!$B$244)) -> 1782.0962 | E22: =IF(OR($B$7>6,$C$7>10000,$C$7<500),"Parametre pôžičky nespĺňajú podmienky banky.",'DATA A'!$B$243+$E$18) -> Parametre pôžičky nespĺňajú podmienky banky. | F22: =IF(OR($B$7>10,$C$7>8500,$C$7<1000),"Parametre pôžičky nespĺňajú podmienky banky.",'DATA B'!$B$243+$F$18) -> 2270.4109 | H22: Pri výpočte celkovo zaplatených nákladov za pôžičku bez odkladu splatnosti pôžičiek je zobrazovaná suma nominálna celková hodnota zaplatená za pôžičku.
B23: Celkovo zaplatené v čistej súčastnej hodnote (Net Present Value) | C23: ='DATA SPF'!$C$254 -> 1264.0653 | D23: ='DATA FNPV'!$C$243 -> 1343.9004 | E23: =IF(OR($B$7>6,$C$7>10000,$C$7<500),"Parametre pôžičky nespĺňajú podmienky banky.",'DATA A'!$C$243+$E$18) -> Parametre pôžičky nespĺňajú podmienky banky. | F23: =IF(OR($B$7>10,$C$7>8500,$C$7<1000),"Parametre pôžičky nespĺňajú podmienky banky.",'DATA B'!$D$243+$F$18) -> 2020.6463 | H23: Pri výpočte čistej súčastnej hodnoty vstupuje do výpočtu aj zmena hodnoty penazí spôsobená napr. infláciou alebo rastom miezd počas odkladu splácania pôžičky.
B25: Zdroje a dodatočné informácie
B26: Internetové stránky vybraných inštitúcií k 14.12.2012
B27: Výpočty kalkulačky sú len informatívne a v jednotlivých prípadoch sa môžu líšiť od výpočtov poskytovateľov pôžičky.
B28: Úrok pre pôžičku v ŠPF bude od 1.1.2013 limitovaný 4,5% p.a. úrokom pôžičky Fondu na podporu vzdelávania.

Sheet DATA SPF
A2: Možnosti vstupov:
A3: =Kalkulacka!B4 -> Doba splácania v rokoch | B3: =Kalkulacka!C4 -> Výška pôžičky | C3: Odklad splácania
A4: 1 | B4: 332 | C4: 0
A5: 2 | B5: 664 | C5: 1
A6: 3 | B6: 996 | C6: 2
A7: 4 | B7: 1328 | C7: 3
A8: 5 | C8: 4
A9: 6 | C9: 5
A10: 7
A11: 8
B12: SPF | D12: Poplatok za daný mesiac | E12: Poplatky sumárne úročené (pred splátkou poplatkov) | F12: Splátka na splácanie poplatkov | G12: Poplatky sumárne úročené (po splátke poplatkov)
A13: N | B13: Anuita | C13: PV
A14: 1 | B14: =IF(A14>12*Kalkulacka!$D$7,IF(A14<=12*(Kalkulacka!$D$7+Kalkulacka!$B$7),Kalkulacka!$C$15,IF(E14>0,MIN(Kalkulacka!$C$15,E14),0)),0) -> 0 | C14: =-PV(Kalkulacka!$I$4/12,$A14,0,B14) -> 0 | D14: =IF(A14>12*Kalkulacka!$D$7,IF(OR(A14<=12*(Kalkulacka!$D$7+Kalkulacka!$B$7),G13>0),IF(MOD(A14,12)=0,Kalkulacka!$C$17+Kalkulacka!$C$19+Kalkulacka!$C$20,Kalkulacka!$C$17),0),0) -> 0 | E14: =D14 -> 0 | F14: =IF(A14>12*Kalkulacka!$D$7,IF(A14<=12*(Kalkulacka!$D$7+Kalkulacka!$B$7),0,IF(E14>0,MIN(Kalkulacka!$C$15,E14),0)),0) -> 0 | G14: =E14-F14 -> 0
A15: =A14+1 -> 2 | B15: =IF(A15>12*Kalkulacka!$D$7,IF(A15<=12*(Kalkulacka!$D$7+Kalkulacka!$B$7),Kalkulacka!$C$15,IF(E15>0,MIN(Kalkulacka!$C$15,E15),0)),0) -> 0 | C15: =-PV(Kalkulacka!$I$4/12,$A15,0,B15) -> 0 | D15: =IF(A15>12*Kalkulacka!$D$7,IF(OR(A15<=12*(Kalkulacka!$D$7+Kalkulacka!$B$7),G14>0),IF(MOD(A15,12)=0,Kalkulacka!$C$17+Kalkulacka!$C$19+Kalkulacka!$C$20,Kalkulacka!$C$17),0),0) -> 0 | E15: =G14*(1+Kalkulacka!$C$11/12)+D15 -> 0 | F15: =IF(A15>12*Kalkulacka!$D$7,IF(A15<=12*(Kalkulacka!$D$7+Kalkulacka!$B$7),0,IF(E15>0,MIN(Kalkulacka!$C$15,E15),0)),0) -> 0 | G15: =E15-F15 -> 0
A16: =A15+1 -> 3 | B16: =IF(A16>12*Kalkulacka!$D$7,IF(A16<=12*(Kalkulacka!$D$7+Kalkulacka!$B$7),Kalkulacka!$C$15,IF(E16>0,MIN(Kalkulacka!$C$15,E16),0)),0) -> 0 | C16: =-PV(Kalkulacka!$I$4/12,$A16,0,B16) -> 0 | D16: =IF(A16>12*Kalkulacka!$D$7,IF(OR(A16<=12*(Kalkulacka!$D$7+Kalkulacka!$B$7),G15>0),IF(MOD(A16,12)=0,Kalkulacka!$C$17+Kalkulacka!$C$19+Kalkulacka!$C$20,Kalkulacka!$C$17),0),0) -> 0 | E16: =G15*(1+Kalkulacka!$C$11/12)+D16 -> 0 | F16: =IF(A16>12*Kalkulacka!$D$7,IF(A16<=12*(Kalkulacka!$D$7+Kalkulacka!$B$7),0,IF(E16>0,MIN(Kalkulacka!$C$15,E16),0)),0) -> 0 | G16: =E16-F16 -> 0
A17: =A16+1 -> 4 | B17: =IF(A17>12*Kalkulacka!$D$7,IF(A17<=12*(Kalkulacka!$D$7+Kalkulacka!$B$7),Kalkulacka!$C$15,IF(E17>0,MIN(Kalkulacka!$C$15,E17),0)),0) -> 0 | C17: =-PV(Kalkulacka!$I$4/12,$A17,0,B17) -> 0 | D17: =IF(A17>12*Kalkulacka!$D$7,IF(OR(A17<=12*(Kalkulacka!$D$7+Kalkulacka!$B$7),G16>0),IF(MOD(A17,12)=0,Kalkulacka!$C$17+Kalkulacka!$C$19+Kalkulacka!$C$20,Kalkulacka!$C$17),0),0) -> 0 | E17: =G16*(1+Kalkulacka!$C$11/12)+D17 -> 0 | F17: =IF(A17>12*Kalkulacka!$D$7,IF(A17<=12*(Kalkulacka!$D$7+Kalkulacka!$B$7),0,IF(E17>0,MIN(Kalkulacka!$C$15,E17),0)),0) -> 0 | G17: =E17-F17 -> 0
A18: =A17+1 -> 5 | B18: =IF(A18>12*Kalkulacka!$D$7,IF(A18<=12*(Kalkulacka!$D$7+Kalkulacka!$B$7),Kalkulacka!$C$15,IF(E18>0,MIN(Kalkulacka!$C$15,E18),0)),0) -> 0 | C18: =-PV(Kalkulacka!$I$4/12,$A18,0,B18) -> 0 | D18: =IF(A18>12*Kalkulacka!$D$7,IF(OR(A18<=12*(Kalkulacka!$D$7+Kalkulacka!$B$7),G17>0),IF(MOD(A18,12)=0,Kalkulacka!$C$17+Kalkulacka!$C$19+Kalkulacka!$C$20,Kalkulacka!$C$17),0),0) -> 0 | E18: =G17*(1+Kalkulacka!$C$11/12)+D18 -> 0 | F18: =IF(A18>12*Kalkulacka!$D$7,IF(A18<=12*(Kalkulacka!$D$7+Kalkulacka!$B$7),0,IF(E18>0,MIN(Kalkulacka!$C$15,E18),0)),0) -> 0 | G18: =E18-F18 -> 0
A19: =A18+1 -> 6 | B19: =IF(A19>12*Kalkulacka!$D$7,IF(A19<=12*(Kalkulacka!$D$7+Kalkulacka!$B$7),Kalkulacka!$C$15,IF(E19>0,MIN(Kalkulacka!$C$15,E19),0)),0) -> 0 | C19: =-PV(Kalkulacka!$I$4/12,$A19,0,B19) -> 0 | D19: =IF(A19>12*Kalkulacka!$D$7,IF(OR(A19<=12*(Kalkulacka!$D$7+Kalkulacka!$B$7),G18>0),IF(MOD(A19,12)=0,Kalkulacka!$C$17+Kalkulacka!$C$19+Kalkulacka!$C$20,Kalkulacka!$C$17),0),0) -> 0 | E19: =G18*(1+Kalkulacka!$C$11/12)+D19 -> 0 | F19: =IF(A19>12*Kalkulacka!$D$7,IF(A19<=12*(Kalkulacka!$D$7+Kalkulacka!$B$7),0,IF(E19>0,MIN(Kalkulacka!$C$15,E19),0)),0) -> 0 | G19: =E19-F19 -> 0
A20: =A19+1 -> 7 | B20: =IF(A20>12*Kalkulacka!$D$7,IF(A20<=12*(Kalkulacka!$D$7+Kalkulacka!$B$7),Kalkulacka!$C$15,IF(E20>0,MIN(Kalkulacka!$C$15,E20),0)),0) -> 0 | C20: =-PV(Kalkulacka!$I$4/12,$A20,0,B20) -> 0 | D20: =IF(A20>12*Kalkulacka!$D$7,IF(OR(A20<=12*(Kalkulacka!$D$7+Kalkulacka!$B$7),G19>0),IF(MOD(A20,12)=0,Kalkulacka!$C$17+Kalkulacka!$C$19+Kalkulacka!$C$20,Kalkulacka!$C$17),0),0) -> 0 | E20: =G19*(1+Kalkulacka!$C$11/12)+D20 -> 0 | F20: =IF(A20>12*Kalkulacka!$D$7,IF(A20<=12*(Kalkulacka!$D$7+Kalkulacka!$B$7),0,IF(E20>0,MIN(Kalkulacka!$C$15,E20),0)),0) -> 0 | G20: =E20-F20 -> 0
A21: =A20+1 -> 8 | B21: =IF(A21>12*Kalkulacka!$D$7,IF(A21<=12*(Kalkulacka!$D$7+Kalkulacka!$B$7),Kalkulacka!$C$15,IF(E21>0,MIN(Kalkulacka!$C$15,E21),0)),0) -> 0 | C21: =-PV(Kalkulacka!$I$4/12,$A21,0,B21) -> 0 | D21: =IF(A21>12*Kalkulacka!$D$7,IF(OR(A21<=12*(Kalkulacka!$D$7+Kalkulacka!$B$7),G20>0),IF(MOD(A21,12)=0,Kalkulacka!$C$17+Kalkulacka!$C$19+Kalkulacka!$C$20,Kalkulacka!$C$17),0),0) -> 0 | E21: =G20*(1+Kalkulacka!$C$11/12)+D21 -> 0 | F21: =IF(A21>12*Kalkulacka!$D$7,IF(A21<=12*(Kalkulacka!$D$7+Kalkulacka!$B$7),0,IF(E21>0,MIN(Kalkulacka!$C$15,E21),0)),0) -> 0 | G21: =E21-F21 -> 0
A22: =A21+1 -> 9 | B22: =IF(A22>12*Kalkulacka!$D$7,IF(A22<=12*(Kalkulacka!$D$7+Kalkulacka!$B$7),Kalkulacka!$C$15,IF(E22>0,MIN(Kalkulacka!$C$15,E22),0)),0) -> 0 | C22: =-PV(Kalkulacka!$I$4/12,$A22,0,B22) -> 0 | D22: =IF(A22>12*Kalkulacka!$D$7,IF(OR(A22<=12*(Kalkulacka!$D$7+Kalkulacka!$B$7),G21>0),IF(MOD(A22,12)=0,Kalkulacka!$C$17+Kalkulacka!$C$19+Kalkulacka!$C$20,Kalkulacka!$C$17),0),0) -> 0 | E22: =G21*(1+Kalkulacka!$C$11/12)+D22 -> 0 | F22: =IF(A22>12*Kalkulacka!$D$7,IF(A22<=12*(Kalkulacka!$D$7+Kalkulacka!$B$7),0,IF(E22>0,MIN(Kalkulacka!$C$15,E22),0)),0) -> 0 | G22: =E22-F22 -> 0
A23: =A22+1 -> 10 | B23: =IF(A23>12*Kalkulacka!$D$7,IF(A23<=12*(Kalkulacka!$D$7+Kalkulacka!$B$7),Kalkulacka!$C$15,IF(E23>0,MIN(Kalkulacka!$C$15,E23),0)),0) -> 0 | C23: =-PV(Kalkulacka!$I$4/12,$A23,0,B23) -> 0 | D23: =IF(A23>12*Kalkulacka!$D$7,IF(OR(A23<=12*(Kalkulacka!$D$7+Kalkulacka!$B$7),G22>0),IF(MOD(A23,12)=0,Kalkulacka!$C$17+Kalkulacka!$C$19+Kalkulacka!$C$20,Kalkulacka!$C$17),0),0) -> 0 | E23: =G22*(1+Kalkulacka!$C$11/12)+D23 -> 0 | F23: =IF(A23>12*Kalkulacka!$D$7,IF(A23<=12*(Kalkulacka!$D$7+Kalkulacka!$B$7),0,IF(E23>0,MIN(Kalkulacka!$C$15,E23),0)),0) -> 0 | G23: =E23-F23 -> 0
A24: =A23+1 -> 11 | B24: =IF(A24>12*Kalkulacka!$D$7,IF(A24<=12*(Kalkulacka!$D$7+Kalkulacka!$B$7),Kalkulacka!$C$15,IF(E24>0,MIN(Kalkulacka!$C$15,E24),0)),0) -> 0 | C24: =-PV(Kalkulacka!$I$4/12,$A24,0,B24) -> 0 | D24: =IF(A24>12*Kalkulacka!$D$7,IF(OR(A24<=12*(Kalkulacka!$D$7+Kalkulacka!$B$7),G23>0),IF(MOD(A24,12)=0,Kalkulacka!$C$17+Kalkulacka!$C$19+Kalkulacka!$C$20,Kalkulacka!$C$17),0),0) -> 0 | E24: =G23*(1+Kalkulacka!$C$11/12)+D24 -> 0 | F24: =IF(A24>12*Kalkulacka!$D$7,IF(A24<=12*(Kalkulacka!$D$7+Kalkulacka!$B$7),0,IF(E24>0,MIN(Kalkulacka!$C$15,E24),0)),0) -> 0 | G24: =E24-F24 -> 0
A25: =A24+1 -> 12 | B25: =IF(A25>12*Kalkulacka!$D$7,IF(A25<=12*(Kalkulacka!$D$7+Kalkulacka!$B$7),Kalkulacka!$C$15,IF(E25>0,MIN(Kalkulacka!$C$15,E25),0)),0) -> 0 | C25: =-PV(Kalkulacka!$I$4/12,$A25,0,B25) -> 0 | D25: =IF(A25>12*Kalkulacka!$D$7,IF(OR(A25<=12*(Kalkulacka!$D$7+Kalkulacka!$B$7),G24>0),IF(MOD(A25,12)=0,Kalkulacka!$C$17+Kalkulacka!$C$19+Kalkulacka!$C$20,Kalkulacka!$C$17),0),0) -> 0 | E25: =G24*(1+Kalkulacka!$C$11/12)+D25 -> 0 | F25: =IF(A25>12*Kalkulacka!$D$7,IF(A25<=12*(Kalkulacka!$D$7+Kalkulacka!$B$7),0,IF(E25>0,MIN(Kalkulacka!$C$15,E25),0)),0) -> 0 | G25: =E25-F25 -> 0
A26: =A25+1 -> 13 | B26: =IF(A26>12*Kalkulacka!$D$7,IF(A26<=12*(Kalkulacka!$D$7+Kalkulacka!$B$7),Kalkulacka!$C$15,IF(E26>0,MIN(Kalkulacka!$C$15,E26),0)),0) -> 0 | C26: =-PV(Kalkulacka!$I$4/12,$A26,0,B26) -> 0 | D26: =IF(A26>12*Kalkulacka!$D$7,IF(OR(A26<=12*(Kalkulacka!$D$7+Kalkulacka!$B$7),G25>0),IF(MOD(A26,12)=0,Kalkulacka!$C$17+Kalkulacka!$C$19+Kalkulacka!$C$20,Kalkulacka!$C$17),0),0) -> 0 | E26: =G25*(1+Kalkulacka!$C$11/12)+D26 -> 0 | F26: =IF(A26>12*Kalkulacka!$D$7,IF(A26<=12*(Kalkulacka!$D$7+Kalkulacka!$B$7),0,IF(E26>0,MIN(Kalkulacka!$C$15,E26),0)),0) -> 0 | G26: =E26-F26 -> 0
... A253: =A252+1 -> 240 | B253: =IF(A253>12*Kalkulacka!$D$7,IF(A253<=12*(Kalkulacka!$D$7+Kalkulacka!$B$7),Kalkulacka!$C$15,IF(E253>0,MIN(Kalkulacka!$C$15,E253),0)),0) -> 0 | C253: =-PV(Kalkulacka!$I$4/12,$A253,0,B253) -> 0 | D253: =IF(A253>12*Kalkulacka!$D$7,IF(OR(A253<=12*(Kalkulacka!$D$7+Kalkulacka!$B$7),G252>0),IF(MOD(A253,12)=0,Kalkulacka!$C$17+Kalkulacka!$C$19+Kalkulacka!$C$20,Kalkulacka!$C$17),0),0) -> 0 | E253: =G252*(1+Kalkulacka!$C$11/12)+D253 -> 0 | F253: =IF(A253>12*Kalkulacka!$D$7,IF(A253<=12*(Kalkulacka!$D$7+Kalkulacka!$B$7),0,IF(E253>0,MIN(Kalkulacka!$C$15,E253),0)),0) -> 0 | G253: =E253-F253 -> 0
A254: SUM | B254: =Kalkulacka!$C$15*Kalkulacka!$B$7*12 -> 1503.2619 | C254: =SUM(C14:C253) -> 1264.0653 | D254: =SUM(D14:D253) -> 152.184 | F254: =SUM(F14:F253) -> 172.03239
B255: =B254+F254 -> 1675.2943

Sheet DATA FNPV
B1: FNPV | D1: Poplatok za daný mesiac | E1: Poplatky sumárne úročené (pred splátkou poplatkov) | F1: Splátka na splácanie poplatkov | G1: Poplatky sumárne úročené (po splátke poplatkov)
A2: N | B2: Anuita | C2: PV
A3: 1 | B3: =IF(A3>12*Kalkulacka!$D$7,IF(A3<=12*(Kalkulacka!$D$7+Kalkulacka!$B$7),Kalkulacka!$D$15,IF(E3>0,MIN(Kalkulacka!$D$15,E3),0)),0) -> 0 | C3: =-PV(Kalkulacka!$I$4/12,$A3,0,B3) -> 0 | D3: =IF(A3>12*Kalkulacka!$D$7,IF(OR(A3<=12*(Kalkulacka!$D$7+Kalkulacka!$B$7),G2>0),IF(MOD(A3,12)=0,Kalkulacka!$D$17+Kalkulacka!$D$19+Kalkulacka!$D$20,Kalkulacka!$D$17),0),0) -> 0 | E3: =D3 -> 0 | F3: =IF(A3>12*Kalkulacka!$D$7,IF(A3<=12*(Kalkulacka!$D$7+Kalkulacka!$B$7),0,IF(E3>0,MIN(Kalkulacka!$D$15,E3),0)),0) -> 0 | G3: =E3-F3 -> 0
A4: =A3+1 -> 2 | B4: =IF(A4>12*Kalkulacka!$D$7,IF(A4<=12*(Kalkulacka!$D$7+Kalkulacka!$B$7),Kalkulacka!$D$15,IF(E4>0,MIN(Kalkulacka!$D$15,E4),0)),0) -> 0 | C4: =-PV(Kalkulacka!$I$4/12,$A4,0,B4) -> 0 | D4: =IF(A4>12*Kalkulacka!$D$7,IF(OR(A4<=12*(Kalkulacka!$D$7+Kalkulacka!$B$7),G3>0),IF(MOD(A4,12)=0,Kalkulacka!$D$17+Kalkulacka!$D$19+Kalkulacka!$D$20,Kalkulacka!$D$17),0),0) -> 0 | E4: =G3*(1+Kalkulacka!$D$11/12)+D4 -> 0 | F4: =IF(A4>12*Kalkulacka!$D$7,IF(A4<=12*(Kalkulacka!$D$7+Kalkulacka!$B$7),0,IF(E4>0,MIN(Kalkulacka!$D$15,E4),0)),0) -> 0 | G4: =E4-F4 -> 0
A5: =A4+1 -> 3 | B5: =IF(A5>12*Kalkulacka!$D$7,IF(A5<=12*(Kalkulacka!$D$7+Kalkulacka!$B$7),Kalkulacka!$D$15,IF(E5>0,MIN(Kalkulacka!$D$15,E5),0)),0) -> 0 | C5: =-PV(Kalkulacka!$I$4/12,$A5,0,B5) -> 0 | D5: =IF(A5>12*Kalkulacka!$D$7,IF(OR(A5<=12*(Kalkulacka!$D$7+Kalkulacka!$B$7),G4>0),IF(MOD(A5,12)=0,Kalkulacka!$D$17+Kalkulacka!$D$19+Kalkulacka!$D$20,Kalkulacka!$D$17),0),0) -> 0 | E5: =G4*(1+Kalkulacka!$D$11/12)+D5 -> 0 | F5: =IF(A5>12*Kalkulacka!$D$7,IF(A5<=12*(Kalkulacka!$D$7+Kalkulacka!$B$7),0,IF(E5>0,MIN(Kalkulacka!$D$15,E5),0)),0) -> 0 | G5: =E5-F5 -> 0
A6: =A5+1 -> 4 | B6: =IF(A6>12*Kalkulacka!$D$7,IF(A6<=12*(Kalkulacka!$D$7+Kalkulacka!$B$7),Kalkulacka!$D$15,IF(E6>0,MIN(Kalkulacka!$D$15,E6),0)),0) -> 0 | C6: =-PV(Kalkulacka!$I$4/12,$A6,0,B6) -> 0 | D6: =IF(A6>12*Kalkulacka!$D$7,IF(OR(A6<=12*(Kalkulacka!$D$7+Kalkulacka!$B$7),G5>0),IF(MOD(A6,12)=0,Kalkulacka!$D$17+Kalkulacka!$D$19+Kalkulacka!$D$20,Kalkulacka!$D$17),0),0) -> 0 | E6: =G5*(1+Kalkulacka!$D$11/12)+D6 -> 0 | F6: =IF(A6>12*Kalkulacka!$D$7,IF(A6<=12*(Kalkulacka!$D$7+Kalkulacka!$B$7),0,IF(E6>0,MIN(Kalkulacka!$D$15,E6),0)),0) -> 0 | G6: =E6-F6 -> 0
A7: =A6+1 -> 5 | B7: =IF(A7>12*Kalkulacka!$D$7,IF(A7<=12*(Kalkulacka!$D$7+Kalkulacka!$B$7),Kalkulacka!$D$15,IF(E7>0,MIN(Kalkulacka!$D$15,E7),0)),0) -> 0 | C7: =-PV(Kalkulacka!$I$4/12,$A7,0,B7) -> 0 | D7: =IF(A7>12*Kalkulacka!$D$7,IF(OR(A7<=12*(Kalkulacka!$D$7+Kalkulacka!$B$7),G6>0),IF(MOD(A7,12)=0,Kalkulacka!$D$17+Kalkulacka!$D$19+Kalkulacka!$D$20,Kalkulacka!$D$17),0),0) -> 0 | E7: =G6*(1+Kalkulacka!$D$11/12)+D7 -> 0 | F7: =IF(A7>12*Kalkulacka!$D$7,IF(A7<=12*(Kalkulacka!$D$7+Kalkulacka!$B$7),0,IF(E7>0,MIN(Kalkulacka!$D$15,E7),0)),0) -> 0 | G7: =E7-F7 -> 0
A8: =A7+1 -> 6 | B8: =IF(A8>12*Kalkulacka!$D$7,IF(A8<=12*(Kalkulacka!$D$7+Kalkulacka!$B$7),Kalkulacka!$D$15,IF(E8>0,MIN(Kalkulacka!$D$15,E8),0)),0) -> 0 | C8: =-PV(Kalkulacka!$I$4/12,$A8,0,B8) -> 0 | D8: =IF(A8>12*Kalkulacka!$D$7,IF(OR(A8<=12*(Kalkulacka!$D$7+Kalkulacka!$B$7),G7>0),IF(MOD(A8,12)=0,Kalkulacka!$D$17+Kalkulacka!$D$19+Kalkulacka!$D$20,Kalkulacka!$D$17),0),0) -> 0 | E8: =G7*(1+Kalkulacka!$D$11/12)+D8 -> 0 | F8: =IF(A8>12*Kalkulacka!$D$7,IF(A8<=12*(Kalkulacka!$D$7+Kalkulacka!$B$7),0,IF(E8>0,MIN(Kalkulacka!$D$15,E8),0)),0) -> 0 | G8: =E8-F8 -> 0
A9: =A8+1 -> 7 | B9: =IF(A9>12*Kalkulacka!$D$7,IF(A9<=12*(Kalkulacka!$D$7+Kalkulacka!$B$7),Kalkulacka!$D$15,IF(E9>0,MIN(Kalkulacka!$D$15,E9),0)),0) -> 0 | C9: =-PV(Kalkulacka!$I$4/12,$A9,0,B9) -> 0 | D9: =IF(A9>12*Kalkulacka!$D$7,IF(OR(A9<=12*(Kalkulacka!$D$7+Kalkulacka!$B$7),G8>0),IF(MOD(A9,12)=0,Kalkulacka!$D$17+Kalkulacka!$D$19+Kalkulacka!$D$20,Kalkulacka!$D$17),0),0) -> 0 | E9: =G8*(1+Kalkulacka!$D$11/12)+D9 -> 0 | F9: =IF(A9>12*Kalkulacka!$D$7,IF(A9<=12*(Kalkulacka!$D$7+Kalkulacka!$B$7),0,IF(E9>0,MIN(Kalkulacka!$D$15,E9),0)),0) -> 0 | G9: =E9-F9 -> 0
A10: =A9+1 -> 8 | B10: =IF(A10>12*Kalkulacka!$D$7,IF(A10<=12*(Kalkulacka!$D$7+Kalkulacka!$B$7),Kalkulacka!$D$15,IF(E10>0,MIN(Kalkulacka!$D$15,E10),0)),0) -> 0 | C10: =-PV(Kalkulacka!$I$4/12,$A10,0,B10) -> 0 | D10: =IF(A10>12*Kalkulacka!$D$7,IF(OR(A10<=12*(Kalkulacka!$D$7+Kalkulacka!$B$7),G9>0),IF(MOD(A10,12)=0,Kalkulacka!$D$17+Kalkulacka!$D$19+Kalkulacka!$D$20,Kalkulacka!$D$17),0),0) -> 0 | E10: =G9*(1+Kalkulacka!$D$11/12)+D10 -> 0 | F10: =IF(A10>12*Kalkulacka!$D$7,IF(A10<=12*(Kalkulacka!$D$7+Kalkulacka!$B$7),0,IF(E10>0,MIN(Kalkulacka!$D$15,E10),0)),0) -> 0 | G10: =E10-F10 -> 0
A11: =A10+1 -> 9 | B11: =IF(A11>12*Kalkulacka!$D$7,IF(A11<=12*(Kalkulacka!$D$7+Kalkulacka!$B$7),Kalkulacka!$D$15,IF(E11>0,MIN(Kalkulacka!$D$15,E11),0)),0) -> 0 | C11: =-PV(Kalkulacka!$I$4/12,$A11,0,B11) -> 0 | D11: =IF(A11>12*Kalkulacka!$D$7,IF(OR(A11<=12*(Kalkulacka!$D$7+Kalkulacka!$B$7),G10>0),IF(MOD(A11,12)=0,Kalkulacka!$D$17+Kalkulacka!$D$19+Kalkulacka!$D$20,Kalkulacka!$D$17),0),0) -> 0 | E11: =G10*(1+Kalkulacka!$D$11/12)+D11 -> 0 | F11: =IF(A11>12*Kalkulacka!$D$7,IF(A11<=12*(Kalkulacka!$D$7+Kalkulacka!$B$7),0,IF(E11>0,MIN(Kalkulacka!$D$15,E11),0)),0) -> 0 | G11: =E11-F11 -> 0
A12: =A11+1 -> 10 | B12: =IF(A12>12*Kalkulacka!$D$7,IF(A12<=12*(Kalkulacka!$D$7+Kalkulacka!$B$7),Kalkulacka!$D$15,IF(E12>0,MIN(Kalkulacka!$D$15,E12),0)),0) -> 0 | C12: =-PV(Kalkulacka!$I$4/12,$A12,0,B12) -> 0 | D12: =IF(A12>12*Kalkulacka!$D$7,IF(OR(A12<=12*(Kalkulacka!$D$7+Kalkulacka!$B$7),G11>0),IF(MOD(A12,12)=0,Kalkulacka!$D$17+Kalkulacka!$D$19+Kalkulacka!$D$20,Kalkulacka!$D$17),0),0) -> 0 | E12: =G11*(1+Kalkulacka!$D$11/12)+D12 -> 0 | F12: =IF(A12>12*Kalkulacka!$D$7,IF(A12<=12*(Kalkulacka!$D$7+Kalkulacka!$B$7),0,IF(E12>0,MIN(Kalkulacka!$D$15,E12),0)),0) -> 0 | G12: =E12-F12 -> 0
A13: =A12+1 -> 11 | B13: =IF(A13>12*Kalkulacka!$D$7,IF(A13<=12*(Kalkulacka!$D$7+Kalkulacka!$B$7),Kalkulacka!$D$15,IF(E13>0,MIN(Kalkulacka!$D$15,E13),0)),0) -> 0 | C13: =-PV(Kalkulacka!$I$4/12,$A13,0,B13) -> 0 | D13: =IF(A13>12*Kalkulacka!$D$7,IF(OR(A13<=12*(Kalkulacka!$D$7+Kalkulacka!$B$7),G12>0),IF(MOD(A13,12)=0,Kalkulacka!$D$17+Kalkulacka!$D$19+Kalkulacka!$D$20,Kalkulacka!$D$17),0),0) -> 0 | E13: =G12*(1+Kalkulacka!$D$11/12)+D13 -> 0 | F13: =IF(A13>12*Kalkulacka!$D$7,IF(A13<=12*(Kalkulacka!$D$7+Kalkulacka!$B$7),0,IF(E13>0,MIN(Kalkulacka!$D$15,E13),0)),0) -> 0 | G13: =E13-F13 -> 0
A14: =A13+1 -> 12 | B14: =IF(A14>12*Kalkulacka!$D$7,IF(A14<=12*(Kalkulacka!$D$7+Kalkulacka!$B$7),Kalkulacka!$D$15,IF(E14>0,MIN(Kalkulacka!$D$15,E14),0)),0) -> 0 | C14: =-PV(Kalkulacka!$I$4/12,$A14,0,B14) -> 0 | D14: =IF(A14>12*Kalkulacka!$D$7,IF(OR(A14<=12*(Kalkulacka!$D$7+Kalkulacka!$B$7),G13>0),IF(MOD(A14,12)=0,Kalkulacka!$D$17+Kalkulacka!$D$19+Kalkulacka!$D$20,Kalkulacka!$D$17),0),0) -> 0 | E14: =G13*(1+Kalkulacka!$D$11/12)+D14 -> 0 | F14: =IF(A14>12*Kalkulacka!$D$7,IF(A14<=12*(Kalkulacka!$D$7+Kalkulacka!$B$7),0,IF(E14>0,MIN(Kalkulacka!$D$15,E14),0)),0) -> 0 | G14: =E14-F14 -> 0
A15: =A14+1 -> 13 | B15: =IF(A15>12*Kalkulacka!$D$7,IF(A15<=12*(Kalkulacka!$D$7+Kalkulacka!$B$7),Kalkulacka!$D$15,IF(E15>0,MIN(Kalkulacka!$D$15,E15),0)),0) -> 0 | C15: =-PV(Kalkulacka!$I$4/12,$A15,0,B15) -> 0 | D15: =IF(A15>12*Kalkulacka!$D$7,IF(OR(A15<=12*(Kalkulacka!$D$7+Kalkulacka!$B$7),G14>0),IF(MOD(A15,12)=0,Kalkulacka!$D$17+Kalkulacka!$D$19+Kalkulacka!$D$20,Kalkulacka!$D$17),0),0) -> 0 | E15: =G14*(1+Kalkulacka!$D$11/12)+D15 -> 0 | F15: =IF(A15>12*Kalkulacka!$D$7,IF(A15<=12*(Kalkulacka!$D$7+Kalkulacka!$B$7),0,IF(E15>0,MIN(Kalkulacka!$D$15,E15),0)),0) -> 0 | G15: =E15-F15 -> 0
... A242: =A241+1 -> 240 | B242: =IF(A242>12*Kalkulacka!$D$7,IF(A242<=12*(Kalkulacka!$D$7+Kalkulacka!$B$7),Kalkulacka!$D$15,IF(E242>0,MIN(Kalkulacka!$D$15,E242),0)),0) -> 0 | C242: =-PV(Kalkulacka!$I$4/12,$A242,0,B242) -> 0 | D242: =IF(A242>12*Kalkulacka!$D$7,IF(OR(A242<=12*(Kalkulacka!$D$7+Kalkulacka!$B$7),G241>0),IF(MOD(A242,12)=0,Kalkulacka!$D$17+Kalkulacka!$D$19+Kalkulacka!$D$20,Kalkulacka!$D$17),0),0) -> 0 | E242: =G241*(1+Kalkulacka!$D$11/12)+D242 -> 0 | F242: =IF(A242>12*Kalkulacka!$D$7,IF(A242<=12*(Kalkulacka!$D$7+Kalkulacka!$B$7),0,IF(E242>0,MIN(Kalkulacka!$D$15,E242),0)),0) -> 0 | G242: =E242-F242 -> 0
A243: SUM | B243: =Kalkulacka!$D$15*Kalkulacka!$B$7*12 -> 1592.1617 | C243: =SUM(C3:C242) -> 1343.9004 | D243: =SUM(D3:D242) -> 158.832 | F243: =SUM(F3:F242) -> 189.93445
B244: =B243+F243 -> 1782.0962

Sheet DATA A
B1: A
A2: N | B2: Anuita | C2: PV
A3: 1 | B3: =IF(A3<=12*(Kalkulacka!$B$7),Kalkulacka!$E$15,0) -> Parametre pôžičky nespĺňajú podmienky banky. | C3: =-PV(Kalkulacka!$I$4/12,$A3,0,B3) -> #VALUE!
A4: =A3+1 -> 2 | B4: =IF(A4<=12*(Kalkulacka!$B$7),Kalkulacka!$E$15,0) -> Parametre pôžičky nespĺňajú podmienky banky. | C4: =-PV(Kalkulacka!$I$4/12,$A4,0,B4) -> #VALUE!
A5: =A4+1 -> 3 | B5: =IF(A5<=12*(Kalkulacka!$B$7),Kalkulacka!$E$15,0) -> Parametre pôžičky nespĺňajú podmienky banky. | C5: =-PV(Kalkulacka!$I$4/12,$A5,0,B5) -> #VALUE!
A6: =A5+1 -> 4 | B6: =IF(A6<=12*(Kalkulacka!$B$7),Kalkulacka!$E$15,0) -> Parametre pôžičky nespĺňajú podmienky banky. | C6: =-PV(Kalkulacka!$I$4/12,$A6,0,B6) -> #VALUE!
A7: =A6+1 -> 5 | B7: =IF(A7<=12*(Kalkulacka!$B$7),Kalkulacka!$E$15,0) -> Parametre pôžičky nespĺňajú podmienky banky. | C7: =-PV(Kalkulacka!$I$4/12,$A7,0,B7) -> #VALUE!
A8: =A7+1 -> 6 | B8: =IF(A8<=12*(Kalkulacka!$B$7),Kalkulacka!$E$15,0) -> Parametre pôžičky nespĺňajú podmienky banky. | C8: =-PV(Kalkulacka!$I$4/12,$A8,0,B8) -> #VALUE!
A9: =A8+1 -> 7 | B9: =IF(A9<=12*(Kalkulacka!$B$7),Kalkulacka!$E$15,0) -> Parametre pôžičky nespĺňajú podmienky banky. | C9: =-PV(Kalkulacka!$I$4/12,$A9,0,B9) -> #VALUE!
A10: =A9+1 -> 8 | B10: =IF(A10<=12*(Kalkulacka!$B$7),Kalkulacka!$E$15,0) -> Parametre pôžičky nespĺňajú podmienky banky. | C10: =-PV(Kalkulacka!$I$4/12,$A10,0,B10) -> #VALUE!
A11: =A10+1 -> 9 | B11: =IF(A11<=12*(Kalkulacka!$B$7),Kalkulacka!$E$15,0) -> Parametre pôžičky nespĺňajú podmienky banky. | C11: =-PV(Kalkulacka!$I$4/12,$A11,0,B11) -> #VALUE!
A12: =A11+1 -> 10 | B12: =IF(A12<=12*(Kalkulacka!$B$7),Kalkulacka!$E$15,0) -> Parametre pôžičky nespĺňajú podmienky banky. | C12: =-PV(Kalkulacka!$I$4/12,$A12,0,B12) -> #VALUE!
A13: =A12+1 -> 11 | B13: =IF(A13<=12*(Kalkulacka!$B$7),Kalkulacka!$E$15,0) -> Parametre pôžičky nespĺňajú podmienky banky. | C13: =-PV(Kalkulacka!$I$4/12,$A13,0,B13) -> #VALUE!
A14: =A13+1 -> 12 | B14: =IF(A14<=12*(Kalkulacka!$B$7),Kalkulacka!$E$15,0) -> Parametre pôžičky nespĺňajú podmienky banky. | C14: =-PV(Kalkulacka!$I$4/12,$A14,0,B14) -> #VALUE!
A15: =A14+1 -> 13 | B15: =IF(A15<=12*(Kalkulacka!$B$7),Kalkulacka!$E$15,0) -> Parametre pôžičky nespĺňajú podmienky banky. | C15: =-PV(Kalkulacka!$I$4/12,$A15,0,B15) -> #VALUE!
... A242: =A241+1 -> 240 | B242: =IF(A242<=12*(Kalkulacka!$B$7),Kalkulacka!$E$15,0) -> 0 | C242: =-PV(Kalkulacka!$I$4/12,$A242,0,B242) -> 0
A243: SUM | B243: =Kalkulacka!$E$15*Kalkulacka!$B$7*12 -> #VALUE! | C243: =SUM(C3:C242) -> #VALUE!

Sheet DATA B
B1: B
A2: N | B2: Anuita | C2: Poplatky | D2: PV
A3: 1 | B3: =IF(A3<=12*(Kalkulacka!$B$7),Kalkulacka!$F$15,0) -> 23.243863 | C3: =IF(B3=0,0,IF(MOD(A3,12)=0,Kalkulacka!$F$17+Kalkulacka!$F$19+Kalkulacka!$F$20,Kalkulacka!$F$17)) -> 2.99 | D3: =-PV(Kalkulacka!$I$4/12,$A3,0,B3) -> 23.185899
A4: =A3+1 -> 2 | B4: =IF(A4<=12*(Kalkulacka!$B$7),Kalkulacka!$F$15,0) -> 23.243863 | C4: =IF(B4=0,0,IF(MOD(A4,12)=0,Kalkulacka!$F$17+Kalkulacka!$F$19+Kalkulacka!$F$20,Kalkulacka!$F$17)) -> 2.99 | D4: =-PV(Kalkulacka!$I$4/12,$A4,0,B4) -> 23.128078
A5: =A4+1 -> 3 | B5: =IF(A5<=12*(Kalkulacka!$B$7),Kalkulacka!$F$15,0) -> 23.243863 | C5: =IF(B5=0,0,IF(MOD(A5,12)=0,Kalkulacka!$F$17+Kalkulacka!$F$19+Kalkulacka!$F$20,Kalkulacka!$F$17)) -> 2.99 | D5: =-PV(Kalkulacka!$I$4/12,$A5,0,B5) -> 23.070402
A6: =A5+1 -> 4 | B6: =IF(A6<=12*(Kalkulacka!$B$7),Kalkulacka!$F$15,0) -> 23.243863 | C6: =IF(B6=0,0,IF(MOD(A6,12)=0,Kalkulacka!$F$17+Kalkulacka!$F$19+Kalkulacka!$F$20,Kalkulacka!$F$17)) -> 2.99 | D6: =-PV(Kalkulacka!$I$4/12,$A6,0,B6) -> 23.01287
A7: =A6+1 -> 5 | B7: =IF(A7<=12*(Kalkulacka!$B$7),Kalkulacka!$F$15,0) -> 23.243863 | C7: =IF(B7=0,0,IF(MOD(A7,12)=0,Kalkulacka!$F$17+Kalkulacka!$F$19+Kalkulacka!$F$20,Kalkulacka!$F$17)) -> 2.99 | D7: =-PV(Kalkulacka!$I$4/12,$A7,0,B7) -> 22.955482
A8: =A7+1 -> 6 | B8: =IF(A8<=12*(Kalkulacka!$B$7),Kalkulacka!$F$15,0) -> 23.243863 | C8: =IF(B8=0,0,IF(MOD(A8,12)=0,Kalkulacka!$F$17+Kalkulacka!$F$19+Kalkulacka!$F$20,Kalkulacka!$F$17)) -> 2.99 | D8: =-PV(Kalkulacka!$I$4/12,$A8,0,B8) -> 22.898236
A9: =A8+1 -> 7 | B9: =IF(A9<=12*(Kalkulacka!$B$7),Kalkulacka!$F$15,0) -> 23.243863 | C9: =IF(B9=0,0,IF(MOD(A9,12)=0,Kalkulacka!$F$17+Kalkulacka!$F$19+Kalkulacka!$F$20,Kalkulacka!$F$17)) -> 2.99 | D9: =-PV(Kalkulacka!$I$4/12,$A9,0,B9) -> 22.841133
A10: =A9+1 -> 8 | B10: =IF(A10<=12*(Kalkulacka!$B$7),Kalkulacka!$F$15,0) -> 23.243863 | C10: =IF(B10=0,0,IF(MOD(A10,12)=0,Kalkulacka!$F$17+Kalkulacka!$F$19+Kalkulacka!$F$20,Kalkulacka!$F$17)) -> 2.99 | D10: =-PV(Kalkulacka!$I$4/12,$A10,0,B10) -> 22.784173
A11: =A10+1 -> 9 | B11: =IF(A11<=12*(Kalkulacka!$B$7),Kalkulacka!$F$15,0) -> 23.243863 | C11: =IF(B11=0,0,IF(MOD(A11,12)=0,Kalkulacka!$F$17+Kalkulacka!$F$19+Kalkulacka!$F$20,Kalkulacka!$F$17)) -> 2.99 | D11: =-PV(Kalkulacka!$I$4/12,$A11,0,B11) -> 22.727354
A12: =A11+1 -> 10 | B12: =IF(A12<=12*(Kalkulacka!$B$7),Kalkulacka!$F$15,0) -> 23.243863 | C12: =IF(B12=0,0,IF(MOD(A12,12)=0,Kalkulacka!$F$17+Kalkulacka!$F$19+Kalkulacka!$F$20,Kalkulacka!$F$17)) -> 2.99 | D12: =-PV(Kalkulacka!$I$4/12,$A12,0,B12) -> 22.670678
A13: =A12+1 -> 11 | B13: =IF(A13<=12*(Kalkulacka!$B$7),Kalkulacka!$F$15,0) -> 23.243863 | C13: =IF(B13=0,0,IF(MOD(A13,12)=0,Kalkulacka!$F$17+Kalkulacka!$F$19+Kalkulacka!$F$20,Kalkulacka!$F$17)) -> 2.99 | D13: =-PV(Kalkulacka!$I$4/12,$A13,0,B13) -> 22.614142
A14: =A13+1 -> 12 | B14: =IF(A14<=12*(Kalkulacka!$B$7),Kalkulacka!$F$15,0) -> 23.243863 | C14: =IF(B14=0,0,IF(MOD(A14,12)=0,Kalkulacka!$F$17+Kalkulacka!$F$19+Kalkulacka!$F$20,Kalkulacka!$F$17)) -> 2.99 | D14: =-PV(Kalkulacka!$I$4/12,$A14,0,B14) -> 22.557748
A15: =A14+1 -> 13 | B15: =IF(A15<=12*(Kalkulacka!$B$7),Kalkulacka!$F$15,0) -> 23.243863 | C15: =IF(B15=0,0,IF(MOD(A15,12)=0,Kalkulacka!$F$17+Kalkulacka!$F$19+Kalkulacka!$F$20,Kalkulacka!$F$17)) -> 2.99 | D15: =-PV(Kalkulacka!$I$4/12,$A15,0,B15) -> 22.501494
... A242: =A241+1 -> 240 | B242: =IF(A242<=12*(Kalkulacka!$B$7),Kalkulacka!$F$15,0) -> 0 | C242: =IF(B242=0,0,IF(MOD(A242,12)=0,Kalkulacka!$F$17+Kalkulacka!$F$19+Kalkulacka!$F$20,Kalkulacka!$F$17)) -> 0 | D242: =-PV(Kalkulacka!$I$4/12,$A242,0,B242) -> 0
A243: SUM | B243: =Kalkulacka!$F$15*Kalkulacka!$B$7*12 -> 2231.4109 | C243: =SUM(C3:C242) -> 287.04 | D243: =SUM(D3:D242) -> 1981.6463
