Workbook
Name aaa: '[1]GDP_CMP over time'!#REF!
Name aaa: '[1]GDP_CMP over time'!#REF!
Name aaa: '[1]GDP_CMP over time'!#REF!
Name aaa: '[1]GDP_CMP over time'!#REF!
Name aaa: '[1]GDP_CMP over time'!#REF!
Name aaa: '[1]GDP_CMP over time'!#REF!
Name asdf: '[1]GDP_CMP over time'!#REF!
Name asdf: '[1]GDP_CMP over time'!#REF!
Name asdf: '[1]GDP_CMP over time'!#REF!
Name asdf: '[1]GDP_CMP over time'!#REF!
Name b: '[1]GDP_CMP over time'!#REF!
Name b: '[1]GDP_CMP over time'!#REF!
Name b: '[1]GDP_CMP over time'!#REF!
Name bbb: '[1]GDP_CMP over time'!#REF!
Name bbb: '[1]GDP_CMP over time'!#REF!
Name bbb: '[1]GDP_CMP over time'!#REF!
Name bbb: '[1]GDP_CMP over time'!#REF!
Name bbb: '[1]GDP_CMP over time'!#REF!
Name bbb: '[1]GDP_CMP over time'!#REF!
Name bbbb: '[1]GDP_CMP over time'!#REF!
Name bbbb: '[1]GDP_CMP over time'!#REF!
Name bbbb: '[1]GDP_CMP over time'!#REF!
Name ccc: '[1]GDP_CMP over time'!#REF!
Name ccc: '[1]GDP_CMP over time'!#REF!
Name ccc: '[1]GDP_CMP over time'!#REF!
Name ccc: '[1]GDP_CMP over time'!#REF!
Name ccc: '[1]GDP_CMP over time'!#REF!
Name ccc: '[1]GDP_CMP over time'!#REF!
Name d: '[1]GDP_CMP over time'!#REF!
Name d: '[1]GDP_CMP over time'!#REF!
Name d: '[1]GDP_CMP over time'!#REF!
Name d: '[1]GDP_CMP over time'!#REF!
Name eeee: '[1]GDP_CMP over time'!#REF!
Name eeee: '[1]GDP_CMP over time'!#REF!
Name GDP_GG2009: '[1]GDP_CMP over time'!#REF!
Name GDP_GG2009: '[1]GDP_CMP over time'!#REF!
Name GDP_GG2009: '[1]GDP_CMP over time'!#REF!
Name GDP_GG2009: '[1]GDP_CMP over time'!#REF!
Name GDP_GG2009: '[1]GDP_CMP over time'!#REF!
Name GDP_GG2009: '[1]GDP_CMP over time'!#REF!
Name qqq: '[1]GDP_CMP over time'!#REF!
Name qqq: '[1]GDP_CMP over time'!#REF!
Name qqqq: '[1]GDP_CMP over time'!#REF!
Name qqqq: '[1]GDP_CMP over time'!#REF!
Name rrrr: '[1]GDP_CMP over time'!#REF!
Name rrrr: '[1]GDP_CMP over time'!#REF!
Name wwwww: '[1]GDP_CMP over time'!#REF!
Name wwwww: '[1]GDP_CMP over time'!#REF!

Sheet Zoznam
B1: Prehľad ukazovateľov o vývoji hospodárstva vo vybraných štátoch EÚ
B2: INEKO, september 2013
B3: Dokument priebežne aktualizujeme a rozširujeme o nové indikátory.
B5: Zoznam tabuliek
A7: 1 | B7: ='01'!A1 -> HDP v bežných cenách | C7: 26 | D7: Počet nemocničných lôžok (na 100.000 obyv.) | M7: 51 | N7: Dovolenky a dni pracovného pokoja
A8: 2 | B8: HDP na obyvateľa v PPS | C8: 27 | D8: Maloobchodný predaj (okrem automobilov; r2005=100) | M8: 52 | N8: Ratingy jednotlivých krajín
A9: 3 | B9: Reálny rast HDP | C9: 28 | D9: Predaj automobilov | M9: 53 | N9: Ochrana zamestnancov
A10: 4 | B10: Miera zamestnanosti | C10: 29 | D10: Predaj pohonných hmôt | M10: 54 | N10: Daňovo-odvodová záťaž práce
A11: 5 | B11: Miera nezamestnanosti | C11: 30 | D11: Tržby v službách
A12: 6 | B12: Inflácia | C12: 31 | D12: ='31'!A1 -> Spotreba elektrickej energie (v GWh)
A13: 7 | B13: Príjmy verejných fianncií | C13: 32 | D13: ='32'!$A$1 -> Spotreba elektrickej energie v domácnostiach (v GWh)
A14: 8 | B14: Výdavky verejných financií | C14: 33 | D14: ='33'!A1 -> Výdavky na sociálne dávky (v % HDP)
A15: 9 | B15: Deficit verejných financií a Primárny deficit VF | C15: 34 | D15: ='34'!A1 -> Tvorba hrubého fixného kapitálu (v % HDP)
A16: 10 | B16: Hrubý vládny dlh | C16: 35 | D16: ='35'!A1 -> Medián príjmu obyvateľov nad 65 rokov (ako % príjmu ľudí pod 65 rokov)
A17: 11 | B17: Dlhodobé úrokové miery | C17: 36 | D17: Platy učiteľov
A18: 12 | B18: Náklady práce | C18: 37 | D18: ='37'!A1 -> Pomer platu lekára k priemenej mzde (r2009; v %)
A19: 13 | B19: Minimálna mzda | C19: 38 | D19: Výdavky a efektívnosť výdavkov na zdravotníctvo
A20: 14 | B20: Výdavky na mzdy ZCov verejnej správy | C20: 39 | D20: ='39'!A1 -> Zamestnanosť vo verejných inštitúciách a štátnych podnikoch (% z celkovej zamestnanosti)
A21: 15 | B21: Zamestnanosť v súkromnom a vo verejnom sektore | C21: 40 | D21: ='40'!A1 -> Priemerný efektívny dôchodkový vek vs. oficiálny (muži, r2011)
A22: 16 | B22: Index globálnej konkurencieschopnosti | C22: 41 | D22: ='41'!A1 -> Čistá a hrubá dôchodková miera náhrady (r2010)
A23: 17 | B23: Vybrané prvky Indexu global. konkurencieschopnosti | C23: 42 | D23: ='42'!A1 -> Výdavky na dôchodky a počet dôchodcov
A24: 18 | B24: Parametre Doing Business | C24: 43 | D24: ='43'!A1 -> Priemerný celkový príjem počas dôchodku (v USD)
A25: 19 | B25: Daňové príjmy vs. sociálne výdavky (v % HDP) | C25: 44 | D25: ='44'!A1 -> Vývoj výdavkov na celkové dôchodky a invalidné dôchodky
A26: 20 | B26: Podiel obyvateľov v preplnených bytoch (% z populácie) | C26: 45 | D26: Daňové sadzby (DPFO, DPPO, DPH)
A27: 21 | B27: Podiel obyvateľov v hmotnej núdzi (% z populácie) | C27: 46 | D27: ='46'!A1 -> Vývoj produktivity práce na zamestnanca (r2005=100)
A28: 22 | B28: Počet samovrážd (na 100 000 obyv.) | C28: 47 | D28: ='47'!A1 -> Rozsah šedej ekonomiky (v % HDP)
A29: 23 | B29: Očakávaná dĺžka života | C29: 48 | D29: OECD responsiveness rate
A30: 24 | B30: Priemerný ročný hrubý príjem | C30: 49 | D30: ='49'!A1 -> Úniky na DPH (rok 2006)
A31: 25 | B31: ='25'!$A$1 -> Obrat obchodu | C31: 50 | D31: Produktivita práce

Sheet 01
A1: HDP v bežných cenách | K1: Späť na zoznam
A2: GDP and main components - Current prices [nama_gdp_c]
A3: Source of Data | B3: Eurostat | C3: http://appsso.eurostat.ec.europa.eu/nui/show.do?dataset=nama_gdp_c&lang=en
A5: UNIT | B5: Millions of euro (from 1.1.1999)/Millions of ECU (up to 31.12.1998)
A6: INDIC_NA | B6: Gross domestic product at market prices
A8: GEO/TIME | B8: 2001 | C8: 2002 | D8: 2003 | E8: 2004 | F8: 2005 | G8: 2006 | H8: 2007 | I8: 2008 | J8: 2009 | K8: 2010 | L8: 2011 | M8: 2012 | N8: 2013* | O8: 2014* | R8: GEO/TIME | S8: 2012
A9: EA17 | B9: 7084189.3 | C9: 7330290.8 | D9: 7546729.6 | E9: 7860003.7 | F9: 8145074.3 | G9: 8564253.5 | H9: 9029637.8 | I9: 9241539.2 | J9: 8922209.6 | K9: 9175940.2 | L9: 9420565.8 | M9: 9487372.5 | N9: 9587321.3 | O9: 9855461.5 | R9: EU27 | S9: 12649785
A10: EU27 | B10: 9583912.7 | C10: 9935139 | D10: 10104053 | E10: 10605775 | F10: 11072171 | G10: 11701008 | H10: 12406198 | I10: 12472996 | J10: 11754740 | K10: 12278344 | L10: 12649785 | M10: 12899150 | N10: 13086459 | O10: 13485656 | R10: EA17 | S10: 9487372.5
A11: Fínsko | B11: 139288 | C11: 143646 | D11: 145531 | E11: 152266 | F11: 157429 | G11: 165765 | H11: 179830 | I11: 185670 | J11: 172318 | K11: 178796 | L11: 189368 | M11: 194469 | N11: 198766.1 | O11: 204486.7 | R11: Nemecko | S11: 2644200
A12: Grécko | B12: 146427.6 | C12: 156614.3 | D12: 172431.8 | E12: 185265.7 | F12: 193049.7 | G12: 208622.3 | H12: 223160.1 | I12: 233197.7 | J12: 231081.2 | K12: 222151.5 | L12: 208531.7 | M12: 193749 | N12: 183520.3 | O12: 183984.2 | R12: Taliansko | S12: 1565916.1
A13: Holandsko | B13: 447731 | C13: 465214 | D13: 476945 | E13: 491184 | F13: 513407 | G13: 540216 | H13: 571773 | I13: 594481 | J13: 573235 | K13: 588740 | L13: 601973 | M13: 600638 | N13: 604459.1 | O13: 619961.4 | R13: Španielsko | S13: 1049525
A14: Írsko | B14: 117642.8 | C14: 130877.4 | D14: 140827.4 | E14: 150194.3 | F14: 163037.1 | G14: 177729.2 | H14: 188729.2 | I14: 178881.6 | J14: 161275.1 | K14: 161037.7 | L14: 158992.7 | M14: 163595.4 | N14: 167372.4 | O14: 173474.9 | R14: Holandsko | S14: 600638
A15: Nemecko | B15: 2101900 | C15: 2132200 | D15: 2147500 | E15: 2195700 | F15: 2224400 | G15: 2313900 | H15: 2428500 | I15: 2473800 | J15: 2374500 | K15: 2496200 | L15: 2592600 | M15: 2644200 | N15: 2694498.9 | O15: 2788995.6 | R15: Fínsko | S15: 194469
A16: Portugalsko | B16: 134471.1 | C16: 140566.8 | D16: 143471.7 | E16: 149312.5 | F16: 154268.7 | G16: 160855.4 | H16: 169319.2 | I16: 171983.1 | J16: 168503.6 | K16: 172669.7 | L16: 170909 | M16: 165409.2 | N16: 164465.5 | O16: 167462.3 | R16: Grécko | S16: 193749
A17: Slovensko | B17: 23572.9 | C17: 25971.7 | D17: 29489.2 | E17: 33994.6 | F17: 38489.1 | G17: 44501.7 | H17: 54810.8 | I17: 64413.5 | J17: 62794.4 | K17: 65869.5 | L17: 69108.3 | M17: 71463 | N17: 73954.4 | O17: 77577.9 | R17: Portugalsko | S17: 165409.2
A18: Španielsko | B18: 680397 | C18: 729258 | D18: 783082 | E18: 841294 | F18: 909298 | G18: 985547 | H18: 1053161 | I18: 1087788 | J18: 1048060 | K18: 1048883 | L18: 1063355 | M18: 1049525 | N18: 1051076 | O18: 1071743 | R18: Írsko | S18: 163595.4
A19: Taliansko | B19: 1255737.8 | C19: 1301873 | D19: 1341850.1 | E19: 1397728.3 | F19: 1436379.5 | G19: 1493031.3 | H19: 1554198.9 | I19: 1575143.9 | J19: 1519695.1 | K19: 1553083.2 | L19: 1579659.2 | M19: 1565916.1 | N19: 1568388 | O19: 1603948 | R19: Slovensko | S19: 71463
A20: Cyprus | B20: 10719.6 | C20: 11081.1 | D20: 11654.2 | E20: 12596 | F20: 13598.2 | G20: 14670.5 | H20: 15901.5 | I20: 17157.1 | J20: 16853.5 | K20: 17406 | L20: 17979.3 | M20: 17886.8 | N20: 16424.8 | O20: 15950.9 | R20: Slovinsko | S20: 35466.3
A21: Slovinsko | B21: 22828.23 | C21: 24597.11 | D21: 25819.2 | E21: 27227.5 | F21: 28730.9 | G21: 31050.7 | H21: 34593.6 | I21: 37244.4 | J21: 35556.1 | K21: 35607 | L21: 36171.8 | M21: 35466.3 | N21: 35259.9 | O21: 35595.7 | R21: Cyprus | S21: 17886.8

Sheet 02
A1: HDP na obyvateľa v PPS | K1: Späť na zoznam
A2: GDP and main components - Current prices [nama_gdp_c]
A3: Source of Data | B3: Eurostat | C3: http://appsso.eurostat.ec.europa.eu/nui/submitViewTableAction.do
A5: UNIT | B5: Purchasing Power Standard per inhabitant
A6: INDIC_NA | B6: Gross domestic product at market prices
A8: GEO/TIME | B8: 2001 | C8: 2002 | D8: 2003 | E8: 2004 | F8: 2005 | G8: 2006 | H8: 2007 | I8: 2008 | J8: 2009 | K8: 2010 | L8: 2011 | N8: GEO/TIME | O8: 2011
A9: EA17 | B9: 22100 | C9: 22700 | D9: 22800 | E9: 23600 | F9: 24500 | G9: 25800 | H9: 27200 | I9: 27200 | J9: 25500 | K9: 26500 | L9: 27200 | N9: Holandsko | O9: 32900
A10: EU27 | B10: 19800 | C10: 20500 | D10: 20700 | E10: 21700 | F10: 22500 | G10: 23700 | H10: 25000 | I10: 25000 | J10: 23500 | K10: 24500 | L10: 25200 | N10: Írsko | O10: 32400
A11: Fínsko | B11: 22800 | C11: 23500 | D11: 23300 | E11: 25200 | F11: 25700 | G11: 27000 | H11: 29400 | I11: 29800 | J11: 26900 | K11: 28000 | L11: 28900 | N11: Nemecko | O11: 30300
A12: Grécko | B12: 17100 | C12: 18500 | D12: 19200 | E12: 20300 | F12: 20400 | G12: 21800 | H12: 22500 | I12: 23100 | J12: 22100 | K12: 21400 | L12: 20100 | N12: Fínsko | O12: 28900
A13: Holandsko | B13: 26400 | C13: 27300 | D13: 26800 | E13: 28000 | F13: 29400 | G13: 31000 | H13: 33100 | I13: 33600 | J13: 31100 | K13: 32500 | L13: 32900 | N13: EA17 | O13: 27200
A14: Írsko | B14: 26300 | C14: 28300 | D14: 29300 | E14: 30900 | F14: 32500 | G14: 34500 | H14: 36600 | I14: 33100 | J14: 30100 | K14: 31200 | L14: 32400 | N14: Taliansko | O14: 25300
A15: Nemecko | B15: 22900 | C15: 23400 | D15: 24000 | E15: 25000 | F15: 26000 | G15: 27300 | H15: 28900 | I15: 29000 | J15: 27200 | K15: 29000 | L15: 30300 | N15: EU27 | O15: 25200
A16: Portugalsko | B16: 15900 | C16: 16400 | D16: 16400 | E16: 16700 | F16: 17900 | G16: 18700 | H16: 19600 | I16: 19500 | J16: 18800 | K16: 19500 | L16: 19400 | N16: Španielsko | O16: 24700
A17: Slovensko | B17: 10400 | C17: 11100 | D17: 11500 | E17: 12300 | F17: 13500 | G17: 15000 | H17: 16900 | I17: 18100 | J17: 17000 | K17: 17900 | L17: 18400 | N17: Cyprus | O17: 23700
A18: Španielsko | B18: 19400 | C18: 20600 | D18: 20900 | E18: 21900 | F18: 22900 | G18: 24800 | H18: 26200 | I18: 25900 | J18: 24200 | K18: 24400 | L18: 24700 | N18: Slovinsko | O18: 21000
A19: Taliansko | B19: 23400 | C19: 23000 | D19: 23000 | E19: 23200 | F19: 23700 | G19: 24700 | H19: 26000 | I19: 26100 | J19: 24300 | K19: 24600 | L19: 25300 | N19: Grécko | O19: 20100
A20: Cyprus | D20: 18300 | E20: 19700 | F20: 20900 | G20: 22000 | H20: 23600 | I20: 24900 | J20: 23500 | K20: 23600 | L20: 23700 | N20: Portugalsko | O20: 19400
A21: Slovinsko | D21: 17300 | E21: 18800 | F21: 19700 | G21: 20700 | H21: 22100 | I21: 22700 | J21: 20300 | K21: 20500 | L21: 21000 | N21: Slovensko | O21: 18400

Sheet 03
A1: Reálny rast HDP | K1: Späť na zoznam
A2: GDP and main components - volumes [nama_gdp_k]
A3: Source of Data | B3: Eurostat
A5: UNIT | B5: Percentage change on previous period
A6: INDIC_NA | B6: Gross domestic product at market prices
A8: GEO/TIME | B8: 2001 | C8: 2002 | D8: 2003 | E8: 2004 | F8: 2005 | G8: 2006 | H8: 2007 | I8: 2008 | J8: 2009 | K8: 2010 | L8: 2011 | M8: 2012 | N8: 2013* | O8: 2014* | Q8: GEO/TIME | R8: 2012
A9: EA17 | B9: 2 | C9: 0.9 | D9: 0.7 | E9: 2.2 | F9: 1.7 | G9: 3.2 | H9: 3 | I9: 0.4 | J9: -4.4 | K9: 2 | L9: 1.5 | M9: -0.6 | N9: -0.4 | O9: 1.2 | Q9: Slovensko | R9: 2
A10: EU27 | B10: 2 | C10: 1.3 | D10: 1.5 | E10: 2.6 | F10: 2.2 | G10: 3.4 | H10: 3.2 | I10: 0.4 | J10: -4.5 | K10: 2 | L10: 1.7 | M10: -0.4 | N10: -0.1 | O10: 1.4 | Q10: Írsko | R10: 0.9
A11: Fínsko | B11: 2.3 | C11: 1.8 | D11: 2 | E11: 4.1 | F11: 2.9 | G11: 4.4 | H11: 5.3 | I11: 0.3 | J11: -8.5 | K11: 3.3 | L11: 2.7 | M11: -0.8 | N11: 0.3 | O11: 1 | Q11: Nemecko | R11: 0.7
A12: Grécko | B12: 4.2 | C12: 3.4 | D12: 5.9 | E12: 4.4 | F12: 2.3 | G12: 5.5 | H12: 3.5 | I12: -0.2 | J12: -3.1 | K12: -4.9 | L12: -7.1 | M12: -6.4 | N12: -4.2 | O12: 0.6 | Q12: EA27 | R12: -0.4
A13: Holandsko | B13: 1.9 | C13: 0.1 | D13: 0.3 | E13: 2.2 | F13: 2 | G13: 3.4 | H13: 3.9 | I13: 1.8 | J13: -3.7 | K13: 1.5 | L13: 0.9 | M13: -1.2 | N13: -0.8 | O13: 0.9 | Q13: EU17 | R13: -0.6
A14: Írsko | B14: 5.3 | C14: 5.6 | D14: 3.9 | E14: 4.4 | F14: 5.9 | G14: 5.4 | H14: 5.4 | I14: -2.1 | J14: -5.5 | K14: -0.8 | L14: 1.4 | M14: 0.9 | N14: 1.1 | O14: 2.2 | Q14: Fínsko | R14: -0.8
A15: Nemecko | B15: 1.5 | C15: 0 | D15: -0.4 | E15: 1.2 | F15: 0.7 | G15: 3.7 | H15: 3.3 | I15: 1.1 | J15: -5.1 | K15: 4 | L15: 3.3 | M15: 0.7 | N15: 0.4 | O15: 1.8 | Q15: Holandsko | R15: -1.2
A16: Portugalsko | B16: 2 | C16: 0.8 | D16: -0.9 | E16: 1.6 | F16: 0.8 | G16: 1.4 | H16: 2.4 | I16: 0 | J16: -2.9 | K16: 1.9 | L16: -1.6 | M16: -3.2 | N16: -2.3 | O16: 0.6 | Q16: Španielsko | R16: -1.6
A17: Slovensko | B17: 3.5 | C17: 4.6 | D17: 4.8 | E17: 5.1 | F17: 6.7 | G17: 8.3 | H17: 10.5 | I17: 5.8 | J17: -4.9 | K17: 4.4 | L17: 3.2 | M17: 2 | N17: 1 | O17: 2.8 | Q17: Taliansko | R17: -2.4
A18: Španielsko | B18: 3.7 | C18: 2.7 | D18: 3.1 | E18: 3.3 | F18: 3.6 | G18: 4.1 | H18: 3.5 | I18: 0.9 | J18: -3.8 | K18: -0.2 | L18: 0.1 | M18: -1.6 | N18: -1.5 | O18: 0.9 | Q18: Slovinsko | R18: -2.5
A19: Taliansko | B19: 1.9 | C19: 0.5 | D19: 0 | E19: 1.7 | F19: 0.9 | G19: 2.2 | H19: 1.7 | I19: -1.2 | J19: -5.5 | K19: 1.7 | L19: 0.4 | M19: -2.4 | N19: -1.3 | O19: 0.7 | Q19: Cyprus | R19: -2.4
A20: Cyprus | B20: 4 | C20: 2.1 | D20: 1.9 | E20: 4.2 | F20: 3.9 | G20: 4.1 | H20: 5.1 | I20: 3.6 | J20: -1.9 | K20: 1.3 | L20: 0.5 | M20: -2.4 | N20: -8.7 | O20: -3.9 | Q20: Portugalsko | R20: -3.2
A21: Slovinsko | B21: 2.9 | C21: 3.8 | D21: 2.9 | E21: 4.4 | F21: 4 | G21: 5.8 | H21: 7 | I21: 3.4 | J21: -7.9 | K21: 1.3 | L21: 0.7 | M21: -2.5 | N21: -2 | O21: -0.1 | Q21: Grécko | R21: -6.4
A22: * pozn: rok 2013 a 2014 = predpovede

Sheet 04
A1: Miera zamestnanosti | E1: Späť
A2: Employment (main characteristics and rates) - annual averages [lfsi_emp_a]
A3: Source of Data | B3: Eurostat
A5: SEX | B5: Total
A6: INDIC_EM | B6: Employment rate (20 to 64 years)
A8: GEO/TIME | B8: 2001 | C8: 2002 | D8: 2003 | E8: 2004 | F8: 2005 | G8: 2006 | H8: 2007 | I8: 2008 | J8: 2009 | K8: 2010 | L8: 2011 | M8: 2012 | N8: GEO/TIME | O8: 2012
A9: EA17 | B9: 66.2 | C9: 66.4 | D9: 66.8 | E9: 67.3 | F9: 67.9 | G9: 68.9 | H9: 69.8 | I9: 70.2 | J9: 68.8 | K9: 68.4 | L9: 68.5 | M9: 68 | N9: Holandsko | O9: 77.2
A10: EU27 | B10: 66.9 | C10: 66.7 | D10: 67 | E10: 67.4 | F10: 68 | G10: 69 | H10: 69.9 | I10: 70.3 | J10: 69 | K10: 68.6 | L10: 68.6 | M10: 68.5 | N10: Nemecko | O10: 76.7
A11: Fínsko | B11: 72.6 | C11: 72.6 | D11: 72.2 | E11: 72.2 | F11: 73 | G11: 73.9 | H11: 74.8 | I11: 75.8 | J11: 73.5 | K11: 73 | L11: 73.8 | M11: 74 | N11: Fínsko | O11: 74
A12: Cyprus | D12: 75.4 | E12: 74.9 | F12: 74.4 | G12: 75.8 | H12: 76.8 | I12: 76.5 | J12: 75.3 | K12: 75 | L12: 73.4 | M12: 70.2 | N12: Cyprus | O12: 70.2
A13: Holandsko | B13: 75.4 | C13: 75.8 | D13: 75.2 | E13: 74.9 | F13: 75.1 | G13: 76.3 | H13: 77.8 | I13: 78.9 | J13: 78.8 | K13: 76.8 | L13: 77 | M13: 77.2 | N13: EU27 | O13: 68.6
A14: Grécko | B14: 61.5 | C14: 62.5 | D14: 63.6 | E14: 64 | F14: 64.6 | G14: 65.7 | H14: 66 | I14: 66.5 | J14: 65.8 | K14: 64 | L14: 59.9 | M14: 55.3 | N14: Portugalsko | O14: 68.5
A15: Slovinsko | D15: 68.1 | E15: 70.4 | F15: 71.1 | G15: 71.5 | H15: 72.4 | I15: 73 | J15: 71.9 | K15: 70.3 | L15: 68.4 | M15: 68.3 | N15: Slovinsko | O15: 68.3
A16: Írsko | B16: 71.1 | C16: 70.7 | D16: 70.6 | E16: 71.5 | F16: 72.6 | G16: 73.4 | H16: 73.8 | I16: 72.3 | J16: 67.1 | K16: 65 | L16: 64.1 | M16: 63.7 | N16: EA17 | O16: 68
A17: Nemecko | B17: 69.1 | C17: 68.8 | D17: 68.4 | E17: 68.8 | F17: 69.4 | G17: 71.1 | H17: 72.9 | I17: 74 | J17: 74.2 | K17: 74.9 | L17: 76.3 | M17: 76.7 | N17: Slovensko | O17: 65.1
A18: Portugalsko | B18: 73.9 | C18: 73.6 | D18: 72.9 | E18: 72.6 | F18: 72.3 | G18: 72.7 | H18: 72.6 | I18: 73.1 | J18: 71.2 | K18: 70.5 | L18: 69.1 | M18: 66.5 | N18: Írsko | O18: 63.7
A19: Španielsko | B19: 62.1 | C19: 62.7 | D19: 64 | E19: 65.2 | F19: 67.2 | G19: 68.7 | H19: 69.5 | I19: 68.3 | J19: 63.7 | K19: 62.5 | L19: 61.6 | M19: 59.3 | N19: Taliansko | O19: 61
A20: Slovensko | B20: 63.5 | C20: 63.6 | D20: 64.8 | E20: 63.7 | F20: 64.5 | G20: 66 | H20: 67.2 | I20: 68.8 | J20: 66.4 | K20: 64.6 | L20: 65.1 | M20: 65.1 | N20: Španielsko | O20: 59.3
A21: Taliansko | B21: 58.5 | C21: 59.4 | D21: 60 | E21: 61.5 | F21: 61.6 | G21: 62.5 | H21: 62.8 | I21: 63 | J21: 61.7 | K21: 61.1 | L21: 61.2 | M21: 61 | N21: Grécko | O21: 55.3

Sheet 05
A1: Miera nezamestnanosti | L1: Späť na zoznam
A2: Unemployment rate, annual average, by sex and age groups (%) [une_rt_a]
A3: http://appsso.eurostat.ec.europa.eu/nui/show.do?dataset=une_rt_a&lang=en
A4: Last update | B4: 41394.373
A5: Extracted on | B5: 41419.551
A6: Source of Data | B6: Eurostat
A8: S_ADJ | B8: Not seasonally adjusted data
A9: AGE | B9: Total
A10: SEX | B10: Total
A12: GEO/TIME | B12: 2001 | C12: 2002 | D12: 2003 | E12: 2004 | F12: 2005 | G12: 2006 | H12: 2007 | I12: 2008 | J12: 2009 | K12: 2010 | L12: 2011 | M12: 2012 | N12: GEO/TIME | O12: 2012
A13: EA17 | B13: 8.1 | C13: 8.5 | D13: 9 | E13: 9.3 | F13: 9.2 | G13: 8.5 | H13: 7.6 | I13: 7.6 | J13: 9.6 | K13: 10.1 | L13: 10.1 | M13: 11.4 | N13: Španielsko | O13: 25
A14: EU27 | B14: 8.6 | C14: 8.9 | D14: 9.1 | E14: 9.3 | F14: 9 | G14: 8.3 | H14: 7.2 | I14: 7.1 | J14: 9 | K14: 9.7 | L14: 9.7 | M14: 10.5 | N14: Grécko | O14: 24.3
A15: Holandsko | B15: 2.5 | C15: 3.1 | D15: 4.2 | E15: 5.1 | F15: 5.3 | G15: 4.4 | H15: 3.6 | I15: 3.1 | J15: 3.7 | K15: 4.5 | L15: 4.4 | M15: 5.3 | N15: Portugalsko | O15: 15.9
A16: Fínsko | B16: 9.1 | C16: 9.1 | D16: 9 | E16: 8.8 | F16: 8.4 | G16: 7.7 | H16: 6.9 | I16: 6.4 | J16: 8.2 | K16: 8.4 | L16: 7.8 | M16: 7.7 | N16: Írsko | O16: 14.7
A17: Grécko | B17: 10.7 | C17: 10.3 | D17: 9.7 | E17: 10.5 | F17: 9.9 | G17: 8.9 | H17: 8.3 | I17: 7.7 | J17: 9.5 | K17: 12.6 | L17: 17.7 | M17: 24.3 | N17: Slovensko | O17: 14
A18: Cyprus | D18: 4.1 | E18: 4.6 | F18: 5.3 | G18: 4.6 | H18: 3.9 | I18: 3.7 | J18: 5.4 | K18: 6.3 | L18: 7.9 | M18: 11.9 | N18: Cyprus | O18: 11.9
A19: Írsko | B19: 3.9 | C19: 4.5 | D19: 4.6 | E19: 4.5 | F19: 4.4 | G19: 4.5 | H19: 4.6 | I19: 6.3 | J19: 11.9 | K19: 13.7 | L19: 14.4 | M19: 14.7 | N19: EA17 | O19: 11.4
A20: Portugalsko | B20: 4.6 | C20: 5.7 | D20: 7.1 | E20: 7.5 | F20: 8.6 | G20: 8.6 | H20: 8.9 | I20: 8.5 | J20: 10.6 | K20: 12 | L20: 12.9 | M20: 15.9 | N20: Taliansko | O20: 10.7
A21: Nemecko | B21: 7.9 | C21: 8.7 | D21: 9.8 | E21: 10.5 | F21: 11.3 | G21: 10.3 | H21: 8.7 | I21: 7.5 | J21: 7.8 | K21: 7.1 | L21: 5.9 | M21: 5.5 | N21: EU27 | O21: 10.5
A22: Slovinsko | D22: 6.7 | E22: 6.3 | F22: 6.5 | G22: 6 | H22: 4.9 | I22: 4.4 | J22: 5.9 | K22: 7.3 | L22: 8.2 | M22: 8.9 | N22: Slovinsko | O22: 8.9
A23: Slovensko | B23: 19.5 | C23: 18.8 | D23: 17.7 | E23: 18.4 | F23: 16.4 | G23: 13.5 | H23: 11.2 | I23: 9.6 | J23: 12.1 | K23: 14.5 | L23: 13.6 | M23: 14 | N23: Fínsko | O23: 7.7
A24: Španielsko | B24: 10.5 | C24: 11.4 | D24: 11.4 | E24: 10.9 | F24: 9.2 | G24: 8.5 | H24: 8.3 | I24: 11.3 | J24: 18 | K24: 20.1 | L24: 21.7 | M24: 25 | N24: Nemecko | O24: 5.5
A25: Taliansko | B25: 9 | C25: 8.5 | D25: 8.4 | E25: 8 | F25: 7.7 | G25: 6.8 | H25: 6.1 | I25: 6.7 | J25: 7.8 | K25: 8.4 | L25: 8.4 | M25: 10.7 | N25: Holandsko | O25: 5.3
A27: Special values:
A28: 0 | B28: less than half the final digit shown and greater than real zero
A29: : | B29: not available
A48: Miera nezamestnanosti mladých
A49: Young people not in employment and not in any education and training, by age and sex (NEET rates) [edat_lfse_20]
A51: Last update | B51: 41451.665
A52: Extracted on | B52: 41485.634
A53: Source of data | B53: Eurostat
A55: SEX | B55: Total
A56: AGE | B56: From 15 to 24 years
A57: WSTATUS | B57: Not employed persons
A59: GEO/TIME | B59: 2000 | C59: 2001 | D59: 2002 | E59: 2003 | F59: 2004 | G59: 2005 | H59: 2006 | I59: 2007 | J59: 2008 | K59: 2009 | L59: 2010 | M59: 2011 | N59: 2012
A60: Cyprus | B60: 10.1 | C60: 7.8 | D60: 8.4 | E60: 8.9 | F60: 9.4 | G60: 19.5 | H60: 10.7 | I60: 9 | J60: 9.7 | K60: 9.9 | L60: 11.7 | M60: 14.6 | N60: 16
A61: Germany (until 1990 former territory of the FRG) | B61: 7.7 | C61: 7.4 | D61: 8.4 | E61: 10 | F61: 10.1 | G61: 10.9 | H61: 9.6 | I61: 8.9 | J61: 8.4 | K61: 8.8 | L61: 8.3 | M61: 7.5 | N61: 7.7
A62: Euro area (17 countries) | B62: 12.1 | C62: 11.6 | D62: 11.7 | E62: 11.9 | F62: 11.9 | G62: 12.1 | H62: 11.3 | I62: 10.8 | J62: 11 | K62: 12.5 | L62: 12.7 | M62: 12.6 | N62: 13.2
A63: Greece | B63: 16.9 | C63: 16.1 | D63: 15.3 | E63: 18.3 | F63: 16.8 | G63: 16.1 | H63: 12.2 | I63: 11.5 | J63: 11.7 | K63: 12.6 | L63: 14.9 | M63: 17.4 | N63: 20.3
A64: Spain | B64: 12.1 | C64: 12 | D64: 12.6 | E64: 12.5 | F64: 12.5 | G64: 13 | H64: 12 | I64: 12.2 | J64: 14.4 | K64: 18.3 | L64: 18 | M64: 18.5 | N64: 18.8
...

Sheet 06
A1: Inflácia | L1: Späť na zoznam
A2: HICP (2005 = 100) - annual data (average index and rate of change) [prc_hicp_aind]
A4: Last update | B4: 41121.381
A5: Extracted on | B5: 41220.56
A6: Source of Data | B6: Eurostat
A8: INFOTYPE | B8: Annual average rate of change
A9: COICOP | B9: All-items HICP
A11: GEO/TIME | B11: 2001 | C11: 2002 | D11: 2003 | E11: 2004 | F11: 2005 | G11: 2006 | H11: 2007 | I11: 2008 | J11: 2009 | K11: 2010 | L11: 2011 | M11: 2012 | N11: GEO/TIME | O11: 2012
A12: EA17 | B12: 2.4 | C12: 2.3 | D12: 2.1 | E12: 2.2 | F12: 2.2 | G12: 2.2 | H12: 2.1 | I12: 3.3 | J12: 0.3 | K12: 1.6 | L12: 2.7 | M12: 2.5 | N12: Slovensko | O12: 3.7
A13: Nemecko | B13: 1.9 | C13: 1.4 | D13: 1 | E13: 1.8 | F13: 1.9 | G13: 1.8 | H13: 2.3 | I13: 2.8 | J13: 0.2 | K13: 1.2 | L13: 2.5 | M13: 2.1 | N13: Taliansko | O13: 3.3
A14: Fínsko | B14: 2.7 | C14: 2 | D14: 1.3 | E14: 0.1 | F14: 0.8 | G14: 1.3 | H14: 1.6 | I14: 3.9 | J14: 1.6 | K14: 1.7 | L14: 3.3 | M14: 3.2 | N14: Fínsko | O14: 3.2
A15: Cyprus | D15: 4 | E15: 1.9 | F15: 2 | G15: 2.2 | H15: 2.2 | I15: 4.4 | J15: 0.2 | K15: 2.6 | L15: 3.5 | M15: 3.1 | N15: Cyprus | O15: 3.1
A16: EU27 | B16: 3.2 | C16: 2.5 | D16: 2.1 | E16: 2.3 | F16: 2.3 | G16: 2.3 | H16: 2.4 | I16: 3.7 | J16: 1 | K16: 2.1 | L16: 3.1 | M16: 2.6 | N16: Portugalsko | O16: 2.8
A17: Španielsko | B17: 2.8 | C17: 3.6 | D17: 3.1 | E17: 3.1 | F17: 3.4 | G17: 3.6 | H17: 2.8 | I17: 4.1 | J17: -0.2 | K17: 2 | L17: 3.1 | M17: 2.4 | N17: Holandsko | O17: 2.8
A18: Slovinsko | D18: 5.7 | E18: 3.7 | F18: 2.5 | G18: 2.5 | H18: 3.8 | I18: 5.5 | J18: 0.9 | K18: 2.1 | L18: 2.1 | M18: 2.8 | N18: Slovinsko | O18: 2.8
A19: Grécko | B19: 3.7 | C19: 3.9 | D19: 3.4 | E19: 3 | F19: 3.5 | G19: 3.3 | H19: 3 | I19: 4.2 | J19: 1.3 | K19: 4.7 | L19: 3.1 | M19: 1 | N19: EU27 | O19: 2.6
A20: Portugalsko | B20: 4.4 | C20: 3.7 | D20: 3.3 | E20: 2.5 | F20: 2.1 | G20: 3 | H20: 2.4 | I20: 2.7 | J20: -0.9 | K20: 1.4 | L20: 3.6 | M20: 2.8 | N20: EA17 | O20: 2.5
A21: Írsko | B21: 4 | C21: 4.7 | D21: 4 | E21: 2.3 | F21: 2.2 | G21: 2.7 | H21: 2.9 | I21: 3.1 | J21: -1.7 | K21: -1.6 | L21: 1.2 | M21: 1.9 | N21: Španielsko | O21: 2.4
A22: Slovensko | B22: 7.2 | C22: 3.5 | D22: 8.4 | E22: 7.5 | F22: 2.8 | G22: 4.3 | H22: 1.9 | I22: 3.9 | J22: 0.9 | K22: 0.7 | L22: 4.1 | M22: 3.7 | N22: Nemecko | O22: 2.1
A23: Taliansko | B23: 2.3 | C23: 2.6 | D23: 2.8 | E23: 2.3 | F23: 2.2 | G23: 2.2 | H23: 2 | I23: 3.5 | J23: 0.8 | K23: 1.6 | L23: 2.9 | M23: 3.3 | N23: Írsko | O23: 1.9
A24: Holandsko | B24: 5.1 | C24: 3.9 | D24: 2.2 | E24: 1.4 | F24: 1.5 | G24: 1.7 | H24: 1.6 | I24: 2.2 | J24: 1 | K24: 0.9 | L24: 2.5 | M24: 2.8 | N24: Grécko | O24: 1
A26: Special values:
A27: 0 | B27: less than half the final digit shown and greater than real zero
A28: : | B28: not available

Sheet 07
A1: Príjmy verejných financií | I1: Späť na zoznam
A2: Government revenue, expenditure and main aggregates [gov_a_main]
A3: http://appsso.eurostat.ec.europa.eu/nui/submitViewTableAction.do
A4: Last update | B4: 41204.369
A5: Extracted on | B5: 41220.574
A6: Source of Data | B6: Eurostat
A8: UNIT | B8: Percentage of GDP
A9: SECTOR | B9: General government
A10: INDIC_NA | B10: Total general government revenue
A12: GEO/TIME | B12: 2001 | C12: 2002 | D12: 2003 | E12: 2004 | F12: 2005 | G12: 2006 | H12: 2007 | I12: 2008 | J12: 2009 | K12: 2010 | L12: 2011 | M12: 2012 | N12: GEO/TIME | O12: 2012
A13: EA17 | B13: 45.2 | C13: 44.8 | D13: 44.8 | E13: 44.5 | F13: 44.8 | G13: 45.3 | H13: 45.3 | I13: 45 | J13: 44.9 | K13: 44.8 | L13: 45.4 | M13: 46.2 | N13: Fínsko | O13: 53.9
A14: EU27 | B14: 44.6 | C14: 44 | D14: 44 | E14: 43.9 | F14: 44.3 | G14: 44.7 | H14: 44.7 | I14: 44.7 | J14: 44.2 | K14: 44.1 | L14: 44.7 | M14: 45.4 | N14: Taliansko | O14: 46.1
A15: Fínsko | B15: 53.1 | C15: 53.2 | D15: 52.8 | E15: 52.5 | F15: 53 | G15: 53.3 | H15: 52.7 | I15: 53.6 | J15: 53.4 | K15: 53 | L15: 53.9 | M15: 53.7 | N15: EA17 | O15: 45.4
A16: Grécko | B16: 40.9 | C16: 40.3 | D16: 39 | E16: 38.1 | F16: 39 | G16: 39.2 | H16: 40.7 | I16: 40.7 | J16: 38.3 | K16: 40.6 | L16: 42.3 | M16: 44.7 | N16: Holandsko | O16: 45.4
A17: Holandsko | B17: 45.1 | C17: 44.1 | D17: 43.9 | E17: 44.3 | F17: 44.5 | G17: 46.1 | H17: 45.4 | I17: 46.7 | J17: 45.8 | K17: 46.1 | L17: 45.4 | M17: 46.4 | N17: Portugalsko | O17: 45
A18: Slovinsko | B18: 43.4 | C18: 43.8 | D18: 43.6 | E18: 43.5 | F18: 43.8 | G18: 43.2 | H18: 42.4 | I18: 42.4 | J18: 43.1 | K18: 44.5 | L18: 44.4 | M18: 45 | N18: Slovinsko | O18: 45
A19: Írsko | B19: 34.1 | C19: 33.2 | D19: 33.6 | E19: 35 | F19: 35.5 | G19: 37.3 | H19: 36.9 | I19: 35.7 | J19: 34.7 | K19: 35.2 | L19: 34.9 | M19: 34.6 | N19: EU27 | O19: 44.7
A20: Nemecko | B20: 44.5 | C20: 44.1 | D20: 44.3 | E20: 43.3 | F20: 43.6 | G20: 43.7 | H20: 43.7 | I20: 44 | J20: 45.1 | K20: 43.6 | L20: 44.5 | M20: 45.2 | N20: Nemecko | O20: 44.5
A21: Portugalsko | B21: 38.3 | C21: 39.6 | D21: 40.9 | E21: 41.4 | F21: 40.1 | G21: 40.6 | H21: 41.1 | I21: 41.1 | J21: 39.6 | K21: 41.4 | L21: 45 | M21: 41 | N21: Grécko | O21: 42.3
A22: Cyprus | B22: 35.7 | C22: 35.6 | D22: 38 | E22: 38.3 | F22: 40.7 | G22: 41.4 | H22: 44.8 | I22: 43.1 | J22: 40.1 | K22: 40.9 | L22: 39.7 | M22: 40 | N22: Cyprus | O22: 40
A23: Slovensko | B23: 38 | C23: 36.8 | D23: 37.4 | E23: 35.3 | F23: 35.2 | G23: 33.3 | H23: 32.4 | I23: 32.8 | J23: 33.5 | K23: 32.3 | L23: 33.2 | M23: 33.1 | N23: Španielsko | O23: 35.7
A24: Španielsko | B24: 38.1 | C24: 38.7 | D24: 38 | E24: 38.8 | F24: 39.7 | G24: 40.7 | H24: 41.1 | I24: 37 | J24: 35.1 | K24: 36.6 | L24: 35.7 | M24: 36.4 | N24: Írsko | O24: 34.9
A25: Taliansko | B25: 44.5 | C25: 44 | D25: 44.4 | E25: 44 | F25: 43.4 | G25: 45 | H25: 46 | I25: 45.9 | J25: 46.5 | K25: 46 | L25: 46.1 | M25: 47.7 | N25: Slovensko | O25: 33.2
A27: Special values:
A28: 0 | B28: less than half the final digit shown and greater than real zero
A29: : | B29: not available

Sheet 09
A1: Deficit verejných financií | K1: Späť na zoznam | Q1: Primárny deficit verejných financií (% HDP)
A2: Government deficit/surplus, debt and associated data [gov_dd_edpt1] | Q2: Government deficit/surplus, debt and associated data [gov_dd_edpt1]
A3: http://appsso.eurostat.ec.europa.eu/nui/show.do?dataset=gov_dd_edpt1&lang=en | Q3: http://appsso.eurostat.ec.europa.eu/nui/submitViewTableAction.do
A4: Last update | B4: 41403.09 | Q4: Last update | R4: 41403.82
A5: Extracted on | B5: 41420.593 | Q5: Extracted on | R5: 41420.948
A6: Source of Data | B6: Eurostat | Q6: Source of Data | R6: Eurostat
A8: UNIT | B8: Percentage of GDP | Q8: UNIT | R8: Percentage of GDP
A9: SECTOR | B9: General government | Q9: SECTOR | R9: General government
A10: INDIC_NA | B10: Net lending (+)/Net borrowing (-) under the EDP (Excessive Deficit Procedure) | Q10: INDIC_NA | R10: Primary balance
A12: GEO/TIME | B12: 2001 | C12: 2002 | D12: 2003 | E12: 2004 | F12: 2005 | G12: 2006 | H12: 2007 | I12: 2008 | J12: 2009 | K12: 2010 | L12: 2011 | M12: 2012 | N12: GEO/TIME | O12: 2012 | Q12: GEO/TIME | R12: 2001 | S12: 2002 | T12: 2003 | U12: 2004 | V12: 2005 | W12: 2006 | X12: 2007 | Y12: 2008 | Z12: 2009 | AA12: 2010 | AB12: 2011 | AC12: 2012
A13: EU27 | B13: -1.5 | C13: -2.6 | D13: -3.2 | E13: -2.9 | F13: -2.5 | G13: -1.5 | H13: -0.9 | I13: -2.4 | J13: -6.9 | K13: -6.5 | L13: -4.4 | M13: -4 | N13: Nemecko | O13: 0.2 | Q13: Nemecko | R13: 0 | S13: -0.9 | T13: -1.1 | U13: -0.9 | V13: -0.5 | W13: 1.2 | X13: 3 | Y13: 2.7 | Z13: -0.4 | AA13: -1.6 | AB13: 1.8 | AC13: 2.6
A14: EA17 | B14: -1.9 | C14: -2.6 | D14: -3.1 | E14: -2.9 | F14: -2.5 | G14: -1.3 | H14: -0.7 | I14: -2.1 | J14: -6.3 | K14: -6.2 | L14: -4.1 | M14: -3.7 | N14: Fínsko | O14: -1.9 | Q14: Taliansko | R14: 3.1 | S14: 2.5 | T14: 1.5 | U14: 1.2 | V14: 0.2 | W14: 1.2 | X14: 3.4 | Y14: 2.5 | Z14: -0.8 | AA14: 0.1 | AB14: 1 | AC14: 2.5
A15: Fínsko | B15: 5.1 | C15: 4.2 | D15: 2.6 | E15: 2.5 | F15: 2.9 | G15: 4.2 | H15: 5.3 | I15: 4.4 | J15: -2.5 | K15: -2.5 | L15: -0.6 | M15: -1.9 | N15: Taliansko | O15: -3 | Q15: EA17 | R15: 1.8 | S15: 0.8 | T15: 0.1 | U15: 0.2 | V15: 0.5 | W15: 1.5 | X15: 2.3 | Y15: 0.9 | Z15: -3.5 | AA15: -3.4 | AB15: -1.1 | AC15: -0.6
A16: Grécko | B16: -4.5 | C16: -4.8 | D16: -5.6 | E16: -7.5 | F16: -5.2 | G16: -5.7 | H16: -6.5 | I16: -9.8 | J16: -15.6 | K16: -10.7 | L16: -9.4 | M16: -10 | N16: EA17 | O16: -3.7 | Q16: Fínsko | R16: 7.8 | S16: 6.3 | T16: 4.4 | U16: 4 | V16: 4.4 | W16: 5.6 | X16: 6.8 | Y16: 5.8 | Z16: -1.3 | AA16: -1.4 | AB16: 0.5 | AC16: -0.8
A17: Holandsko | B17: -0.2 | C17: -2.1 | D17: -3.1 | E17: -1.7 | F17: -0.3 | G17: 0.5 | H17: 0.2 | I17: 0.5 | J17: -5.6 | K17: -5.1 | L17: -4.5 | M17: -4.1 | N17: EU27 | O17: -4 | Q17: EU27 | R17: 2 | S17: 0.6 | T17: -0.2 | U17: 0 | V17: 0.3 | W17: 1.2 | X17: 1.8 | Y17: 0.4 | Z17: -4.2 | AA17: -3.8 | AB17: -1.5 | AC17: -1
A18: Slovinsko | D18: -2.7 | E18: -2.3 | F18: -1.5 | G18: -1.4 | H18: 0 | I18: -1.9 | J18: -6.2 | K18: -5.9 | L18: -6.4 | M18: -4 | N18: Slovinsko | O18: -4 | Q18: Slovinsko | R18: -1.6 | S18: -0.3 | T18: -0.7 | U18: -0.6 | V18: 0.1 | W18: 0 | X18: 1.2 | Y18: -0.8 | Z18: -4.9 | AA18: -4.3 | AB18: -4.4 | AC18: -1
A19: Nemecko | B19: -3.1 | C19: -3.8 | D19: -4.2 | E19: -3.8 | F19: -3.3 | G19: -1.6 | H19: 0.2 | I19: -0.1 | J19: -3.1 | K19: -4.1 | L19: -0.8 | M19: 0.2 | N19: Holandsko | O19: -4.1 | Q19: Portugalsko | R19: -1.8 | S19: -0.6 | T19: -1 | U19: -1.4 | V19: -4 | W19: -1.8 | X19: -0.2 | Y19: -0.6 | Z19: -7.3 | AA19: -7 | AB19: -0.4 | AC19: -2
A20: Portugalsko | B20: -4.8 | C20: -3.4 | D20: -3.7 | E20: -4 | F20: -6.5 | G20: -4.6 | H20: -3.1 | I20: -3.6 | J20: -10.2 | K20: -9.8 | L20: -4.4 | M20: -6.4 | N20: Slovensko | O20: -4.3 | Q20: Holandsko | R20: 2.9 | S20: 0.7 | T20: -0.6 | U20: 0.7 | V20: 2.1 | W20: 2.7 | X20: 2.4 | Y20: 2.7 | Z20: -3.4 | AA20: -3.1 | AB20: -2.4 | AC20: -2.2
A21: Cyprus | D21: -6.6 | E21: -4.1 | F21: -2.4 | G21: -1.2 | H21: 3.5 | I21: 0.9 | J21: -6.1 | K21: -5.3 | L21: -6.3 | M21: -6.3 | N21: Cyprus | O21: -6.3 | Q21: Slovensko | R21: -2.5 | S21: -4.7 | T21: -0.3 | U21: -0.2 | V21: -1.1 | W21: -1.7 | X21: -0.4 | Y21: -0.8 | Z21: -6.6 | AA21: -6.3 | AB21: -3.4 | AC21: -2.5
A22: Írsko | B22: 0.9 | C22: -0.4 | D22: 0.4 | E22: 1.4 | F22: 1.7 | G22: 2.9 | H22: 0.1 | I22: -7.4 | J22: -13.9 | K22: -30.9 | L22: -13.4 | M22: -7.6 | N22: Portugalsko | O22: -6.4 | Q22: Cyprus | R22: 1.1 | S22: -1.2 | T22: -3 | U22: -0.8 | V22: 1.1 | W22: 2.1 | X22: 6.5 | Y22: 3.8 | Z22: -3.6 | AA22: -3 | AB22: -3.9 | AC22: -3.1
A23: Taliansko | B23: -3.1 | C23: -3.1 | D23: -3.6 | E23: -3.5 | F23: -4.4 | G23: -3.4 | H23: -1.6 | I23: -2.7 | J23: -5.4 | K23: -4.5 | L23: -3.9 | M23: -3 | N23: Írsko | O23: -7.6 | Q23: Írsko | R23: 2.4 | S23: 1.1 | T23: 1.7 | U23: 2.5 | V23: 2.7 | W23: 4 | X23: 1.1 | Y23: -6 | Z23: -11.9 | AA23: -27.7 | AB23: -10 | AC23: -3.9
A24: Slovensko | B24: -6.5 | C24: -8.2 | D24: -2.8 | E24: -2.4 | F24: -2.8 | G24: -3.2 | H24: -1.8 | I24: -2.1 | J24: -8 | K24: -7.7 | L24: -4.9 | M24: -4.3 | N24: Grécko | O24: -10 | Q24: Grécko | R24: 2 | S24: 0.7 | T24: -0.7 | U24: -2.6 | V24: -0.7 | W24: -1.4 | X24: -2 | Y24: -4.8 | Z24: -10.5 | AA24: -4.9 | AB24: -2.3 | AC24: -5
A25: Španielsko | B25: -0.5 | C25: -0.2 | D25: -0.3 | E25: -0.1 | F25: 1.3 | G25: 2.4 | H25: 1.9 | I25: -4.5 | J25: -11.2 | K25: -9.7 | L25: -9.4 | M25: -10.6 | N25: Španielsko | O25: -10.6 | Q25: Španielsko | R25: 2.5 | S25: 2.5 | T25: 2 | U25: 1.9 | V25: 3.1 | W25: 4 | X25: 3.5 | Y25: -2.9 | Z25: -9.4 | AA25: -7.7 | AB25: -7 | AC25: -7.7
A27: Special values:
A28: 0 | B28: less than half the final digit shown and greater than real zero
A29: : | B29: not available

Sheet 10
A1: Hrubý vládny dlh | K1: Späť na zoznam
A2: Government deficit/surplus, debt and associated data [gov_dd_edpt1]
A3: http://appsso.eurostat.ec.europa.eu/nui/submitViewTableAction.do
A4: Last update | B4: 41403.09
A5: Extracted on | B5: 41420.599
A6: Source of Data | B6: Eurostat
A8: UNIT | B8: Percentage of GDP
A9: SECTOR | B9: General government
A10: INDIC_NA | B10: Government consolidated gross debt
A12: GEO/TIME | B12: 2001 | C12: 2002 | D12: 2003 | E12: 2004 | F12: 2005 | G12: 2006 | H12: 2007 | I12: 2008 | J12: 2009 | K12: 2010 | L12: 2011 | M12: 2012 | N12: GEO/TIME | O12: 2012
A13: EA17 | B13: 68.2 | C13: 68 | D13: 69.2 | E13: 69.6 | F13: 70.3 | G13: 68.6 | H13: 66.4 | I13: 70.2 | J13: 80 | K13: 85.4 | L13: 87.3 | M13: 90.6 | N13: Grécko | O13: 156.9
A14: EU27 | B14: 61 | C14: 60.5 | D14: 61.9 | E14: 62.3 | F14: 62.8 | G14: 61.6 | H14: 59 | I14: 62.2 | J14: 74.6 | K14: 80 | L14: 82.5 | M14: 85.3 | N14: Taliansko | O14: 127
A15: Fínsko | B15: 42.5 | C15: 41.5 | D15: 44.5 | E15: 44.4 | F15: 41.7 | G15: 39.6 | H15: 35.2 | I15: 33.9 | J15: 43.5 | K15: 48.6 | L15: 49 | M15: 53 | N15: Portugalsko | O15: 123.6
A16: Grécko | B16: 103.7 | C16: 101.7 | D16: 97.4 | E16: 98.6 | F16: 100 | G16: 106.1 | H16: 107.4 | I16: 112.9 | J16: 129.7 | K16: 148.3 | L16: 170.6 | M16: 156.9 | N16: Írsko | O16: 117.6
A17: Holandsko | B17: 50.7 | C17: 50.5 | D17: 52 | E17: 52.4 | F17: 51.8 | G17: 47.4 | H17: 45.3 | I17: 58.5 | J17: 60.8 | K17: 63.1 | L17: 65.5 | M17: 71.2 | N17: EA17 | O17: 90.6
A18: Cyprus | B18: 61.2 | C18: 65.1 | D18: 69.7 | E18: 70.9 | F18: 69.4 | G18: 64.7 | H18: 58.8 | I18: 48.9 | J18: 58.5 | K18: 61.3 | L18: 71.1 | M18: 85.8 | N18: Cyprus | O18: 85.8
A19: Írsko | B19: 35.1 | C19: 31.9 | D19: 30.7 | E19: 29.4 | F19: 27.2 | G19: 24.5 | H19: 24.8 | I19: 44.5 | J19: 64.9 | K19: 92.2 | L19: 106.4 | M19: 117.6 | N19: EU27 | O19: 85.3
A20: Portugalsko | B20: 53.8 | C20: 56.8 | D20: 59.4 | E20: 61.9 | F20: 67.7 | G20: 69.4 | H20: 68.4 | I20: 71.7 | J20: 83.2 | K20: 93.5 | L20: 108.1 | M20: 123.6 | N20: Španielsko | O20: 84.2
A21: Nemecko | B21: 59.1 | C21: 60.7 | D21: 64.4 | E21: 66.2 | F21: 68.5 | G21: 68 | H21: 65.2 | I21: 66.8 | J21: 74.5 | K21: 82.5 | L21: 80.5 | M21: 81.9 | N21: Nemecko | O21: 81.9
A22: Slovensko | B22: 48.9 | C22: 43.4 | D22: 42.4 | E22: 41.5 | F22: 34.2 | G22: 30.5 | H22: 29.6 | I22: 27.9 | J22: 35.6 | K22: 41 | L22: 43.3 | M22: 52.1 | N22: Holandsko | O22: 71.2
A23: Slovinsko | B23: 26.5 | C23: 27.8 | D23: 27.2 | E23: 27.3 | F23: 26.7 | G23: 26.4 | H23: 23.1 | I23: 22 | J23: 35 | K23: 38.6 | L23: 46.9 | M23: 54.1 | N23: Slovinsko | O23: 54.1
A24: Španielsko | B24: 55.6 | C24: 52.6 | D24: 48.8 | E24: 46.3 | F24: 43.2 | G24: 39.7 | H24: 36.3 | I24: 40.2 | J24: 53.9 | K24: 61.5 | L24: 69.3 | M24: 84.2 | N24: Fínsko | O24: 53
A25: Taliansko | B25: 108.2 | C25: 105.1 | D25: 103.9 | E25: 103.4 | F25: 105.7 | G25: 106.3 | H25: 103.3 | I25: 106.1 | J25: 116.4 | K25: 119.2 | L25: 120.7 | M25: 127 | N25: Slovensko | O25: 52.1
A27: Special values:
A28: 0 | B28: less than half the final digit shown and greater than real zero
A29: : | B29: not available

Sheet 11
A1: Dlhodobá úroková miera na 10 ročné vládne dlhopisy | L1: Späť na zoznam
A2: EMU convergence criterion series - monthly data [irt_lt_mcby_m]
A3: http://appsso.eurostat.ec.europa.eu/nui/show.do?dataset=irt_lt_mcby_m&lang=en
A4: Last update | B4: 41409.368
A5: Extracted on | B5: 41420.638
A6: Source of Data | B6: Eurostat
A8: INTRT | B8: EMU convergence criterion bond yields
B9: 01 | C9: 02 | D9: 03 | E9: 04 | F9: 05 | G9: 06 | H9: 07 | I9: 08 | J9: 09 | K9: 10 | L9: 11 | M9: 12 | N9: 01 | O9: 02 | P9: 03 | Q9: 04 | R9: 05 | S9: 06 | T9: 07 | U9: 08 | V9: 09 | W9: 10 | X9: 11 | Y9: 12 | Z9: 01 | AA9: 02 | AB9: 03 | AC9: 04 | AD9: 05 | AE9: 06 | AF9: 07 | AG9: 08 | AH9: 09 | AI9: 10 | AJ9: 11 | AK9: 12 | AL9: 01 | AM9: 02 | AN9: 03 | AO9: 04 | AP9: 05 | AQ9: 06 | AR9: 07 | AS9: 08 | AT9: 09 | AU9: 10 | AV9: 11 | AW9: 12 | AX9: 01 | AY9: 02 | AZ9: 03 | BA9: 04 | BB9: 05 | BC9: 06 | BD9: 07 | BE9: 08 | BF9: 09 | BG9: 10 | BH9: 11 | BI9: 12 | BJ9: 01 | BK9: 02 | BL9: 03 | BM9: 04 | BN9: 05 | BO9: 06 | BP9: 07 | BQ9: 08 | BR9: 09 | BS9: 10 | BT9: 11 | BU9: 12 | BV9: 01 | BW9: 02 | BX9: 03 | BY9: 04 | BZ9: 05 | CA9: 06 | CB9: 07 | CC9: 08 | CD9: 09 | CE9: 10 | CF9: 11 | CG9: 12 | CH9: 01 | CI9: 02 | CJ9: 03 | CK9: 04 | CL9: 05 | CM9: 06 | CN9: 07 | CO9: 08 | CP9: 09 | CQ9: 10 | CR9: 11 | CS9: 12 | CT9: 01 | CU9: 02 | CV9: 03 | CW9: 04 | CX9: 05 | CY9: 06 | CZ9: 07 | DA9: 08 | DB9: 09 | DC9: 10 | DD9: 11 | DE9: 12 | DF9: 01 | DG9: 02 | DH9: 03 | DI9: 04 | DJ9: 05 | DK9: 06 | DL9: 07 | DM9: 08 | DN9: 09 | DO9: 10 | DP9: 11 | DQ9: 12 | DR9: 01 | DS9: 02 | DT9: 03 | DU9: 04 | DV9: 05 | DW9: 06 | DX9: 07 | DY9: 08 | DZ9: 09 | EA9: 10 | EB9: 11 | EC9: 12 | ED9: 01 | EE9: 02 | EF9: 03 | EG9: 04 | EH9: 05 | EI9: 06 | EJ9: 07 | EK9: 08 | EL9: 09 | EM9: 10 | EN9: 11 | EO9: 12 | EP9: 01 | EQ9: 02 | ER9: 03 | ES9: 04
B10: 2001 | C10: =B10 -> 2001 | D10: =B10 -> 2001 | E10: =B10 -> 2001 | F10: =B10 -> 2001 | G10: =B10 -> 2001 | H10: =B10 -> 2001 | I10: =B10 -> 2001 | J10: =B10 -> 2001 | K10: =B10 -> 2001 | L10: =B10 -> 2001 | M10: =B10 -> 2001 | N10: 2002 | O10: =N10 -> 2002 | P10: =N10 -> 2002 | Q10: =N10 -> 2002 | R10: =N10 -> 2002 | S10: =N10 -> 2002 | T10: =N10 -> 2002 | U10: =N10 -> 2002 | V10: =N10 -> 2002 | W10: =N10 -> 2002 | X10: =N10 -> 2002 | Y10: =N10 -> 2002 | Z10: 2003 | AA10: =Z10 -> 2003 | AB10: =Z10 -> 2003 | AC10: =Z10 -> 2003 | AD10: =Z10 -> 2003 | AE10: =Z10 -> 2003 | AF10: =Z10 -> 2003 | AG10: =Z10 -> 2003 | AH10: =Z10 -> 2003 | AI10: =Z10 -> 2003 | AJ10: =Z10 -> 2003 | AK10: =Z10 -> 2003 | AL10: 2004 | AM10: =AL10 -> 2004 | AN10: =AL10 -> 2004 | AO10: =AL10 -> 2004 | AP10: =AL10 -> 2004 | AQ10: =AL10 -> 2004 | AR10: =AL10 -> 2004 | AS10: =AL10 -> 2004 | AT10: =AL10 -> 2004 | AU10: =AL10 -> 2004 | AV10: =AL10 -> 2004 | AW10: =AL10 -> 2004 | AX10: 2005 | AY10: =AX10 -> 2005 | AZ10: =AX10 -> 2005 | BA10: =AX10 -> 2005 | BB10: =AX10 -> 2005 | BC10: =AX10 -> 2005 | BD10: =AX10 -> 2005 | BE10: =AX10 -> 2005 | BF10: =AX10 -> 2005 | BG10: =AX10 -> 2005 | BH10: =AX10 -> 2005 | BI10: =AX10 -> 2005 | BJ10: 2006 | BK10: =BJ10 -> 2006 | BL10: =BJ10 -> 2006 | BM10: =BJ10 -> 2006 | BN10: =BJ10 -> 2006 | BO10: =BJ10 -> 2006 | BP10: =BJ10 -> 2006 | BQ10: =BJ10 -> 2006 | BR10: =BJ10 -> 2006 | BS10: =BJ10 -> 2006 | BT10: =BJ10 -> 2006 | BU10: =BJ10 -> 2006 | BV10: 2007 | BW10: =BV10 -> 2007 | BX10: =BV10 -> 2007 | BY10: =BV10 -> 2007 | BZ10: =BV10 -> 2007 | CA10: =BV10 -> 2007 | CB10: =BV10 -> 2007 | CC10: =BV10 -> 2007 | CD10: =BV10 -> 2007 | CE10: =BV10 -> 2007 | CF10: =BV10 -> 2007 | CG10: =BV10 -> 2007 | CH10: 2008 | CI10: =CH10 -> 2008 | CJ10: =CH10 -> 2008 | CK10: =CH10 -> 2008 | CL10: =CH10 -> 2008 | CM10: =CH10 -> 2008 | CN10: =CH10 -> 2008 | CO10: =CH10 -> 2008 | CP10: =CH10 -> 2008 | CQ10: =CH10 -> 2008 | CR10: =CH10 -> 2008 | CS10: =CH10 -> 2008 | CT10: 2009 | CU10: =CT10 -> 2009 | CV10: =CT10 -> 2009 | CW10: =CT10 -> 2009 | CX10: =CT10 -> 2009 | CY10: =CT10 -> 2009 | CZ10: =CT10 -> 2009 | DA10: =CT10 -> 2009 | DB10: =CT10 -> 2009 | DC10: =CT10 -> 2009 | DD10: =CT10 -> 2009 | DE10: =CT10 -> 2009 | DF10: 2010 | DG10: =DF10 -> 2010 | DH10: =DF10 -> 2010 | DI10: =DF10 -> 2010 | DJ10: =DF10 -> 2010 | DK10: =DF10 -> 2010 | DL10: =DF10 -> 2010 | DM10: =DF10 -> 2010 | DN10: =DF10 -> 2010 | DO10: =DF10 -> 2010 | DP10: =DF10 -> 2010 | DQ10: =DF10 -> 2010 | DR10: 2011 | DS10: =DR10 -> 2011 | DT10: =DR10 -> 2011 | DU10: =DR10 -> 2011 | DV10: =DR10 -> 2011 | DW10: =DR10 -> 2011 | DX10: =DR10 -> 2011 | DY10: =DR10 -> 2011 | DZ10: =DR10 -> 2011 | EA10: =DR10 -> 2011 | EB10: =DR10 -> 2011 | EC10: =DR10 -> 2011 | ED10: 2012 | EE10: =ED10 -> 2012 | EF10: =ED10 -> 2012 | EG10: =ED10 -> 2012 | EH10: =ED10 -> 2012 | EI10: =ED10 -> 2012 | EJ10: =ED10 -> 2012 | EK10: =ED10 -> 2012 | EL10: =ED10 -> 2012 | EM10: =EE10 -> 2012 | EN10: 2012 | EO10: 2012 | EP10: 2013 | EQ10: 2013 | ER10: 2013 | ES10: 2013
A11: GEO/TIME | B11: =B9&"-"&B10 -> 01-2001 | C11: =C9&"-"&C10 -> 02-2001 | D11: =D9&"-"&D10 -> 03-2001 | E11: =E9&"-"&E10 -> 04-2001 | F11: =F9&"-"&F10 -> 05-2001 | G11: =G9&"-"&G10 -> 06-2001 | H11: =H9&"-"&H10 -> 07-2001 | I11: =I9&"-"&I10 -> 08-2001 | ... ES11: =ES9&"-"&ES10 -> 04-2013 | EV11: 2013M04
A12: EA17 | B12: 4.99 | C12: 4.99 | D12: 4.9 | E12: 5.06 | F12: 5.25 | G12: 5.2 | H12: 5.21 | I12: 5.02 | J12: 5 | K12: 4.78 | L12: 4.63 | M12: 4.9 | N12: 4.99 | O12: 5.05 | P12: 5.29 | Q12: 5.28 | R12: 5.3 | S12: 5.15 | T12: 5 | U12: 4.72 | V12: 4.51 | W12: 4.59 | X12: 4.58 | Y12: 4.42 | Z12: 4.25 | AA12: 4.03 | AB12: 4.08 | AC12: 4.22 | AD12: 3.9 | AE12: 3.7 | AF12: 4.03 | AG12: 4.19 | AH12: 4.23 | AI12: 4.28 | AJ12: 4.41 | AK12: 4.35 | AL12: 4.22 | AM12: 4.18 | AN12: 4 | AO12: 4.19 | AP12: 4.35 | AQ12: 4.41 | AR12: 4.3 | AS12: 4.15 | AT12: 4.1 | AU12: 3.98 | AV12: 3.86 | AW12: 3.65 | AX12: 3.6 | AY12: 3.59 | AZ12: 3.74 | BA12: 3.54 | BB12: 3.38 | BC12: 3.22 | BD12: 3.28 | BE12: 3.3 | BF12: 3.14 | BG12: 3.3 | BH12: 3.51 | BI12: 3.4 | BJ12: 3.38 | BK12: 3.53 | BL12: 3.72 | BM12: 3.98 | BN12: 4.04 | BO12: 4.05 | BP12: 4.08 | BQ12: 3.95 | BR12: 3.83 | BS12: 3.86 | BT12: 3.79 | BU12: 3.85 | BV12: 4.1 | BW12: 4.12 | BX12: 4.02 | BY12: 4.23 | BZ12: 4.36 | CA12: 4.64 | CB12: 4.6 | CC12: 4.42 | CD12: 4.37 | CE12: 4.41 | CF12: 4.24 | CG12: 4.36 | CH12: 4.19 | CI12: 4.13 | CJ12: 4.07 | CK12: 4.28 | CL12: 4.43 | CM12: 4.78 | CN12: 4.76 | CO12: 4.48 | CP12: 4.43 | CQ12: 4.31 | CR12: 4.1 | CS12: 3.73 | CT12: 3.88 | CU12: 3.94 | CV12: 3.85 | CW12: 3.84 | CX12: 3.95 | CY12: 4.09 | CZ12: 3.89 | DA12: 3.73 | DB12: 3.7 | DC12: 3.66 | DD12: 3.66 | DE12: 3.63 | DF12: 3.74 | DG12: 3.72 | DH12: 3.62 | DI12: 3.68 | DJ12: 3.52 | DK12: 3.6 | DL12: 3.6 | DM12: 3.34 | DN12: 3.39 | DO12: 3.35 | DP12: 3.75 | DQ12: 4.13 | DR12: 4.23 | DS12: 4.32 | DT12: 4.4 | DU12: 4.55 | DV12: 4.47 | DW12: 4.5 | DX12: 4.64 | DY12: 4.17 | DZ12: 4.08 | EA12: 4.28 | EB12: 4.69 | EC12: 4.63 | ED12: 4.65 | EE12: 4.45 | EF12: 4.06 | EG12: 4.24 | EH12: 4.28 | EI12: 4.3 | EJ12: 4.16 | EK12: 4.03 | EL12: 3.79 | EM12: 3.57 | EN12: 3.47 | EO12: 3.18 | EP12: 3.11 | EQ12: 3.21 | ER12: 3.09 | ES12: 2.87 | EU12: Grécko | EV12: 11.58
A13: EU27 | B13: 4.98 | C13: 4.98 | D13: 4.89 | E13: 5.05 | F13: 5.25 | G13: 5.22 | H13: 5.23 | I13: 5.03 | J13: 5.01 | K13: 4.8 | L13: 4.64 | M13: 4.91 | N13: 5 | O13: 5.06 | P13: 5.3 | Q13: 5.3 | R13: 5.32 | S13: 5.17 | T13: 5.01 | U13: 4.72 | V13: 4.51 | W13: 4.6 | X13: 4.59 | Y13: 4.44 | Z13: 4.27 | AA13: 4.09 | AB13: 4.15 | AC13: 4.29 | AD13: 3.98 | AE13: 3.8 | AF13: 4.12 | AG13: 4.28 | AH13: 4.33 | AI13: 4.41 | AJ13: 4.55 | AK13: 4.47 | AL13: 4.33 | AM13: 4.31 | AN13: 4.14 | AO13: 4.34 | AP13: 4.66 | AQ13: 4.72 | AR13: 4.64 | AS13: 4.5 | AT13: 4.44 | AU13: 4.31 | AV13: 4.18 | AW13: 3.96 | AX13: 3.91 | AY13: 3.89 | AZ13: 4.03 | BA13: 3.84 | BB13: 3.68 | BC13: 3.5 | BD13: 3.53 | BE13: 3.56 | BF13: 3.4 | BG13: 3.58 | BH13: 3.76 | BI13: 3.66 | BJ13: 3.58 | BK13: 3.7 | BL13: 3.87 | BM13: 4.12 | BN13: 4.2 | BO13: 4.23 | BP13: 4.26 | BQ13: 4.16 | BR13: 4.05 | BS13: 4.08 | BT13: 4 | BU13: 4.05 | BV13: 4.35 | BW13: 4.38 | BX13: 4.29 | BY13: 4.48 | BZ13: 4.6 | CA13: 4.86 | CB13: 4.83 | CC13: 4.66 | CD13: 4.6 | CE13: 4.62 | CF13: 4.47 | CG13: 4.57 | CH13: 4.38 | CI13: 4.36 | CJ13: 4.34 | CK13: 4.52 | CL13: 4.67 | CM13: 5.01 | CN13: 4.96 | CO13: 4.7 | CP13: 4.64 | CQ13: 4.58 | CR13: 4.38 | CS13: 3.97 | CT13: 4.07 | CU13: 4.17 | CV13: 4.13 | CW13: 4.14 | CX13: 4.23 | CY13: 4.42 | CZ13: 4.26 | DA13: 4.11 | DB13: 4.08 | DC13: 3.98 | DD13: 3.97 | DE13: 3.96 | DF13: 4.11 | DG13: 4.05 | DH13: 3.92 | DI13: 3.93 | DJ13: 3.78 | DK13: 3.77 | DL13: 3.74 | DM13: 3.48 | DN13: 3.54 | DO13: 3.5 | DP13: 3.85 | DQ13: 4.2 | DR13: 4.3 | DS13: 4.4 | DT13: 4.43 | DU13: 4.53 | DV13: 4.42 | DW13: 4.4 | DX13: 4.48 | DY13: 4.03 | DZ13: 3.91 | EA13: 4.08 | EB13: 4.35 | EC13: 4.29 | ED13: 4.32 | EE13: 4.16 | EF13: 3.89 | EG13: 3.99 | EH13: 3.97 | EI13: 3.94 | EJ13: 3.79 | EK13: 3.69 | EL13: 3.51 | EM13: 3.34 | EN13: 3.24 | EO13: 3.02 | EP13: 2.99 | EQ13: 3.08 | ER13: 2.96 | ES13: 2.73 | EU13: Cyprus | EV13: 7
A14: Fínsko | B14: 5.02 | C14: 5.02 | D14: 4.94 | E14: 5.1 | F14: 5.29 | G14: 5.26 | H14: 5.27 | I14: 5.06 | J14: 5.06 | K14: 4.83 | L14: 4.69 | M14: 4.98 | N14: 5.05 | O14: 5.1 | P14: 5.33 | Q14: 5.32 | R14: 5.4 | S14: 5.26 | T14: 5.1 | U14: 4.81 | V14: 4.61 | W14: 4.68 | X14: 4.66 | Y14: 4.45 | Z14: 4.26 | AA14: 4.05 | AB14: 4.09 | AC14: 4.23 | AD14: 3.91 | AE14: 3.7 | AF14: 4.01 | AG14: 4.18 | AH14: 4.2 | AI14: 4.26 | AJ14: 4.39 | AK14: 4.33 | AL14: 4.16 | AM14: 4.11 | AN14: 3.92 | AO14: 4.1 | AP14: 4.25 | AQ14: 4.48 | AR14: 4.37 | AS14: 4.21 | AT14: 4.14 | AU14: 4.01 | AV14: 3.89 | AW14: 3.68 | AX14: 3.6 | AY14: 3.57 | AZ14: 3.72 | BA14: 3.51 | BB14: 3.33 | BC14: 3.16 | BD14: 3.18 | BE14: 3.21 | BF14: 3.05 | BG14: 3.19 | BH14: 3.4 | BI14: 3.3 | BJ14: 3.28 | BK14: 3.44 | BL14: 3.62 | BM14: 3.88 | BN14: 3.94 | BO14: 4.02 | BP14: 4.07 | BQ14: 3.94 | BR14: 3.8 | BS14: 3.84 | BT14: 3.75 | BU14: 3.82 | BV14: 4.05 | BW14: 4.08 | BX14: 3.98 | BY14: 4.2 | BZ14: 4.33 | CA14: 4.62 | CB14: 4.59 | CC14: 4.39 | CD14: 4.34 | CE14: 4.38 | CF14: 4.22 | CG14: 4.34 | CH14: 4.14 | CI14: 4.06 | CJ14: 4 | CK14: 4.22 | CL14: 4.47 | CM14: 4.78 | CN14: 4.77 | CO14: 4.47 | CP14: 4.43 | CQ14: 4.33 | CR14: 4.09 | CS14: 3.72 | CT14: 3.87 | CU14: 3.93 | CV14: 3.81 | CW14: 3.78 | CX14: 3.91 | CY14: 3.98 | CZ14: 3.77 | DA14: 3.63 | DB14: 3.62 | DC14: 3.57 | DD14: 3.53 | DE14: 3.46 | DF14: 3.49 | DG14: 3.38 | DH14: 3.26 | DI14: 3.36 | DJ14: 3.03 | DK14: 2.92 | DL14: 2.85 | DM14: 2.62 | DN14: 2.58 | DO14: 2.63 | DP14: 2.82 | DQ14: 3.19 | DR14: 3.27 | DS14: 3.41 | DT14: 3.45 | DU14: 3.57 | DV14: 3.32 | DW14: 3.29 | DX14: 3.16 | DY14: 2.68 | DZ14: 2.35 | EA14: 2.51 | EB14: 2.54 | EC14: 2.52 | ED14: 2.28 | EE14: 2.34 | EF14: 2.31 | EG14: 2.15 | EH14: 1.82 | EI14: 1.76 | EJ14: 1.55 | EK14: 1.55 | EL14: 1.82 | EM14: 1.78 | EN14: 1.67 | EO14: 1.6 | EP14: 1.75 | EQ14: 1.81 | ER14: 1.61 | ES14: 1.51 | EU14: Portugalsko | EV14: 6.15
A15: Grécko | B15: 5.35 | C15: 5.35 | D15: 5.28 | E15: 5.39 | F15: 5.54 | G15: 5.48 | H15: 5.51 | I15: 5.33 | J15: 5.31 | K15: 5.07 | L15: 4.9 | M15: 5.13 | N15: 5.24 | O15: 5.31 | P15: 5.5 | Q15: 5.51 | R15: 5.52 | S15: 5.37 | T15: 5.21 | U15: 4.95 | V15: 4.73 | W15: 4.79 | X15: 4.76 | Y15: 4.58 | Z15: 4.43 | AA15: 4.24 | AB15: 4.26 | AC15: 4.38 | AD15: 4.02 | AE15: 3.81 | AF15: 4.12 | AG15: 4.29 | AH15: 4.32 | AI15: 4.38 | AJ15: 4.51 | AK15: 4.45 | AL15: 4.37 | AM15: 4.35 | AN15: 4.17 | AO15: 4.35 | AP15: 4.49 | AQ15: 4.55 | AR15: 4.44 | AS15: 4.28 | AT15: 4.22 | AU15: 4.11 | AV15: 3.97 | AW15: 3.77 | AX15: 3.69 | AY15: 3.69 | AZ15: 3.92 | BA15: 3.76 | BB15: 3.6 | BC15: 3.44 | BD15: 3.46 | BE15: 3.47 | BF15: 3.3 | BG15: 3.45 | BH15: 3.67 | BI15: 3.57 | BJ15: 3.6 | BK15: 3.77 | BL15: 3.95 | BM15: 4.23 | BN15: 4.3 | BO15: 4.31 | BP15: 4.33 | BQ15: 4.19 | BR15: 4.06 | BS15: 4.08 | BT15: 3.98 | BU15: 4.04 | BV15: 4.28 | BW15: 4.3 | BX15: 4.2 | BY15: 4.4 | BZ15: 4.51 | CA15: 4.8 | CB15: 4.79 | CC15: 4.62 | CD15: 4.56 | CE15: 4.58 | CF15: 4.43 | CG15: 4.53 | CH15: 4.4 | CI15: 4.36 | CJ15: 4.42 | CK15: 4.54 | CL15: 4.74 | CM15: 5.17 | CN15: 5.15 | CO15: 4.87 | CP15: 4.88 | CQ15: 4.93 | CR15: 5.09 | CS15: 5.08 | CT15: 5.6 | CU15: 5.7 | CV15: 5.87 | CW15: 5.5 | CX15: 5.22 | CY15: 5.33 | CZ15: 4.89 | DA15: 4.52 | DB15: 4.56 | DC15: 4.57 | DD15: 4.84 | DE15: 5.49 | DF15: 6.02 | DG15: 6.46 | DH15: 6.24 | DI15: 7.83 | DJ15: 7.97 | DK15: 9.1 | DL15: 10.34 | DM15: 10.7 | DN15: 11.34 | DO15: 9.57 | DP15: 11.52 | DQ15: 12.01 | DR15: 11.73 | DS15: 11.4 | DT15: 12.44 | DU15: 13.86 | DV15: 15.94 | DW15: 16.69 | DX15: 16.15 | DY15: 15.9 | DZ15: 17.78 | EA15: 18.04 | EB15: 17.92 | EC15: 21.14 | ED15: 25.91 | EE15: 29.24 | EF15: 19.07 | EG15: 21.48 | EH15: 26.9 | EI15: 27.82 | EJ15: 25.82 | EK15: 24.34 | EL15: 20.91 | EM15: 17.96 | EN15: 17.2 | EO15: 13.33 | EP15: 11.1 | EQ15: 10.95 | ER15: 11.38 | ES15: 11.58 | EU15: Slovinsko | EV15: 5.93
A16: Holandsko | B16: 4.93 | C16: 4.92 | D16: 4.83 | E16: 5.02 | F16: 5.22 | G16: 5.17 | H16: 5.17 | I16: 4.98 | J16: 4.98 | K16: 4.76 | L16: 4.62 | M16: 4.89 | N16: 4.97 | O16: 5.02 | P16: 5.27 | Q16: 5.25 | R16: 5.3 | S16: 5.16 | T16: 4.99 | U16: 4.71 | V16: 4.5 | W16: 4.58 | X16: 4.56 | Y16: 4.36 | Z16: 4.19 | AA16: 3.97 | AB16: 4.01 | AC16: 4.23 | AD16: 3.91 | AE16: 3.72 | AF16: 4.04 | AG16: 4.18 | AH16: 4.21 | AI16: 4.27 | AJ16: 4.41 | AK16: 4.33 | AL16: 4.18 | AM16: 4.12 | AN16: 3.93 | AO16: 4.13 | AP16: 4.37 | AQ16: 4.42 | AR16: 4.31 | AS16: 4.15 | AT16: 4.09 | AU16: 3.96 | AV16: 3.84 | AW16: 3.63 | AX16: 3.56 | AY16: 3.55 | AZ16: 3.69 | BA16: 3.48 | BB16: 3.3 | BC16: 3.13 | BD16: 3.27 | BE16: 3.28 | BF16: 3.12 | BG16: 3.28 | BH16: 3.48 | BI16: 3.35 | BJ16: 3.33 | BK16: 3.48 | BL16: 3.66 | BM16: 3.92 | BN16: 3.96 | BO16: 3.97 | BP16: 3.99 | BQ16: 3.9 | BR16: 3.78 | BS16: 3.82 | BT16: 3.75 | BU16: 3.81 | BV16: 4.05 | BW16: 4.07 | BX16: 3.98 | BY16: 4.19 | BZ16: 4.32 | CA16: 4.61 | CB16: 4.57 | CC16: 4.38 | CD16: 4.34 | CE16: 4.38 | CF16: 4.21 | CG16: 4.34 | CH16: 4.13 | CI16: 4.05 | CJ16: 3.97 | CK16: 4.21 | CL16: 4.35 | CM16: 4.73 | CN16: 4.69 | CO16: 4.4 | CP16: 4.35 | CQ16: 4.23 | CR16: 3.96 | CS16: 3.65 | CT16: 3.76 | CU16: 3.8 | CV16: 3.66 | CW16: 3.77 | CX16: 3.85 | CY16: 3.96 | CZ16: 3.76 | DA16: 3.61 | DB16: 3.58 | DC16: 3.53 | DD16: 3.52 | DE16: 3.44 | DF16: 3.47 | DG16: 3.36 | DH16: 3.37 | DI16: 3.32 | DJ16: 3.02 | DK16: 2.9 | DL16: 2.85 | DM16: 2.56 | DN16: 2.52 | DO16: 2.58 | DP16: 2.79 | DQ16: 3.16 | DR16: 3.23 | DS16: 3.41 | DT16: 3.42 | DU16: 3.65 | DV16: 3.4 | DW16: 3.28 | DX16: 3.17 | DY16: 2.68 | DZ16: 2.34 | EA16: 2.46 | EB16: 2.45 | EC16: 2.38 | ED16: 2.2 | EE16: 2.24 | EF16: 2.25 | EG16: 2.29 | EH16: 1.96 | EI16: 1.93 | EJ16: 1.75 | EK16: 1.76 | EL16: 1.84 | EM16: 1.77 | EN16: 1.65 | EO16: 1.56 | EP16: 1.74 | EQ16: 1.83 | ER16: 1.67 | ES16: 1.66 | EU16: Španielsko | EV16: 4.59
A17: Írsko | B17: 5.03 | C17: 5.01 | D17: 4.92 | E17: 5.09 | F17: 5.28 | G17: 5.23 | H17: 5.23 | I17: 5.01 | J17: 5.01 | K17: 4.77 | L17: 4.63 | M17: 4.93 | N17: 5.02 | O17: 5.2 | P17: 5.42 | Q17: 5.41 | R17: 5.41 | S17: 5.25 | T17: 5.11 | U17: 4.84 | V17: 4.63 | W17: 4.7 | X17: 4.67 | Y17: 4.46 | Z17: 4.27 | AA17: 4.06 | AB17: 4.09 | AC17: 4.22 | AD17: 3.89 | AE17: 3.69 | AF17: 4.01 | AG17: 4.17 | AH17: 4.19 | AI17: 4.25 | AJ17: 4.39 | AK17: 4.36 | AL17: 4.2 | AM17: 4.15 | AN17: 3.97 | AO17: 4.17 | AP17: 4.31 | AQ17: 4.38 | AR17: 4.27 | AS17: 4.09 | AT17: 4.04 | AU17: 3.92 | AV17: 3.8 | AW17: 3.62 | AX17: 3.52 | AY17: 3.51 | AZ17: 3.66 | BA17: 3.46 | BB17: 3.28 | BC17: 3.13 | BD17: 3.18 | BE17: 3.22 | BF17: 3.04 | BG17: 3.19 | BH17: 3.4 | BI17: 3.36 | BJ17: 3.32 | BK17: 3.47 | BL17: 3.65 | BM17: 3.9 | BN17: 3.96 | BO17: 3.98 | BP17: 4 | BQ17: 3.88 | BR17: 3.76 | BS17: 3.78 | BT17: 3.72 | BU17: 3.76 | BV17: 4.04 | BW17: 4.07 | BX17: 3.97 | BY17: 4.19 | BZ17: 4.32 | CA17: 4.62 | CB17: 4.59 | CC17: 4.4 | CD17: 4.32 | CE17: 4.39 | CF17: 4.31 | CG17: 4.45 | CH17: 4.25 | CI17: 4.21 | CJ17: 4.17 | CK17: 4.44 | CL17: 4.58 | CM17: 4.91 | CN17: 4.92 | CO17: 4.59 | CP17: 4.56 | CQ17: 4.55 | CR17: 4.56 | CS17: 4.57 | CT17: 5.2 | CU17: 5.65 | CV17: 5.76 | CW17: 5.34 | CX17: 5.27 | CY17: 5.73 | CZ17: 5.45 | DA17: 4.92 | DB17: 4.91 | DC17: 4.77 | DD17: 4.82 | DE17: 4.88 | DF17: 4.83 | DG17: 4.73 | DH17: 4.53 | DI17: 4.76 | DJ17: 4.86 | DK17: 5.31 | DL17: 5.32 | DM17: 5.3 | DN17: 6.14 | DO17: 6.42 | DP17: 8.22 | DQ17: 8.45 | DR17: 8.75 | DS17: 9.1 | DT17: 9.67 | DU17: 9.79 | DV17: 10.64 | DW17: 11.43 | DX17: 12.45 | DY17: 9.57 | DZ17: 8.51 | EA17: 8.1 | EB17: 8.51 | EC17: 8.7 | ED17: 7.71 | EE17: 7.02 | EF17: 6.9 | EG17: 6.88 | EH17: 7.12 | EI17: 7.09 | EJ17: 6.12 | EK17: 5.91 | EL17: 5.28 | EM17: 4.77 | EN17: 4.59 | EO17: 4.67 | EP17: 4.18 | EQ17: 3.78 | ER17: 3.83 | ES17: 3.78 | EU17: Taliansko | EV17: 4.28
A18: Nemecko | B18: 4.8 | C18: 4.78 | D18: 4.67 | E18: 4.83 | F18: 5.05 | G18: 5 | H18: 5.02 | I18: 4.82 | J18: 4.81 | K18: 4.6 | L18: 4.45 | M18: 4.74 | N18: 4.86 | O18: 4.92 | P18: 5.16 | Q18: 5.15 | R18: 5.17 | S18: 5.02 | T18: 4.87 | U18: 4.59 | V18: 4.38 | W18: 4.46 | X18: 4.48 | Y18: 4.33 | Z18: 4.18 | AA18: 3.95 | AB18: 4 | AC18: 4.15 | AD18: 3.82 | AE18: 3.62 | AF18: 3.97 | AG18: 4.13 | AH18: 4.17 | AI18: 4.22 | AJ18: 4.35 | AK18: 4.29 | AL18: 4.17 | AM18: 4.11 | AN18: 3.91 | AO18: 4.1 | AP18: 4.25 | AQ18: 4.31 | AR18: 4.24 | AS18: 4.08 | AT18: 4.02 | AU18: 3.89 | AV18: 3.78 | AW18: 3.58 | AX18: 3.56 | AY18: 3.54 | AZ18: 3.7 | BA18: 3.48 | BB18: 3.3 | BC18: 3.13 | BD18: 3.2 | BE18: 3.23 | BF18: 3.07 | BG18: 3.24 | BH18: 3.45 | BI18: 3.34 | BJ18: 3.32 | BK18: 3.47 | BL18: 3.64 | BM18: 3.89 | BN18: 3.96 | BO18: 3.96 | BP18: 4.01 | BQ18: 3.88 | BR18: 3.75 | BS18: 3.79 | BT18: 3.71 | BU18: 3.77 | BV18: 4.02 | BW18: 4.05 | BX18: 3.94 | BY18: 4.15 | BZ18: 4.28 | CA18: 4.56 | CB18: 4.5 | CC18: 4.3 | CD18: 4.22 | CE18: 4.28 | CF18: 4.09 | CG18: 4.21 | CH18: 4.03 | CI18: 3.95 | CJ18: 3.8 | CK18: 4.04 | CL18: 4.2 | CM18: 4.52 | CN18: 4.49 | CO18: 4.2 | CP18: 4.09 | CQ18: 3.88 | CR18: 3.56 | CS18: 3.05 | CT18: 3.07 | CU18: 3.13 | CV18: 3.02 | CW18: 3.13 | CX18: 3.37 | CY18: 3.47 | CZ18: 3.34 | DA18: 3.31 | DB18: 3.26 | DC18: 3.21 | DD18: 3.22 | DE18: 3.14 | DF18: 3.26 | DG18: 3.17 | DH18: 3.1 | DI18: 3.06 | DJ18: 2.73 | DK18: 2.54 | DL18: 2.62 | DM18: 2.35 | DN18: 2.3 | DO18: 2.35 | DP18: 2.53 | DQ18: 2.91 | DR18: 3.02 | DS18: 3.2 | DT18: 3.21 | DU18: 3.34 | DV18: 3.06 | DW18: 2.89 | DX18: 2.74 | DY18: 2.21 | DZ18: 1.83 | EA18: 2 | EB18: 1.87 | EC18: 1.93 | ED18: 1.82 | EE18: 1.85 | EF18: 1.83 | EG18: 1.62 | EH18: 1.34 | EI18: 1.3 | EJ18: 1.24 | EK18: 1.34 | EL18: 1.49 | EM18: 1.47 | EN18: 1.34 | EO18: 1.3 | EP18: 1.51 | EQ18: 1.54 | ER18: 1.35 | ES18: 1.2 | EU18: Írsko | EV18: 3.78
A19: Portugalsko | B19: 5.16 | C19: 5.14 | D19: 5.09 | E19: 5.26 | F19: 5.42 | G19: 5.38 | H19: 5.39 | I19: 5.19 | J19: 5.17 | K19: 4.92 | L19: 4.76 | M19: 5.01 | N19: 5.08 | O19: 5.15 | P19: 5.39 | Q19: 5.39 | R19: 5.4 | S19: 5.26 | T19: 5.12 | U19: 4.85 | V19: 4.63 | W19: 4.7 | X19: 4.66 | Y19: 4.45 | Z19: 4.27 | AA19: 4.04 | AB19: 4.08 | AC19: 4.18 | AD19: 3.91 | AE19: 3.77 | AF19: 4.1 | AG19: 4.26 | AH19: 4.29 | AI19: 4.36 | AJ19: 4.48 | AK19: 4.4 | AL19: 4.25 | AM19: 4.19 | AN19: 4 | AO19: 4.25 | AP19: 4.42 | AQ19: 4.47 | AR19: 4.35 | AS19: 4.18 | AT19: 4.12 | AU19: 3.99 | AV19: 3.86 | AW19: 3.64 | AX19: 3.56 | AY19: 3.55 | AZ19: 3.7 | BA19: 3.5 | BB19: 3.35 | BC19: 3.19 | BD19: 3.35 | BE19: 3.39 | BF19: 3.23 | BG19: 3.39 | BH19: 3.58 | BI19: 3.46 | BJ19: 3.45 | BK19: 3.6 | BL19: 3.77 | BM19: 4.03 | BN19: 4.07 | BO19: 4.1 | BP19: 4.14 | BQ19: 4.06 | BR19: 3.93 | BS19: 3.98 | BT19: 3.89 | BU19: 3.96 | BV19: 4.18 | BW19: 4.19 | BX19: 4.1 | BY19: 4.3 | BZ19: 4.44 | CA19: 4.74 | CB19: 4.73 | CC19: 4.56 | CD19: 4.5 | CE19: 4.52 | CF19: 4.36 | CG19: 4.47 | CH19: 4.31 | CI19: 4.27 | CJ19: 4.36 | CK19: 4.52 | CL19: 4.6 | CM19: 4.96 | CN19: 4.95 | CO19: 4.69 | CP19: 4.66 | CQ19: 4.56 | CR19: 4.35 | CS19: 4 | CT19: 4.32 | CU19: 4.52 | CV19: 4.68 | CW19: 4.53 | CX19: 4.29 | CY19: 4.5 | CZ19: 4.25 | DA19: 3.95 | DB19: 3.94 | DC19: 3.85 | DD19: 3.8 | DE19: 3.91 | DF19: 4.17 | DG19: 4.56 | DH19: 4.31 | DI19: 4.78 | DJ19: 5.02 | DK19: 5.54 | DL19: 5.49 | DM19: 5.31 | DN19: 6.08 | DO19: 6.05 | DP19: 6.91 | DQ19: 6.53 | DR19: 6.95 | DS19: 7.34 | DT19: 7.8 | DU19: 9.19 | DV19: 9.63 | DW19: 10.87 | DX19: 12.15 | DY19: 10.93 | DZ19: 11.34 | EA19: 11.72 | EB19: 11.89 | EC19: 13.08 | ED19: 13.85 | EE19: 12.81 | EF19: 13.01 | EG19: 12.01 | EH19: 11.59 | EI19: 10.56 | EJ19: 10.49 | EK19: 9.89 | EL19: 8.62 | EM19: 8.17 | EN19: 8.32 | EO19: 7.25 | EP19: 6.24 | EQ19: 6.4 | ER19: 6.1 | ES19: 6.15 | EU19: Slovensko | EV19: 3.01
A20: Slovensko | B20: 8.25 | C20: 8.17 | D20: 8.09 | E20: 8 | F20: 8.02 | G20: 8.05 | H20: 8.04 | I20: 7.99 | J20: 8.1 | K20: 8.08 | L20: 7.97 | M20: 7.75 | N20: 7.41 | O20: 7.32 | P20: 7.37 | Q20: 7.47 | R20: 7.68 | S20: 7.83 | T20: 7.64 | U20: 7.24 | V20: 6.6 | W20: 6.11 | X20: 5.43 | Y20: 5.12 | Z20: 4.98 | AA20: 4.92 | AB20: 5.01 | AC20: 4.9 | AD20: 4.72 | AE20: 4.7 | AF20: 4.8 | AG20: 4.92 | AH20: 5.02 | AI20: 5.08 | AJ20: 5.36 | AK20: 5.42 | AL20: 5.16 | AM20: 5.11 | AN20: 5.09 | AO20: 5.06 | AP20: 5.13 | AQ20: 5.09 | AR20: 5.03 | AS20: 5.02 | AT20: 5.04 | AU20: 5.08 | AV20: 4.92 | AW20: 4.58 | AX20: 4.04 | AY20: 3.8 | AZ20: 3.6 | BA20: 3.76 | BB20: 3.54 | BC20: 3.36 | BD20: 3.22 | BE20: 3.24 | BF20: 3.13 | BG20: 3.25 | BH20: 3.7 | BI20: 3.62 | BJ20: 3.59 | BK20: 3.75 | BL20: 4.01 | BM20: 4.27 | BN20: 4.5 | BO20: 4.66 | BP20: 5.42 | BQ20: 5.13 | BR20: 4.79 | BS20: 4.42 | BT20: 4.25 | BU20: 4.15 | BV20: 4.25 | BW20: 4.28 | BX20: 4.24 | BY20: 4.26 | BZ20: 4.4 | CA20: 4.66 | CB20: 4.7 | CC20: 4.65 | CD20: 4.61 | CE20: 4.64 | CF20: 4.59 | CG20: 4.61 | CH20: 4.48 | CI20: 4.36 | CJ20: 4.34 | CK20: 4.46 | CL20: 4.52 | CM20: 4.94 | CN20: 5.06 | CO20: 4.95 | CP20: 4.98 | CQ20: 4.95 | CR20: 4.92 | CS20: 4.72 | CT20: 4.69 | CU20: 4.76 | CV20: 4.71 | CW20: 4.93 | CX20: 5.03 | CY20: 5.08 | CZ20: 5.04 | DA20: 4.9 | DB20: 4.65 | DC20: 4.33 | DD20: 4.23 | DE20: 4.12 | DF20: 4.11 | DG20: 4.08 | DH20: 4.01 | DI20: 3.93 | DJ20: 3.82 | DK20: 3.73 | DL20: 3.93 | DM20: 3.73 | DN20: 3.59 | DO20: 3.67 | DP20: 3.8 | DQ20: 4.06 | DR20: 4.16 | DS20: 4.24 | DT20: 4.32 | DU20: 4.33 | DV20: 4.33 | DW20: 4.39 | DX20: 4.55 | DY20: 4.55 | DZ20: 4.25 | EA20: 4.33 | EB20: 4.71 | EC20: 5.21 | ED20: 5.22 | EE20: 4.98 | EF20: 4.91 | EG20: 4.81 | EH20: 4.8 | EI20: 4.8 | EJ20: 4.41 | EK20: 4.24 | EL20: 4.2 | EM20: 4.2 | EN20: 4.14 | EO20: 3.92 | EP20: 3.93 | EQ20: 3.95 | ER20: 3.95 | ES20: 3.01 | EU20: EA17 | EV20: 2.87
