Workbook

Sheet Monitoring_eng
A1: questionID | B1: question | C1: Vinnytsia region | D1: Vinnytsia region_comment | E1: Volyn region | F1: Volyn region_comment | G1: Dnipropetrovsk region | H1: Dnipropetrovsk region_comment | I1: Zhytomyr region | J1: Zhytomyr region_comment | K1: Zakarpattia region | L1: Zakarpattia region_comment | M1: Zaporizhzhia region | N1: Zaporizhzhia region_comment | O1: Ivano-Frankivsk region | P1: Ivano-Frankivsk region_comment | Q1: Kyiv region | R1: Kyiv region_comment | S1: Kirovohrad region | T1: Kirovohrad region_comment | U1: Lviv region | V1: Lviv region_comment | W1: Mykolaiv region | X1: Mykolaiv region_comment | Y1: Odesa region | Z1: Odesa region_comment | AA1: Poltava region | AB1: Poltava region_comment | AC1: Rivne region | AD1: Rivne region_comment | AE1: Sumy region | AF1: Sumy region_comment | AG1: Ternopil region | AH1: Ternopil region_comment | AI1: Kharkiv region | AJ1: Kharkiv region_comment | AK1: Kherson region | AL1: Kherson region_comment | AM1: Khmelnytskyi region | AN1: Khmelnytskyi region_comment | AO1: Cherkasy region | AP1: Cherkasy region_comment | AQ1: Chernivtsi region | AR1: Chernivtsi region_comment | AS1: Chernihiv region | AT1: Chernihiv region_comment
A2: Q1 | B2: Is there an online platform for communication between citizens and the Regional Council available on the Regional Council website for filing complaints, suggestions and appeals, as well as requests for information? | C2: yes | D2: https://vinrada.gov.ua/gromadska_priymalnya.htm https://vinrada.gov.ua/povidomlennya-pro-korupcijne-pravoporushennya.htm | E2: yes | F2: http://volynrada.gov.ua/zapit-na-otrimannya-publichnoyi-informaciyi http://volynrada.gov.ua/node/59183 | G2: yes | H2: https://oblrada.dp.gov.ua/zvernennia-hromadian/ | I2: yes | J2: https://zt.gov.ua/index.php/%D0%B7%D0%B0%D0%BF%D0%B8%D1%82%D0%B0%D0%BD%D0%BD%D1%8F-%D0%B4%D0%BE-%D0%BA%D0%B5%D1%80%D1%96%D0%B2%D0%BD%D0%B8%D1%86%D1%82%D0%B2%D0%B0.html | K2: yes | L2: https://zakarpat-rada.gov.ua/kontakts/ | M2: yes | N2: http://zor.gov.ua/content/zvernennya-gromadyan | O2: yes | P2: https://orada.if.ua/ | Q2: yes | R2: https://kor.gov.ua/robota_rady/zvernennia.html | S2: yes | T2: https://oblrada.kr.ua/elektronna-prijmalnya- | U2: yes | V2: https://lvivoblrada.gov.ua/contacts | W2: yes | X2: https://www.mk-oblrada.gov.ua/kontakty | Y2: yes | Z2: http://oblrada.odessa.gov.ua/zvernennya-do-golovy-oblrady/ | AA2: yes | AB2: http://oblrada-pl.gov.ua/index.php?option=com_content&view=article&id=3613&Itemid=173 | AC2: yes | AD2: https://ror.gov.ua/priiom-gromadyan https://ror.gov.ua/zapyt | AE2: yes | AF2: http://online.sorada.gov.ua/Account/LogOn?returnUrl=http%3A%2F%2Fonline.sorada.gov.ua%3A9006%2FRada%2FAccountUser%2FIndex | AG2: yes | AH2: http://te-rada.org/profile/?ref=appeal | AI2: no | AK2: yes | AL2: http://khor.gov.ua/zvernennya-gromadyan/ | AM2: no | AN2: http://km-oblrada.gov.ua/contacts/ | AO2: yes | AP2: https://www.oblradack.gov.ua/zapitannya-do-kerivnyctva | AQ2: yes | AR2: http://oblrada.cv.ua/online_reception/ | AS2: yes | AT2: https://chor.gov.ua/zv-yazki-z-gromadskistyu/elektronna-priymalnya
A3: Q2 | B3: Do the responds to citizens' appeals, suggestions, and complaints are available on the respective online platform for public observation? | C3: no | E3: no | G3: no | I3: no | K3: no | M3: no | O3: no | Q3: no | S3: no | U3: no | W3: no | Y3: no | AA3: no | AC3: no | AD3: https://ror.gov.ua/petycia/14 https://ror.gov.ua/petycia/21 | AE3: no | AG3: no | AI3: no | AK3: no | AM3: no | AO3: no | AQ3: no | AS3: no
A4: Q3 | B4: Is there a possibility to track the progress of appeals, complaints, and suggestions on the respective online platform? | C4: no | E4: no | G4: no | I4: no | K4: no | M4: no | O4: yes | Q4: no | S4: no | U4: no | W4: no | Y4: no | AA4: no | AC4: no | AE4: no | AG4: no | AI4: no | AK4: no | AM4: no | AO4: no | AQ4: no | AS4: no
A5: Q4 | B5: Does the Regional Council provide the response to requests for information within the statutory deadlines (official request of ICPS)? | C5: yes | D5: response received in time | E5: yes | F5: response received in time | G5: yes | H5: response received in time | I5: yes | J5: response received in time | K5: yes | L5: response received in time | M5: no | O5: yes | P5: response received in time | Q5: yes | R5: response received in full | S5: yes | T5: response received in time | U5: yes | V5: response received in time | W5: yes | X5: response received in time | Y5: yes | Z5: response received in time | AA5: yes | AB5: response received in time | AC5: yes | AD5: response received in time | AE5: yes | AF5: response received in time | AG5: yes | AH5: response received in time | AI5: yes | AJ5: response received in time | AK5: yes | AL5: response received in time | AM5: no | AO5: yes | AP5: response received in time | AQ5: yes | AR5: response received in time | AS5: yes | AT5: response received in time
A6: Q5 | B6: Does the Regional Council provide the response to requests for information in full (official request of ICPS)? | C6: yes | D6: response received in full | E6: yes | F6: response received in full | G6: yes | H6: response received in full | I6: yes | J6: response received in full | K6: yes | L6: response received in full | M6: no | O6: yes | P6: response received in full | Q6: yes | R6: response received in full | S6: yes | T6: response received in full | U6: yes | V6: response received in full | W6: yes | X6: response received in full | Y6: yes | Z6: response received in full | AA6: no | AC6: yes | AD6: response received in full | AE6: yes | AF6: response received in full | AG6: yes | AH6: response received in full | AI6: yes | AJ6: response received in full | AK6: yes | AL6: response received in full | AM6: no | AO6: yes | AP6: response received in full | AQ6: yes | AR6: response received in full | AS6: yes | AT6: response received in full
A7: Q6 | B7: Does the Regional Council provide the response to requests for information within the statutory deadlines (Secret shopper’s request)? | C7: yes | D7: response received in time | E7: no | G7: no | I7: no | K7: yes | L7: response received in time | M7: no | O7: yes | P7: response received in time | Q7: no | R7: Error for koblrada@ukr.ua | S7: yes | T7: response received in time | U7: no | W7: yes | X7: response received in time | Y7: yes | Z7: response received in time | AA7: no | AB7: Error for nfo@oblrada-pl.gov.ua | AC7: yes | AD7: response received in time | AE7: yes | AG7: yes | AH7: response received in time | AI7: yes | AJ7: response received in time | AK7: yes | AL7: response received in time | AM7: yes | AN7: response received in time | AO7: yes | AP7: response received in time | AQ7: yes | AR7: response received in time | AS7: yes | AT7: response received in time
A8: Q7 | B8: Does the Regional Council provide the response to requests for information in full (Secret shopper’s request)? | C8: yes | D8: response received in full | E8: no | G8: no | I8: no | K8: yes | L8: response received in full | M8: no | O8: yes | P8: response received in full | Q8: no | S8: yes | T8: response received in full | U8: no | W8: yes | X8: response received in full | Y8: yes | Z8: response received in full | AA8: no | AC8: yes | AD8: response received in full | AE8: no | AG8: yes | AH8: response received in full | AI8: yes | AJ8: response received in full | AK8: yes | AL8: response received in full | AM8: yes | AN8: response received in full | AO8: yes | AP8: response received in full | AQ8: yes | AR8: response received in full | AS8: yes | AT8: response received in full
A9: Q8 | B9: Is the information about the head of the Regional Council, Regional Council deputies (including CVs or biographical information, contact information, time and place of reception of citizens) published on the Regional Council website? | C9: yes | D9: https://vinrada.gov.ua/golova_ta_zastupniki_golovi_oblasnoi_radi.htm ; https://vinrada.gov.ua/rada_spisok_deputativ.htm | E9: yes | F9: http://volynrada.gov.ua/leadership http://volynrada.gov.ua/deputies_council http://volynrada.gov.ua/deputy | G9: yes | H9: https://oblrada.dp.gov.ua/oblasna-rada/kerivnitstvo/--/ https://oblrada.dp.gov.ua/category/oblasna-rada/deputats/ | I9: yes | J9: https://zt.gov.ua/index.php/oblasna-rada/struktura-ta-personi/kerivnitstvo/133-gor.html https://zt.gov.ua/index.php/oblasna-rada/struktura-ta-personi/deputatskij-korpus.html | K9: yes | L9: https://zakarpat-rada.gov.ua/oblasna-rada/kerivnytstvo-rady/holova-rady/ https://zakarpat-rada.gov.ua/oblasna-rada/deputaty/oblasna-rada-viii-sklykannia-2020-2025/ | M9: yes | N9: http://zor.gov.ua/management https://zor.gov.ua/deputat/all https://zor.gov.ua/deput_frakc_ta_gruppi | O9: yes | P9: http://www.orada.if.ua/deputies http://www.orada.if.ua/ | Q9: yes | R9: https://kor.gov.ua/sklad_rady/kerivnytstvo.html https://kor.gov.ua/sklad_rady/fraktsii_ta_deputatskyi_korpus/deputatskyi_korpus.html | S9: yes | T9: https://oblrada.kr.ua/golova-oblasnoi-radi https://oblrada.kr.ua/deputatskij-korpus | U9: yes | V9: https://mail.lvivoblrada.gov.ua/the-structure/deputati https://mail.lvivoblrada.gov.ua/the-structure/kerivnictvo-lvivskoji-oblasnoji-radi | W9: yes | X9: https://www.mk-oblrada.gov.ua/deputatskyy-korpus | Y9: partially | Z9: http://oblrada.odessa.gov.ua/pro-oblasnu-radu/kerivnytstvo/ http://oblrada.odessa.gov.ua/pro-oblasnu-radu/deputatskyj-korpus/zagalnyj-sklad/ | AA9: yes | AB9: https://oblrada-pl.gov.ua/index.php?option=com_content&view=article&id=46&Itemid=34 https://oblrada-pl.gov.ua/index.php?option=com_content&view=article&id=12533&Itemid=200 | AC9: yes | AD9: https://ror.gov.ua/kerivnictvo-oblasnoyi-radi https://ror.gov.ua/deputaty; https://ror.gov.ua/frakciyi | AE9: yes | AF9: https://sorada.gov.ua/pro-oblasnu-radu/kerivnytstvo-oblasnoji-rady.html https://sorada.gov.ua/deputaty.html | AG9: yes | AH9: http://te-rada.org/user/#&type=1 http://te-rada.org/user/#&type=3 | AI9: yes | AJ9: http://www.oblrada.kharkov.ua/ua/deputies http://www.oblrada.kharkov.ua/ua/board-structure/direction/head-of-kharkiv-regional-council | AK9: yes | AL9: http://khor.gov.ua/storinka-golovy-hersonskoyi-oblasnoyi-rady/ http://khor.gov.ua/deputatskyj-korpus-viii-sklykannia-2/# | AM9: yes | AN9: http://km-oblrada.gov.ua/management-regional-council/ https://km-oblrada.gov.ua/deputati-vosmogo-sklikannya-2/ | AO9: yes | AP9: https://www.oblradack.gov.ua/deputati-oblasnoi-radi-vii-sklikannya https://www.oblradack.gov.ua/pidgorniy-anatoliy-viktorovich | AQ9: yes | AR9: http://oblrada.cv.ua/structure/ http://oblrada.cv.ua/structure/deputies/ | AS9: yes | AT9: https://chor.gov.ua/2012-07https://chor.gov.ua/oblasna-rada/golova https://chor.gov.ua/oblasna-rada/deputati/itemlist/category/373-deputatskyi-korpus-oblasnoi-rady-8-ho-sklykannia
A10: Q9 | B10: Is the information on the list and contact details of the Regional Council standing committees, as well as names of Council standing committees’ members published on the Regional Council website? | C10: yes | D10: https://vinrada.gov.ua/spisok_deputativ_po_komisiyah.htm | E10: yes | F10: http://volynrada.gov.ua/standing_committees | G10: yes | H10: https://oblrada.dp.gov.ua/%d0%ba%d0%be%d0%bc%d1%96%d1%81%d1%96%d1%97-viii-%d1%81%d0%ba%d0%bb%d0%b8%d0%ba%d0%b0%d0%bd%d0%bd%d1%8f/ | I10: yes | J10: https://zt.gov.ua/index.php/oblasna-rada/struktura-ta-personi/postijni-komisiji.html | K10: yes | L10: https://zakarpat-rada.gov.ua/oblasna-rada/postijni-komisiji/ | M10: yes | N10: http://zor.gov.ua/postiyni_komisii | O10: yes | P10: http://www.orada.if.ua/---/ | Q10: yes | R10: https://kor.gov.ua/sklad_rady/komisii.html | S10: yes | T10: https://oblrada.kr.ua/postijni-komisii-kirovogradskoi-oblasnoi-radi | U10: yes | V10: https://mail.lvivoblrada.gov.ua/the-structure/postiini-deputatski-komisiji-1 | W10: yes | X10: https://www.mk-oblrada.gov.ua/sklad-postiynyh-komisiy | Y10: yes | Z10: http://oblrada.odessa.gov.ua/pro-oblasnu-radu/deputatskyj-korpus/postijni-komisiyi/ | AA10: yes | AB10: https://oblrada-pl.gov.ua/index.php?option=com_content&view=category&id=47&Itemid=100 | AC10: yes | AD10: https://ror.gov.ua/postiini-komisiyi | AE10: yes | AF10: https://sorada.gov.ua/pro-oblasnu-radu/deputaty-oblasnoji-rady/postijni-komisiji.html | AG10: yes | AH10: http://te-rada.org/user/#&type=4 | AI10: yes | AJ10: http://www.oblrada.kharkov.ua/ua/deputies/commission | AK10: yes | AL10: http://khor.gov.ua/postijni-komisiyi-oblasnoyi-rady/ | AM10: yes | AN10: https://km-oblrada.gov.ua/postiyni-komisii-oblasnoi-radi-vii-vosm/ | AO10: yes | AP10: https://www.oblradack.gov.ua/sklad-postynyh-komisij | AQ10: yes | AR10: http://oblrada.cv.ua/structure/commissions/ | AS10: yes | AT10: https://chor.gov.ua/oblasna-rada/postijni-komisiji
A11: Q10 | B11: Is the information on the contact details of the Regional Council executive body and names of its members published on the Regional Council website? | C11: no | D11: http://www.vinrada.gov.ua/zagalniy_spisok_pracivnikiv.htm | E11: yes | F11: http://volynrada.gov.ua/aparat | G11: yes | H11: https://oblrada.dp.gov.ua/category/oblasna-rada/vikon-aparat/ | I11: yes | J11: https://zt.gov.ua/index.php/oblasna-rada/struktura-ta-personi/vikonavchij-aparat.html | K11: yes | L11: https://zakarpat-rada.gov.ua/oblasna-rada/vykonavchyj-aparat/ | M11: yes | N11: http://zor.gov.ua/viddili | O11: yes | P11: https://orada.if.ua/%d0%be%d0%b1%d0%bb%d0%b0%d1%81%d0%bd%d0%b0-%d1%80%d0%b0%d0%b4%d0%b0/%d0%b2%d0%b8%d0%ba%d0%be%d0%bd%d0%b0%d0%b2%d1%87%d0%b8%d0%b9-%d0%b0%d0%bf%d0%b0%d1%80%d0%b0%d1%82/%d0%ba%d0%b5%d1%80%d1%96%d0%b2%d0%bd%d0%b8%d1%86%d1%82%d0%b2%d0%be-%d0%be%d0%b1%d0%bb%d0%b0%d1%81%d0%bd%d0%be%d1%97-%d1%80%d0%b0%d0%b4%d0%b8/ | Q11: yes | R11: https://kor.gov.ua/sklad_rady/vykonavchyi_aparat.html | S11: yes | T11: https://oblrada.kr.ua/vikonavchij-aparat | U11: yes | V11: https://mail.lvivoblrada.gov.ua/the-structure/struktura-aparatu | W11: yes | X11: https://www.mk-oblrada.gov.ua/struktura-mykolaivskoi-oblasnoi-rady | Y11: no | Z11: http://oblrada.odessa.gov.ua/pro-oblasnu-radu/aparat-oblasnoyi-rady/struktura-aparatu/ | AA11: yes | AB11: https://oblrada-pl.gov.ua/index.php?option=com_content&view=article&id=8212&Itemid=142 | AC11: yes | AD11: https://ror.gov.ua/struktura | AE11: yes | AF11: https://sorada.gov.ua/pro-oblasnu-radu/vykonavchyj-aparat/vykonavchyj-aparat.html | AG11: yes | AH11: http://te-rada.org/?id=64 | AI11: yes | AJ11: http://www.oblrada.kharkov.ua/ua/board-structure/executive-body | AK11: yes | AL11: http://khor.gov.ua/radnyky-golovy-hersonskoyi-oblasnoyi-rady-na-gromadskyh-zasadah/ | AM11: yes | AN11: https://km-oblrada.gov.ua/management-regional-council/administrator-of-the-office/ https://km-oblrada.gov.ua/vikonavchij-aparat-radi/ | AO11: yes | AP11: https://www.oblradack.gov.ua/aparat-radi-telefonniy-dovdnik-0 | AQ11: yes | AR11: http://oblrada.cv.ua/structure/machineries/ | AS11: yes | AT11: https://chor.gov.ua/oblasna-rada/vikonavchiy-aparat/spisok-pratsivnikiv
A12: Q11 | B12: Is the information on convening the session published on the Regional Council website no later than 10 days prior to the session in user-friendly access (e.g. in a separate section)? | C12: yes | D12: http://www.vinrada.gov.ua/grafik-provedennya-zasidan-postijnih-komisij.htm https://vinrada.gov.ua/na-chergovij-sesii-deputati-rozglyanut-37-pitan.htm | E12: yes | F12: http://volynrada.gov.ua/actualna-informacia/proyekt-poryadku-dennogo-4-sesiyi, | G12: yes | H12: https://oblrada.dp.gov.ua/news/xxii-%d1%81%d0%b5%d1%81%d1%96%d1%8f-%d0%be%d0%b1%d0%bb%d1%80%d0%b0%d0%b4%d0%b8-%d0%b2%d1%96%d0%b4%d0%b1%d1%83%d0%b4%d0%b5%d1%82%d1%8c%d1%81%d1%8f-%d0%be%d0%bd%d0%bb%d0%b0%d0%b9%d0%bd/ | I12: yes | J12: https://zt.gov.ua/index.php/%D0%BF%D1%80%D0%BE%D1%94%D0%BA%D1%82%D0%B8-%D1%80%D1%96%D1%88%D0%B5%D0%BD%D1%8C.html | K12: yes | L12: https://zakarpat-rada.gov.ua/category/rozporyadzhennya/ | M12: yes | N12: http://zor.gov.ua | O12: yes | P12: http://orada.if.ua/news/ https://orada.if.ua/%d0%bf%d1%80%d0%be-%d1%81%d0%ba%d0%bb%d0%b8%d0%ba%d0%b0%d0%bd%d0%bd%d1%8f-%d0%bf%d0%be%d0%b7%d0%b0%d1%87%d0%b5%d1%80%d0%b3%d0%be%d0%b2%d0%be%d1%97-%d1%82%d1%80%d0%b5%d1%82%d1%8c%d0%be%d1%97-%d1%81/ | Q12: yes | R12: https://kor.gov.ua/pres-tsentr/podii.html | S12: yes | T12: https://oblrada.kr.ua/ | U12: yes | V12: https://www.lvivoblrada.gov.ua/plenary-sessions/proekti-rishen/proekti-rishen-pidgotovlenni-dlya-rozglyadu | W12: yes | X12: http://mk-oblrada.gov.ua/ | Y12: yes | Z12: http://oblrada.odessa.gov.ua/dokumenty/rozporyadzhennya/ | AA12: yes | AB12: http://oblrada-pl.gov.ua/index.php?option=com_content&view=article&id=10469&Itemid=37 | AC12: yes | AD12: https://ror.gov.ua/# | AE12: yes | AF12: https://sorada.gov.ua/actual/75-do-chergovoji-sesiji.html | AG12: yes | AH12: http://te-rada.org/list/?t=4&s=rada | AI12: yes | AJ12: http://oblrada.kharkov.ua/ua/press-center/news/25545-plenarne-zasidannya-pozachergovoji-sesiji-kharkivskoji-oblasnoji-radi-vidbudetsya-24-grudnya | AK12: yes | AL12: https://drive.google.com/ http://khor.gov.ua/ | AM12: yes | AN12: https://km-oblrada.gov.ua/osnovni-zaxodi/ | AO12: yes | AP12: https://www.oblradack.gov.ua/ https://www.oblradack.gov.ua/rozporyadzhennya-pro-sklikannya-sesy-oblasnoyi-radi | AQ12: yes | AR12: http://oblrada.cv.ua/news/70035/ | AS12: yes | AT12: https://chor.gov.ua/nasha-diyalnist/anonsi https://chor.gov.ua/nasha-diyalnist/anonsi/item/10695-sklykaietsia-tretia-sesiia-oblasnoi-rady-vosmoho-sklykannia
A13: Q12 | B13: Are the preparatory materials to all sessions (including agenda, draft documents for approval) published on the Regional Council website at least two days before the meeting? | C13: yes | D13: http://www.vinrada.gov.ua/proekti_rishen.htm | E13: yes | F13: http://volynrada.gov.ua/projects http://volynrada.gov.ua/actualna-informacia/proyekt-poryadku-dennogo-4-sesiyi | G13: yes | H13: https://oblrada.dp.gov.ua/category/documents/%d0%bf%d1%80%d0%be%d0%b5%d0%ba%d1%82%d0%b8-%d1%80%d1%96%d1%88%d0%b5%d0%bd%d1%8c/proeki-rishen/ | I13: no | K13: yes | L13: https://zakarpat-rada.gov.ua/category/proekty-rishennya/ | M13: yes | N13: http://zor.gov.ua/content/proekty-rishen-do-rozglyadu-na-sesiyi http://zor.gov.ua/content/arhiv-proektiv-rishen | O13: yes | P13: http://www.orada.if.ua/-/ | Q13: yes | R13: https://kor.gov.ua/robota_rady/proiekty_rishen.html | S13: no | U13: yes | V13: https://www.lvivoblrada.gov.ua/plenary-sessions/poryadok-dennii-1 https://www.lvivoblrada.gov.ua/plenary-sessions/proekti-rishen/proekti-rishen-pidgotovlenni-dlya-rozglyadu https://www.lvivoblrada.gov.ua/plenary-sessions/proekti-rishen-iniciativa/iniciativa-deputata-grupi-deputativ https://www.lvivoblrada.gov.ua/plenary-sessions/proekti-rishen-iniciativa/iniciativa-vikonavchih-organiv-vladi https://www.lvivoblrada.gov.ua/plenary-sessions/proekti-rishen-iniciativa/iniciativa-pidrozdiliv-oblasnoji-radi | W13: no | Y13: yes | Z13: http://oblrada.odessa.gov.ua/dokumenty/proekty-rishen-2/ | AA13: yes | AB13: http://oblrada-pl.gov.ua/index.php?option=com_content&view=article&id=10469&Itemid=37 https://oblrada-pl.gov.ua/index.php?option=com_content&view=category&id=102&Itemid=229 | AC13: yes | AD13: https://ror.gov.ua/# https://ror.gov.ua/proyekti-rishen-oblasnoyi-radi | AE13: yes | AF13: https://sorada.gov.ua/dokumenty-oblrady/proekty-rishen/category/68-proekty-rishen.html | AG13: yes | AH13: http://te-rada.org/document/ | AI13: yes | AJ13: https://www.ts.lica.com.ua/?type=0&base=77&menu=368065&id=317 http://oblrada.kharkov.ua/ua/public-information/protocols-of-standing-committees | AK13: yes | AL13: http://khor.gov.ua/proekty-rishen/ | AM13: yes | AN13: http://km-oblrada.gov.ua/proekti-rishen/ https://km-oblrada.gov.ua/proekti-rishen/proekti-rishen-chergovoi-pozachergovoi-sesij/ https://km-oblrada.gov.ua/proekti-rishen/proekti-rishen-radi-yaki-proponuyutsya-dlya-rozglyadu/ | AO13: yes | AP13: https://www.oblradack.gov.ua/poryadki-denn-protokol-zasdan-postynih-komsy-deputatv-viii-sklikannya https://www.oblradack.gov.ua/plenarn-zasdannya https://www.oblradack.gov.ua/materiali-chergovoyi-sesyi-oblasnoyi-radi | AQ13: yes | AR13: http://oblrada.cv.ua/document/list/section/46/ | AS13: yes | AT13: https://chor.gov.ua/normativni-dokumenti/proekti-regulyatornih-aktiv-ta-rishen
A14: Q13 | B14: Are the materials as well as minutes of the meetings and the results of roll-call votes of the Regional Council sessions published on the Regional Council website? | C14: yes | D14: http://www.vinrada.gov.ua/protokoli-ta-visnovki-21.htm | E14: yes | F14: http://volynrada.gov.ua/session http://volynrada.gov.ua/protocoltext http://volynrada.gov.ua/golos http://volynrada.gov.ua/all-solutions?calling=6&committees=All , . | G14: yes | H14: https://oblrada.dp.gov.ua/plenarn%d1%96-zas%d1%96dannja/protokoli-ses%d1%96j/ | I14: yes | J14: https://zt.gov.ua/index.php/2015-12-25-09-37-43/%D0%BF%D1%80%D0%BE%D1%82%D0%BE%D0%BA%D0%BE%D0%BB-%D1%81%D0%B5%D1%81%D1%96%D1%97.html https://zt.gov.ua/index.php/2015-12-25-09-37-43/%D0%B5%D0%BB%D0%B5%D0%BA%D1%82%D1%80%D0%BE%D0%BD%D0%BD%D0%B8%D0%B9-%D0%BF%D1%80%D0%BE%D1%82%D0%BE%D0%BA%D0%BE%D0%BB-%D0%BF%D0%BE%D1%96%D0%BC%D0%B5%D0%BD%D0%BD%D0%BE%D0%B3%D0%BE-%D0%B3%D0%BE%D0%BB%D0%BE%D1%81%D1%83%D0%B2%D0%B0%D0%BD%D0%BD%D1%8F.html | K14: yes | L14: https://zakarpat-rada.gov.ua/normatyvni-dokumenty/rishennya-rady/ | M14: yes | N14: https://zor.gov.ua/content/persha-sesiya-vosmogo-sklykannya-plenarne-zasidannya-23122020 | O14: yes | P14: http://www.orada.if.ua/ | Q14: yes | R14: https://kor.gov.ua/robota_rady/rezultaty_holosuvannia.html | S14: yes | T14: https://oblrada.kr.ua/protokoli-plenarnih-zasidan | U14: yes | V14: https://mail.lvivoblrada.gov.ua/plenary-sessions/rezultati-golosuvannya https://81.171.25.48/plenary-sessions/protokoli-sesii | W14: yes | X14: https://www.mk-oblrada.gov.ua/pishennya-oblasnoi-rady?group_id=194 | Y14: yes | Z14: http://oblrada.odessa.gov.ua/dokumenty/protokoly/ http://oblrada.odessa.gov.ua/dokumenty/rezultaty-golosuvannya/ | AA14: yes | AB14: http://oblrada-pl.gov.ua/index.php?option=com_content&view=category&id=86&Itemid=201 | AC14: yes | AD14: https://ror.gov.ua/rezultati-poimennogo-golosuvannya/rezultati-poimennogo-golosuvannya-8-sklykanna https://ror.gov.ua/protokoli-sesii-vosmogo-sklikannya-32 | AE14: yes | AF14: https://sorada.gov.ua/dokumenty-oblrady/vote-results.html https://sorada.gov.ua/dokumenty-oblrady/protokoly/protocols-commissions.html https://sorada.gov.ua/dokumenty-oblrady/section/10-protocols-presidium-sessions.html | AG14: yes | AH14: http://te-rada.org/document/ | AI14: yes | AJ14: https://www.ts.lica.com.ua/?type=0&base=77&menu=7&id=3 | AK14: yes | AL14: http://khor.gov.ua/rezultaty-rozglyadu-pytan-poryadku-dennogo-hersonskoyi-oblasnoyi-rady-vii-sklykannya/ | AM14: yes | AN14: http://km-oblrada.gov.ua/vii-sklikannya/ | AO14: yes | AP14: https://www.oblradack.gov.ua/protokoli-zasdan-postynih-komsy https://www.oblradack.gov.ua/plenarn-zasdannya | AQ14: yes | AR14: http://oblrada.cv.ua/document/list/section/99/ | AS14: yes | AT14: https://chor.gov.ua/normativni-dokumenti/protokoli-sesij), https://chor.gov.ua/normativni-dokumenti/protokoli-ta-rekomendatsiji-postijnikh-komisij) https://chor.gov.ua/normativni-dokumenti/rishennya/item/10668-rezultaty-poimennoho-holosuvannia )
A15: Q14 | B15: Are materials as well as audio/video recording of the meetings published on the Regional Council? | C15: yes | D15: http://www.vinrada.gov.ua/audio-ta-videozapis-10.htm | E15: yes | F15: http://volynrada.gov.ua/protocol http://volynrada.gov.ua/all_video https://www.youtube.com/channel/UCzXdX9qa3ZqSSILGMlwezQA | G15: yes | H15: https://oblrada.dp.gov.ua/plenarn%d1%96-zas%d1%96dannja/%d0%be%d0%bd%d0%bb%d0%b0%d0%b9%d0%bd-%d1%82%d1%80%d0%b0%d0%bd%d1%81%d0%bb%d1%8f%d1%86%d1%96%d1%8f-%d1%81%d0%b5%d1%81%d1%96%d0%b9/ https://oblrada.dp.gov.ua/plenarn%d1%96-zas%d1%96dannja/protokoli-ses%d1%96j/ https://oblrada.dp.gov.ua/plenarn-zasdannja/rezultati-pomennogo-golosuvannja/ | I15: yes | J15: https://zt.gov.ua/index.php/translyatsiya.html https://zt.gov.ua/index.php/27-%D1%81%D0%B5%D1%81%D1%96%D1%8F-08-10-2019/%D0%BF%D1%80%D0%BE%D1%82%D0%BE%D0%BA%D0%BE%D0%BB-%D1%81%D0%B5%D1%81%D1%96%D1%97.html | K15: yes | L15: https://zakarpat-rada.gov.ua/category/video/ | M15: yes | N15: https://zor.gov.ua/content/video-translyaciya-pershoyi-sesiyi-zaporizkoyi-oblasnoyi-rady-vosmogo-sklykannya-chastyna | O15: yes | P15: https://galtv.if.ua/online | Q15: no | R15: Facebook | S15: yes | T15: https://oblrada.kr.ua/videozapisi-zasidan | U15: yes | V15: https://lvivoblrada.gov.ua/news/oleksandr-ganushchin-vzyav-uchast-u-zasidanni-konsultativnoji-radi-z-pitan-miscevogo-samovryaduvannya | W15: no | X15: https://www.mk-oblrada.gov.ua/pishennya-oblasnoi-rady?group_id=187 | Y15: yes | Z15: http://oblrada.odessa.gov.ua/dokumenty/stenogramy/ | AA15: no | AC15: yes | AD15: https://ror.gov.ua/# YouTube- https://www.youtube.com/channel/UC_V-FpPFmIpqRUMFvAALFhw/featured. YouTube- . https://ror.gov.ua/protokoli-sesii-vosmogo-sklikannya-32 | AE15: yes | AF15: https://www.youtube.com/user/oblradasumy/playlists | AG15: yes | AH15: http://te-rada.org/meeting/ | AI15: yes | AJ15: http://oblrada.kharkov.ua/ua/press-center/video/332-plenarni-zasidannia-kharkivskoi-oblasnoi-rady | AK15: yes | AL15: http://khor.gov.ua/rezultaty-rozglyadu-pytan-poryadku-dennogo-hersonskoyi-oblasnoyi-rady-vii-sklykannya/ | AM15: yes | AN15: http://km-oblrada.gov.ua/videotranslyaciya-zasidan-sesij-oblasnoi-radi/ | AO15: yes | AP15: https://www.oblradack.gov.ua/vdeotranslyacya-0 | AQ15: yes | AR15: http://oblrada.cv.ua/video/ http://oblrada.cv.ua/photoreports/ | AS15: yes | AT15: https://chor.gov.ua/mediateka/videogalereya
A16: Q15 | B16: Are materials of the Regional Council standing committees published on the Regional Council website (including transcripts, audio/video recording of the meetings, minutes of the meetings and the results of roll-call votes)? | C16: partially | D16: http://www.vinrada.gov.ua/protokoli-ta-visnovki-21.htm | E16: yes | F16: http://volynrada.gov.ua/all_video https://www.youtube.com/channel/UCzXdX9qa3ZqSSILGMlwezQA http://volynrada.gov.ua/standing_committees/postiina-komisiya-z-pitan-osviti-nauki-informatsiinogo-prostoru-kulturi-ta-movi-0 | G16: yes | H16: https://oblrada.dp.gov.ua/category/komissions/komis-soc-econom/ | I16: yes | J16: https://zt.gov.ua/index.php/oblasna-rada/struktura-ta-personi/postijni-komisiji/185-postijna-komisiya-z-pitan-byudzhetu-i-komunalnoji-vlasnosti.html https://zt.gov.ua/index.php/oblasna-rada/struktura-ta-personi/postijni-komisiji.html https://zt.gov.ua/index.php/translyatsiya.html | K16: yes | L16: https://zakarpat-rada.gov.ua/oblasna-rada/postijni-komisiji/ | M16: yes | N16: https://zor.gov.ua/content/protokoly-postiynyh-komisiy-8-sklykannya https://zor.gov.ua/content/vysnovky-postiynyh-komisiy-8-sklykannya | O16: yes | P16: http://www.orada.if.ua/---/ | Q16: yes | R16: https://kor.gov.ua/robota_rady/zasidannia_komisii.html | S16: yes | T16: https://oblrada.kr.ua/protokoli-zasidan-pk | U16: yes | V16: https://lvivoblrada.gov.ua/news/konkursna-komisiya-obrala-kandidativ-na-posadi-direktoriv-troh-zakladiv-osviti https://lvivoblrada.gov.ua/public/activity/postiini-komisiji-oblasnoji-radi/protokoli-postiinih-komisii | W16: yes | X16: https://www.mk-oblrada.gov.ua/dokumenty-postiynyh-komisiy | Y16: yes | Z16: http://oblrada.odessa.gov.ua/pro-oblasnu-radu/deputatskyj-korpus/postijni-komisiyi/ | AA16: yes | AB16: https://oblrada-pl.gov.ua/index.php?option=com_content&view=category&id=104:viii-sklikannja&Itemid=130&layout=default/index.php?option=com_content&view=category&id=88:vii-sklikannja&Itemid=130&layout=default | AC16: yes | AD16: https://ror.gov.ua/# YouTube- https://www.youtube.com/channel/UC_V-FpPFmIpqRUMFvAALFhw/featured . https://ror.gov.ua/dokumenti-postijnih-komisij-8-sklikannya/postiina-komisiya-z-pitan-byudzhetu-finansiv-ta-podatkiv-1 https://ror.gov.ua/dokumenti-postijnih-komisij-8-sklikannya https://ror.gov.ua/dokumenti-postijnih-komisij-8-sklikannya/postiina-komisiya-z-pitan-byudzhetu-finansiv-ta-podatkiv-1. | AE16: yes | AF16: https://sorada.gov.ua/dokumenty-oblrady/protokoly/protocols-commissions.html | AG16: yes | AH16: http://te-rada.org/document/ | AI16: yes | AJ16: http://oblrada.kharkov.ua/ua/public-information/protocols-of-standing-committees | AK16: yes | AL16: http://khor.gov.ua/protokoly-zasidan-postijnyh-komisij-hersonskoyi-oblasnoyi-rady-vii-sklykannya-ta-vysnovky-i-rekomendatsiyi/ | AM16: yes | AN16: https://km-oblrada.gov.ua/protokoli-postiynikh-komisiy-khmelni/ | AO16: yes | AP16: https://www.oblradack.gov.ua/poryadki-denn-protokol-zasdan-postynih-komsy-deputatv-viii-sklikannya | AQ16: yes | AR16: http://oblrada.cv.ua/activity/permanent_committee/ | AS16: yes | AT16: https://chor.gov.ua/protokoli-ta-rekomendatsiji-postijnikh-komisij
A17: Q16 | B17: Are the Regional Council decisions published on the Regional Council website? | C17: yes | D17: http://www.vinrada.gov.ua/rishennya-5.htm | E17: yes | F17: http://volynrada.gov.ua/session | G17: yes | H17: https://oblrada.dp.gov.ua/category/news/ https://oblrada.dp.gov.ua/category/documents/-/proeki-rishen/ | I17: no | K17: yes | L17: https://zakarpat-rada.gov.ua/normatyvni-dokumenty/rishennya-rady/ | M17: yes | N17: https://zor.gov.ua/sessii_ta_rishenya_radi | O17: yes | P17: http://www.orada.if.ua/--/ | Q17: yes | R17: https://kor.gov.ua/robota_rady/rishennia.html | S17: yes | T17: https://oblrada.kr.ua/rishennya-oblasnoi-radi- | U17: yes | V17: https://lvivoblrada.gov.ua/plenary-sessions/rishennya-viii-sklikannya | W17: yes | X17: https://www.mk-oblrada.gov.ua/pishennya-oblasnoi-rady?group_id=194 | Y17: yes | Z17: http://oblrada.odessa.gov.ua/dokumenty/rishennya/ | AA17: yes | AB17: https://oblrada-pl.gov.ua/index.php?option=com_content&view=category&id=103&Itemid=233 | AC17: yes | AD17: https://ror.gov.ua/rishennya-oblasnoyi-radi-8-sklikannya | AE17: yes | AF17: https://sorada.gov.ua/dokumenty-oblrady/rishennja-oblasnoji-rady/8-sklykannja.html | AG17: yes | AH17: http://te-rada.org/document/ | AI17: no | AK17: yes | AL17: http://khor.gov.ua/rishennia-sesij-khersonskoi-oblasnoi-rady/ | AM17: yes | AN17: http://km-oblrada.gov.ua/rishennya-sesiy/ | AO17: yes | AP17: https://www.oblradack.gov.ua/ostanni-rishennya-sesyi | AQ17: yes | AR17: http://oblrada.cv.ua/document/list/section/84/ | AS17: yes | AT17: https://chor.gov.ua/normativni-dokumenti/rishennya/itemlist/category/231-7-sklikannya
A18: Q17 | B18: Are the regular reports on the work of the head of the Regional Council published on the Regional Council website (at least annually)? | C18: yes | D18: http://www.vinrada.gov.ua/dodatok-do-proektu-rishennya-pro-zvit-golovi-oblasnoi-radi-olijnika-ad-video.htm | E18: yes | F18: http://volynrada.gov.ua/session/31/2-1 http://volynrada.gov.ua/session/19/2-0 http://volynrada.gov.ua/session/10/3-0 | G18: no | H18: 2017 - https://oblrada.dp.gov.ua/oblasna-rada/kerivnitstvo/ | I18: no | J18: https://zt.gov.ua/index.php/news/13553-%D0%B2%D0%BE%D0%BB%D0%BE%D0%B4%D0%B8%D0%BC%D0%B8%D1%80-%D1%88%D0%B8%D1%80%D0%BC%D0%B0-%D0%B2%D1%96%D0%B4%D0%B7%D0%B2%D1%96%D1%82%D1%83%D0%B2%D0%B0%D0%B2-%D0%B7%D0%B0-%D0%B2%D0%B8%D0%BA%D0%BE%D0%BD%D0%B0%D0%BD%D1%83-%D1%80%D0%BE%D0%B1%D0%BE%D1%82%D1%83-%D1%83-2018-%D1%80%D0%BE%D1%86%D1%96.html | K18: yes | L18: https://zakarpat-rada.gov.ua/normatyvni-dokumenty/rishennya-rady/vii-sklykannya/xvii-sesiya-20-12-2019/ | M18: partially | N18: http://zor.gov.ua/sites/default/files/rishennya/07_22_28.zip | O18: yes | P18: http://www.orada.if.ua/-/-/ https://orada.if.ua/%d0%b7%d0%b2%d1%96%d1%82-%d0%b3%d0%be%d0%bb%d0%be%d0%b2%d0%b8-%d0%be%d0%b1%d0%bb%d0%b0%d1%81%d0%bd%d0%be%d1%97-%d1%80%d0%b0%d0%b4%d0%b8-%d1%81%d1%8c%d0%be%d0%bc%d0%be%d0%b3%d0%be-%d0%b4/ | Q18: no | S18: yes | T18: https://oblrada.kr.ua/rishennya-oblasnoi-radi- | U18: yes | V18: https://lvivoblrada.gov.ua/news/oleksandr-ganushchin-prozvituvav-pered-zhurnalistami-pro-chetvertii-rik-roboti-na-posadi-golovi-oblasnoji-radi | W18: yes | X18: https://www.mk-oblrada.gov.ua/news.php?news=2559&group=20 | Y18: yes | Z18: http://oblrada.odessa.gov.ua/pro-oblasnu-radu/deputatskyj-korpus/zvity/ | AA18: yes | AB18: https://oblrada-pl.gov.ua/index.php?option=com_content&view=article&id=12659&Itemid=234 | AC18: yes | AD18: https://ror.gov.ua/?s=%D0%B7%D0%B2%D1%96%D1%82+%D0%B3%D0%BE%D0%BB%D0%BE%D0%B2%D0%B8 | AE18: no | AG18: yes | AH18: http://te-rada.org/list/?type=view&id=12508 | AI18: partially | AJ18: http://www.oblrada.kharkov.ua/ua/component/content/article/199-press-center/speech-all/18999-kharkivska-oblasna-rada-na-plenarnomu-zasidanni-skhvalila-zvit-golovi-oblasnoji-radi-sergiya-chernova-pro-svoyu-diyalnist?Itemid=1319 | AK18: no | AM18: yes | AN18: https://km-oblrada.gov.ua/golova-oblderzhadministracii-vadim-l/ | AO18: yes | AP18: https://www.oblradack.gov.ua/ostanni-rishennya-sesyi | AQ18: yes | AR18: http://oblrada.cv.ua/document/list/section/29/ | AS18: yes | AT18: https://chor.gov.ua/nasha-diyalnist/publikatsiji/item/7940-cherez-strukturne-reformuvannia-ta-detsentralizatsiiu-vlady-do-ek
A19: Q18 | B19: Are the reports on the processing of requests for public information published periodically (at least annually) on the Regional Council website? | C19: yes | D19: https://vinrada.gov.ua/2020-rik-9486.htm | E19: yes | F19: http://volynrada.gov.ua/node/26153 | G19: yes | H19: https://oblrada.dp.gov.ua/publichna-informatsia/ | I19: yes | J19: https://zt.gov.ua/index.php/ofitsijni-dokumenti/dostup-do-publichnoji-informatsiji/2012-09-24-21-09-36.html | K19: yes | L19: https://zakarpat-rada.gov.ua/normatyvni-dokumenty/publichna-informatsija/ | M19: yes | N19: http://zor.gov.ua/content/dostup-do-publichnoyi-informaciyi | O19: yes | P19: https://orada.if.ua/%d0%bf%d1%83%d0%b1%d0%bb%d1%96%d1%87%d0%bd%d0%b0-%d1%96%d0%bd%d1%84%d0%be%d1%80%d0%bc%d0%b0%d1%86%d1%96%d1%8f/%d0%b7%d0%b2%d1%96%d1%82%d0%b8-%d0%bf%d1%80%d0%be-%d0%b2%d0%b8%d0%ba%d0%be%d0%bd%d0%b0%d0%bd%d0%bd%d1%8f-%d0%b7%d0%b0%d0%bf%d0%b8%d1%82%d1%96%d0%b2-%d0%bd%d0%b0-%d0%bf%d1%83%d0%b1%d0%bb%d1%96%d1%87/ | Q19: yes | R19: https://kor.gov.ua/robota_rady/publichna_informatsiia.html | S19: yes | T19: https://oblrada.kr.ua/zvit-pro-rozglyad-zapitiv-pro-dostup-do-publichnoi-informatsii | U19: yes | V19: https://mail.lvivoblrada.gov.ua/the-public-information/zviti-1 | W19: partially | X19: https://www.mk-oblrada.gov.ua/zvity-pro-robotu-iz-zapytamy-na-informatsiyu | Y19: yes | Z19: http://oblrada.odessa.gov.ua/zvernennya-gromadyan/statyctychni-dani/ | AA19: yes | AB19: http://oblrada-pl.gov.ua/index.php?option=com_content&view=category&layout=blog&id=96&Itemid=217 | AC19: yes | AD19: https://ror.gov.ua/zvit-pro-robotu-iz-zapitami-na-publichnu-informaciyu | AE19: yes | AF19: https://sorada.gov.ua/pub-info-dostup/4005-pub-info-zvit.html | AG19: yes | AH19: http://te-rada.org/list/?t=25&s=rada | AI19: yes | AJ19: http://oblrada.kharkov.ua/ua/public-information/vidkryti-dani/zvity-u-tomu-chysli-shchodo-zadovolennia-zapytiv-na-informatsiiu | AK19: yes | AL19: http://khor.gov.ua/dostup-do-publichnoyi-informatsiyi/ | AM19: yes | AN19: http://km-oblrada.gov.ua/zviti-shhodo-zadovolennya-zapitiv-na-inf/ | AO19: yes | AP19: https://www.oblradack.gov.ua/rozdl-zvti | AQ19: yes | AR19: http://oblrada.cv.ua/document/pub_info/ | AS19: yes | AT19: https://chor.gov.ua/zv-yazki-z-gromadskistyu/item/113-zviti
A20: Q19 | B20: Is the information on the approved socio-economic and cultural development programs, target programs, as well as reports on their implementation published on the Regional Council website? | C20: yes | D20: http://www.vinrada.gov.ua/perelik_dovgostrokovih_program.htm http://www.vinrada.gov.ua/zvit_pro_vikonannya_zahodiv_oblasnih_program.htm | E20: yes | F20: http://volynrada.gov.ua/node/29409 http://volynrada.gov.ua/programs | G20: yes | H20: https://oblrada.dp.gov.ua/category/region/sots-ekonom/ | I20: yes | J20: https://zt.gov.ua/index.php/ofitsijni-dokumenti/%D0%BE%D0%B1%D0%BB%D0%B0%D1%81%D0%BD%D1%96-%D0%BF%D1%80%D0%BE%D0%B3%D1%80%D0%B0%D0%BC%D0%B8/%D0%BF%D0%B5%D1%80%D0%B5%D0%BB%D1%96%D0%BA-%D0%BE%D0%B1%D0%BB%D0%B0%D1%81%D0%BD%D0%B8%D1%85-%D0%BF%D1%80%D0%BE%D0%B3%D1%80%D0%B0%D0%BC.html https://zt.gov.ua/index.php/ofitsijni-dokumenti/normativni-dokumenti/rishennya-oblasnoji-radi/16482-%E2%84%96-15-%D0%BF%D1%80%D0%BE-%D0%BF%D1%80%D0%BE%D0%B3%D1%80%D0%B0%D0%BC%D1%83-%D0%B5%D0%BA%D0%BE%D0%BD%D0%BE%D0%BC%D1%96%D1%87%D0%BD%D0%BE%D0%B3%D0%BE-%D1%96-%D1%81%D0%BE%D1%86%D1%96%D0%B0%D0%BB%D1%8C%D0%BD%D0%BE%D0%B3%D0%BE-%D1%80%D0%BE%D0%B7%D0%B2%D0%B8%D1%82%D0%BA%D1%83-%D0%B6%D0%B8%D1%82%D0%BE%D0%BC%D0%B8%D1%80%D1%81%D1%8C%D0%BA%D0%BE%D1%97-%D0%BE%D0%B1%D0%BB%D0%B0%D1%81%D1%82%D1%96-%D0%BD%D0%B0-2021-%D1%80%D1%96%D0%BA.html https://zt.gov.ua/index.php/ofitsijni-dokumenti/%D0%BE%D0%B1%D0%BB%D0%B0%D1%81%D0%BD%D1%96-%D0%BF%D1%80%D0%BE%D0%B3%D1%80%D0%B0%D0%BC%D0%B8/%D1%85%D1%96%D0%B4-%D0%B2%D0%B8%D0%BA%D0%BE%D0%BD%D0%B0%D0%BD%D0%BD%D1%8F-%D0%BE%D0%B1%D0%BB%D0%B0%D1%81%D0%BD%D0%B8%D1%85-%D0%BF%D1%80%D0%BE%D0%B3%D1%80%D0%B0%D0%BC.html | K20: yes | L20: https://zakarpat-rada.gov.ua/normatyvni-dokumenty/rishennya-rady/ | M20: yes | N20: http://zor.gov.ua/content/perelik-naboriv-danyh-shcho-pidlyagayut-oprylyudnennyu-u-formi-vidkrytyh-danyh | O20: yes | P20: https://orada.if.ua/question/%d0%bf%d1%80%d0%be-%d0%b2%d0%b8%d0%ba%d0%be%d0%bd%d0%b0%d0%bd%d0%bd%d1%8f-%d0%bf%d1%80%d0%be%d0%b3%d1%80%d0%b0%d0%bc%d0%b8-%d1%81%d0%be%d1%86%d1%96%d0%b0%d0%bb%d1%8c%d0%bd%d0%be-%d0%b5%d0%ba%d0%be-4/ | Q20: yes | R20: https://kor.gov.ua/robota_rady/rishennia/pro_zatverdzhennia_prohramy_sotsialno-ekonomichnoho_ta_kulturnoho_rozvytku_kyivskoi_oblasti_na_2020_rik.html | S20: yes | T20: https://oblrada.kr.ua/diyuchi-oblasni-programi | U20: yes | V20: https://mail.lvivoblrada.gov.ua/pidsumkovi-zviti-2016-2020-rokiv | W20: yes | X20: https://www.mk-oblrada.gov.ua/oblasni-programy | Y20: yes | Z20: http://oblrada.odessa.gov.ua/odeska-oblast/strategichni-ta-programni-dokumenty-oblasti/perelik-diyuchyh-regionalnyh-tsilovyh-ta-kompleksnyh-program-odeskoyi-oblasti/ | AA20: no | AC20: yes | AD20: https://ror.gov.ua/priiom-gromadyan | AE20: yes | AF20: https://sorada.gov.ua/dokumenty-oblrady/rishennja-oblasnoji-rady/7-sklykannja/category/194-rishennja-26-sesiji-22022019.html | AG20: yes | AH20: http://te-rada.org/?id=300 | AI20: no | AK20: yes | AL20: http://khor.gov.ua/regionalni-tsilovi-programy/ | AM20: yes | AN20: https://km-oblrada.gov.ua/program-of-socio-economic/ | AO20: yes | AP20: https://www.oblradack.gov.ua/oblasn-programi (https://www.oblradack.gov.ua/materiali-chergovoyi-sesyi-oblasnoyi-radi); https://www.oblradack.gov.ua/ostanni-rishennya-sesyi | AQ20: yes | AR20: http://oblrada.cv.ua/ 2020 http://oblrada.cv.ua/document/list/section/51/ | AS20: yes | AT20: https://chor.gov.ua/oblasni-programi/item/6525-chynni-oblasni-prohramy-zizminamy https://chor.gov.ua/component/k2/item/10711-pro-zatverdzhennia-tsilovoi-sotsialnoi-prohramy-rozvytku-tsyvilno
A21: Q20 | B21: Is the basic information about the region published on the Regional Council website (administrative-territorial structure, culture, nature, etc.)? | C21: yes | D21: https://vinrada.gov.ua/pasport_oblasti.htm https://vinrada.gov.ua/%D0%86storiya_vinnichinni.htm | E21: yes | F21: http://volynrada.gov.ua/general-information | G21: yes | H21: https://oblrada.dp.gov.ua/region/passport-oblasti/ | I21: yes | J21: https://zt.gov.ua/index.php/oblasna-rada/istoriya-diyalnosti/z-istoriji-oblasnoji-radi.html | K21: yes | L21: https://zakarpat-rada.gov.ua/zakarpattya/ | M21: yes | N21: http://zor.gov.ua/zap-krai | O21: yes | P21: https://orada.if.ua/%d0%bf%d1%80%d0%b8%d0%ba%d0%b0%d1%80%d0%bf%d0%b0%d1%82%d1%82%d1%8f/%d1%96%d1%81%d1%82%d0%be%d1%80%d0%b8%d1%87%d0%bd%d0%b0-%d0%b4%d0%be%d0%b2%d1%96%d0%b4%d0%ba%d0%b0/ https://orada.if.ua/%d0%bf%d1%80%d0%b8%d0%ba%d0%b0%d1%80%d0%bf%d0%b0%d1%82%d1%82%d1%8f/%d0%ba%d0%b0%d1%80%d1%82%d0%b0-%d0%be%d0%b1%d0%bb%d0%b0%d1%81%d1%82%d1%96/ | Q21: yes | R21: https://kor.gov.ua/kyivska_oblast/pro_oblast.html | S21: yes | T21: https://oblrada.kr.ua/administrativno-teritorialnij-ustrij | U21: yes | V21: https://lvivoblrada.gov.ua/about-the-council/asociaciya-radi-lvivshchini/%D0%BF%D0%B0%D1%81%D0%BF%D0%BE%D1%80%D1%82_%D0%BB%D1%8C%D0%B2%D1%96%D0%B2%D1%81%D1%8C%D0%BA%D0%BE%D1%97_%D0%BE%D0%B1%D0%BB%D0%B0%D1%81%D1%82%D1%96_394cms.htm | W21: yes | X21: https://www.mk-oblrada.gov.ua/pro-oblast | Y21: yes | Z21: http://oblrada.odessa.gov.ua/odeska-oblast/pasport-oblasti/ http://oblrada.odessa.gov.ua/odeska-oblast/administratyvno-terytorialnij-ustrij/ | AA21: yes | AB21: http://oblrada-pl.gov.ua/index.php?option=com_content&view=category&id=43&Itemid=79 | AC21: yes | AD21: https://ror.gov.ua/rivnemap https://ror.gov.ua/istoriya-miscevogo-samovryaduvannya-rivnenshini | AE21: yes | AF21: https://sorada.gov.ua/pro-sumsku-oblast.html | AG21: yes | AH21: http://te-rada.org/?id=45 | AI21: yes | AJ21: http://www.oblrada.kharkov.ua/ua/kharkiv-region | AK21: no | AL21: uk.wikipedia.org/wiki/ | AM21: yes | AN21: http://km-oblrada.gov.ua/xmelnicka-oblast/ https://km-oblrada.gov.ua/istorichna-dovidka-pro-diyalnist-obl/ | AO21: yes | AP21: https://www.oblradack.gov.ua/geografichne-pologennja https://www.oblradack.gov.ua/istoria https://www.oblradack.gov.ua/symvolika https://www.oblradack.gov.ua/naselennja https://www.oblradack.gov.ua/administratyvno-teretorialnij-ustrij https://www.oblradack.gov.ua/istorychni-ta-kulturni-obekty | AQ21: yes | AR21: http://oblrada.cv.ua/passport/ | AS21: yes | AT21: https://chor.gov.ua/nash-kray/administrativno-teritorialniy-ustriy ; https://chor.gov.ua/nash-kray/istoriya ; https://chor.gov.ua/nash-kray/vidatni-osobistosti
A22: Q21 | B22: Is the procedure for the public access to the Regional Council sessions published in the user-friendly access on the Regional Council website? | C22: yes | D22: https://vinrada.gov.ua/poryadok-dostupu-do-sesijnoi-zali.htm | E22: yes | F22: http://volynrada.gov.ua/node/44694 | G22: yes | H22: https://oblrada.dp.gov.ua/plenarn%d1%96-zas%d1%96dannja/ | I22: no | K22: yes | L22: https://zakarpat-rada.gov.ua/category/rozporyadzhennya/page/3/ | M22: no | O22: yes | P22: https://orada.if.ua/%d0%bf%d1%80%d0%be-%d1%81%d0%ba%d0%bb%d0%b8%d0%ba%d0%b0%d0%bd%d0%bd%d1%8f-%d0%b4%d1%80%d1%83%d0%b3%d0%be%d1%97-%d1%81%d0%b5%d1%81%d1%96%d1%97-%d0%be%d0%b1%d0%bb%d0%b0%d1%81%d0%bd%d0%be%d1%97-%d1%80/ | Q22: yes | R22: https://kor.gov.ua/pres-tsentr/akredytatsiia%20_predstavnykiv_zmi.html https://kor.gov.ua/pres-tsentr/akredytatsiia_predstavnykiv_zmi.html | S22: no | U22: no | W22: no | Y22: yes | Z22: http://oblrada.odessa.gov.ua/wp-content/uploads/Pravyla-propusknogo-rezhymu-2017-.pdf | AA22: no | AC22: yes | AD22: https://ror.gov.ua/plan-kalendar | AE22: yes | AF22: https://sorada.gov.ua/pro-oblasnu-radu/reglament-roboty-oblasnoji-rady.html | AG22: yes | AH22: http://te-rada.org/list/?t=4&s=rada | AI22: yes | AJ22: http://www.oblrada.kharkov.ua/ua/about-rada/regulations http://www.oblrada.kharkov.ua/ua/press-center/anonsy/anonsy-all/25806-plan-osnovnikh-zakhodiv-kharkivskoji-oblasnoji-radi-ta-jiji-vikonavchogo-aparatu-z-08-po-14-lyutogo-2021-roku | AK22: yes | AL22: https://drive.google.com/file/d/1keBkE66EwpiW7cSHfJSU67xTKRPF6ckn/view | AM22: yes | AN22: http://km-oblrada.gov.ua/dostup-do-publichnoi-informacii/ | AO22: yes | AP22: https://www.oblradack.gov.ua/reglament-oblasnoyi-radi | AQ22: yes | AR22: http://oblrada.cv.ua/document/list/section/46/ | AS22: yes | AT22: https://chor.gov.ua/normativni-dokumenti/reglament; https://chor.gov.ua/nasha-diyalnist/anonsi/item/7582-nahaduiemo-pro-poriadok-dostupu-osib-do-plenarnykh-zasidan-cherni
A23: Q22 | B23: Is there an instrument allowing the public to submit, track and sign electronic petitions to the Regional Council on the Regional Council website? | C23: yes | D23: https://vinrada.gov.ua/elektronni-peticii.htm | E23: yes | F23: https://petition.e-dem.ua/volyn-or/petition/All | G23: yes | H23: https://oblrada.dp.gov.ua/electronni-petisii/ | I23: yes | J23: https://petition.e-dem.ua/zhytomyr | K23: no | M23: yes | N23: http://petition.zor.gov.ua | O23: no | P23: https://e-dem.in.ua/ivano-frankivsk-or | Q23: yes | R23: https://petition.kor.gov.ua/ | S23: yes | T23: https://oblrada.kr.ua/elektronna-petitsiya | U23: yes | V23: https://petition.e-dem.ua/lviv-or | W23: yes | X23: https://petition.e-dem.ua/mykolayiv-or | Y23: no | AA23: yes | AB23: https://petition.e-dem.ua/poltava-or | AC23: yes | AD23: https://ror.gov.ua/petycia | AE23: yes | AF23: https://sorada.gov.ua/pro-oblasnu-radu/34-about-sumy-oblast-council/17392-petitions.html | AG23: yes | AH23: http://petition.te-rada.org/petition | AI23: yes | AJ23: http://www.oblrada.kharkov.ua/petitions/ | AK23: yes | AL23: http://petition.khor.gov.ua/ | AM23: yes | AN23: https://km-oblrada.gov.ua/peticii/ | AO23: yes | AP23: https://pt.oblradack.gov.ua/ | AQ23: yes | AR23: http://oblrada.cv.ua/petitions/ | AS23: no | AT23: https://e-dem.in.ua/chernihiv-or/
A24: Q23 | B24: Are the conditions for providing grants and funding of business projects from the regional budget to the regional residents published on the Regional Council website? | C24: yes | D24: https://vinrada.gov.ua/ogoloshennya-86.htm | E24: yes | F24: http://volynrada.gov.ua/actualna-informacia/konkurs-mistsevikh-initsiativ | G24: yes | H24: https://oblrada.dp.gov.ua/category/diyalnist/konkursy/ | I24: no | K24: no | M24: no | O24: yes | P24: http://www.orada.if.ua/----/ | Q24: yes | R24: https://kor.gov.ua/pres-tsentr/novyny.html | S24: no | U24: no | W24: no | Y24: yes | Z24: http://oblrada.odessa.gov.ua/pro-oblasnu-radu/do-vidoma-gromady/ | AA24: yes | AB24: https://oblrada-pl.gov.ua/index.php?option=com_content&view=article&id=9759&Itemid=213 https://oblrada-pl.gov.ua/index.php?option=com_content&view=article&id=9758&Itemid=212 | AC24: yes | AD24: https://ror.gov.ua/konkursi-i-proekti | AE24: yes | AF24: https://sorada.gov.ua/grants.html | AG24: no | AI24: yes | AJ24: http://oblrada.kharkov.ua/ua/contests-grants | AK24: yes | AL24: http://khor.gov.ua/oblasnyj-konkurs-proektiv-rozvytku/ | AM24: yes | AN24: https://km-oblrada.gov.ua/premii-oblasnoi-radi/ | AO24: partially | AP24: https://www.oblradack.gov.ua/konkursi-ta-zmagannya | AQ24: yes | AR24: http://oblrada.cv.ua/news/69208/ | AS24: yes | AT24: https://chor.gov.ua/oblasnij-konkurs-zhurnalistskikh-robit
A25: Q24 | B25: Is the information on the given grants and business projects financed from the regional budget published on the Regional Council website? | C25: yes | D25: https://vinrada.gov.ua/peremozhci-6.htm https://vinrada.gov.ua/konkurs-vinnickoi-oblasnoi-radi-komfortni-gromadi.htm | E25: yes | F25: http://www.volynrada.gov.ua/news/reiting-proektiv-mistsevikh-initsiativ-konkursu-volinskoyi-oblasnoyi-radi | G25: no | H25: https://oblrada.dp.gov.ua/news/%d0%be%d0%b1%d0%bb%d0%b0%d1%81%d0%bd%d0%b0-%d1%80%d0%b0%d0%b4%d0%b0-%d0%be%d0%b3%d0%be%d0%bb%d0%be%d1%88%d1%83%d1%94-%d0%ba%d0%be%d0%bd%d0%ba%d1%83%d1%80%d1%81-%d0%b4%d0%bb%d1%8f-%d0%b3%d1%80%d0%be/ | I25: no | K25: no | M25: no | O25: no | Q25: yes | R25: https://kor.gov.ua/pres-tsentr/novyny.html | S25: no | U25: no | W25: no | Y25: no | AA25: yes | AB25: http://oblrada-pl.gov.ua/grant/grant010618.pdf | AC25: yes | AD25: https://ror.gov.ua/konkursi-i-proekti | AE25: yes | AF25: https://sorada.gov.ua/grants.html | AG25: no | AI25: yes | AJ25: http://www.oblrada.kharkov.ua/ua/contests-grants | AK25: no | AL25: http://khor.gov.ua/oblasnyj-konkurs-proektiv-gromadskyh-organizatsij/ | AM25: yes | AN25: https://km-oblrada.gov.ua/v-agencziyi-regionalnogo-rozvytku-hmelnyczkoyi-oblasti-obraly-peremozhcziv-konkursu-idej/ | AO25: no | AQ25: no | AS25: yes | AT25: https://chor.gov.ua/oblasnij-konkurs-zhurnalistskikh-robit https://chor.gov.ua/nasha-diyalnist/anonsi/item/10158-v-oblasnii-radi-vidbudetsia-vruchennia-premii-imeni-sofii-rusovoi
A26: Q25 | B26: Is the information on the completed and ongoing projects with foreign funding, implemented in the region (grant projects, international technical assistance projects), including reports on their implementation published on the Regional Council website? | C26: no | E26: yes | F26: http://volynrada.gov.ua/design | G26: no | I26: no | K26: no | M26: no | O26: no | Q26: yes | R26: https://kor.gov.ua/pres-tsentr/novyny.html | S26: no | U26: yes | V26: https://lvivoblrada.gov.ua/news | W26: no | Y26: yes | Z26: http://oblrada.odessa.gov.ua/pro-oblasnu-radu/napryamky-diyalnosti/mizhnarodna-diyalnist-ta-prykordonne-spivrobitnytstvo/ | AA26: no | AC26: yes | AD26: https://ror.gov.ua/upload/content/2020/September/ykR2Ythl.pdf https://ror.gov.ua/zviti-pro-vikonannya-oblasnih-program | AE26: yes | AF26: https://sorada.gov.ua/grants.html | AG26: no | AI26: yes | AJ26: https://hromadahealthcare.org/pro-proekt-efektivna-pervinna-medecina-v-gromady/ http://oblrada.kharkov.ua/ua/contests-grants/konkurs-efektyvna-pervynna-medytsyna-v-hromadi | AK26: no | AM26: yes | AO26: no | AQ26: yes | AS26: no
A27: Q26 | B27: Is the information on the open educational and cultural competitions for participation of youth and citizens published on the Regional Council website? | C27: yes | D27: https://vinrada.gov.ua/konkurs-vinnickoi-oblasnoi-radi-komfortni-gromadi.htm | E27: yes | F27: http://volynrada.gov.ua/awards/polozhennya-pro-oblasni-premiyi-za-zaslugi-u-sferi-nauki-i-osviti http://volynrada.gov.ua/awards/polozhennya-pro-poryadok-provedennya-konkursu-oblasnoyi-radi-sered-oblasnikh-raionnikh-miskik | G27: no | I27: yes | J27: https://zt.gov.ua/index.php/news.html | K27: yes | L27: https://zakarpat-rada.gov.ua/category/news/ | M27: yes | N27: http://www.zor.gov.ua/content/zaporizka-oblasna-rada-dlya-studentiv https://www.zor.gov.ua/content/spravzhnih-kozakiv-ne-spynyty-zaporizhci-provely-dystanciynyy-festyval-konkurs-vertepiv | O27: yes | P27: https://orada.if.ua/%d0%ba%d0%be%d0%bd%d0%ba%d1%83%d1%80%d1%81-%d1%96%d0%bd%d1%81%d1%82%d0%b8%d1%82%d1%83%d1%82%d1%96%d0%b2-%d0%b3%d1%80%d0%be%d0%bc%d0%b0%d0%b4%d1%8f%d0%bd%d1%81%d1%8c%d0%ba%d0%be%d0%b3%d0%be-%d1%81/ | Q27: yes | R27: https://kor.gov.ua/pres-tsentr/novyny.html | S27: yes | T27: https://www.oblrada.kr.ua/importance/ogoloshuetsya-konkurs-na-zdobuttya-oblasnoi-literaturnoi-premii-imeni-evgena-malanyuka | U27: no | W27: yes | X27: https://www.mk-oblrada.gov.ua/konkursy-ta-proekty | Y27: yes | Z27: http://oblrada.odessa.gov.ua/pro-oblasnu-radu/konkursy-ta-nagorody/ | AA27: yes | AB27: http://oblrada-pl.gov.ua/index.php?option=com_content&view=article&id=10234&Itemid=218 | AC27: yes | AD27: https://rivnerayrada.rv.ua/samovryaduvannya/konkursu-proektu | AE27: yes | AF27: https://sorada.gov.ua/grants.html | AG27: no | AI27: yes | AJ27: http://www.oblrada.kharkov.ua/ua/contests-grants | AK27: yes | AL27: http://khor.gov.ua/oblasnyj-konkurs-proektiv-gromadskyh-organizatsij/ | AM27: yes | AN27: http://km-oblrada.gov.ua/premii-oblasnoi-radi/ | AO27: no | AQ27: no | AS27: yes | AT27: https://chor.gov.ua/nasha-diyalnist/anonsi https://chor.gov.ua/nasha-diyalnist/anonsi/item/8707-uvaha-rozpochalasia-robota-po-pidhotovtsi-konkursu-festyvaliu-dyt ; https://chor.gov.ua/nasha-diyalnist/anonsi/item/8439-studentiv-vyshiv-chernihivshchyny-zaproshuiut-vsiaty-uchast-u-vse
A28: Q27 | B28: Is there a separate section in English on the Regional Council website, where the foreigners may find postal contact details, phone numbers of the Regional Council management in specific fields and the head of the Regional Council? | C28: yes | E28: no | G28: yes | H28: https://oblrada.dp.gov.ua/en/ | I28: no | K28: no | M28: yes | N28: Google translator | O28: yes | P28: http://www.orada.if.ua/en/regional-council/contacts/ | Q28: no | S28: no | U28: no | W28: no | Y28: no | AA28: no | AC28: yes | AD28: https://ror.gov.ua/struktura http://www.oblrada.rv.ua/sklad_struktura/vikonavchiy_aparat/ http://www.oblrada.rv.ua/mistseve_samovryaduvannya/pasport_oblasti/index.php?SECTION_ID=92&ELEMENT_ID=10016 | AE28: yes | AF28: Google translate | AG28: yes | AI28: yes | AJ28: http://www.oblrada.kharkov.ua/en/ | AK28: no | AM28: no | AO28: no | AQ28: no | AS28: partially | AT28: https://chor.gov.ua/oblasna-rada/kontakti
A29: Q28 | B29: Is the Regional Council procurement plan for the current period published on the Regional Council website? | C29: yes | D29: https://vinrada.gov.ua/richnij-plan-zakupivel-na-2020-rik.htm | E29: no | F29: http://volynrada.gov.ua/procurement | G29: yes | H29: https://oblrada.dp.gov.ua/category/diyalnist/richni-plani-zakupivel/ | I29: no | K29: no | M29: yes | N29: http://zor.gov.ua/content/derzhavni-zakupivli | O29: no | Q29: no | S29: yes | T29: https://www.oblrada.kr.ua/konkursni-torgi | U29: no | W29: no | Y29: yes | Z29: http://oblrada.odessa.gov.ua/pro-oblasnu-radu/derzhavni-zakupivli/odeska-oblasna-rada/ | AA29: yes | AB29: https://oblrada-pl.gov.ua/index.php?option=com_content&view=category&layout=blog&id=37&Itemid=65 | AC29: yes | AD29: https://ror.gov.ua/zakupivli-ta-vikoristannya-byudzhetnih-koshtiv | AE29: yes | AF29: https://sorada.gov.ua/derzhavni-zakupivli.html | AG29: partially | AH29: http://te-rada.org/list/?t=35&s=rada | AI29: yes | AJ29: http://www.oblrada.kharkov.ua/ua/component/content/article/316-richnyi-plan-zakupivel/23472-richnij-plan-zakupivel-na-2020-rik?Itemid=1319 | AK29: no | AM29: no | AO29: no | AQ29: no | AS29: no
A30: Q29 | B30: Are the procurement plans for 2014, 2015, 2016 published on the Regional Council website? | C30: partially | D30: https://vinrada.gov.ua/richnij-plan-zakupivel-na-2019-rik.htm | E30: yes | F30: http://volynrada.gov.ua/procurement | G30: yes | H30: https://oblrada.dp.gov.ua/category/diyalnist/richni-plani-zakupivel/ | I30: no | K30: no | M30: yes | N30: https://www.dzo.com.ua/companies/18061 | O30: no | Q30: no | S30: yes | T30: https://www.oblrada.kr.ua/konkursni-torgi | U30: no | W30: yes | X30: https://prozorro.gov.ua/tender/search?query=25696652 | Y30: yes | Z30: http://oblrada.odessa.gov.ua/pro-oblasnu-radu/derzhavni-zakupivli/odeska-oblasna-rada/ | AA30: yes | AB30: https://oblrada-pl.gov.ua/index.php?option=com_content&view=category&layout=blog&id=37&Itemid=65 | AC30: yes | AD30: https://ror.gov.ua/zakupivli-ta-vikoristannya-byudzhetnih-koshtiv | AE30: yes | AF30: https://sorada.gov.ua/derzhavni-zakupivli.html | AG30: yes | AI30: yes | AJ30: http://www.oblrada.kharkov.ua/ua/component/content/article/166-ukraine/documents/derzhavni-zakupivli/14990-richnij-plan-zakupivel-na-2016-rik-iz-zminami?Itemid=1319 | AK30: no | AM30: no | AN30: ProZorro | AO30: no | AQ30: yes | AR30: http://oblrada.cv.ua/activity/purchases/ | AS30: yes | AT30: https://chor.gov.ua/oblasna-rada/derzhavni-zakupivli
A31: Q30 | B31: Is there a separate section on the Regional Council website containing publication of information on the Regional Council procurements, including notifications on the planned Regional Council procurements? | C31: yes | D31: https://vinrada.gov.ua/richnij-plan-zakupivel-na-2020-rik.htm | E31: yes | F31: http://volynrada.gov.ua/procurement | G31: yes | H31: https://oblrada.dp.gov.ua/category/diyalnist/richni-plani-zakupivel/ | I31: no | K31: no | M31: yes | N31: https://www.dzo.com.ua/companies/18061 | O31: no | Q31: no | S31: yes | T31: https://www.oblrada.kr.ua/konkursni-torgi | U31: yes | V31: https://prozorro.gov.ua/tender/search?edrpou=25255072&edrpou=22340506 | W31: yes | X31: https://www.mk-oblrada.gov.ua/publichni-zakupivli-475cms.htm https://prozorro.gov.ua/tender/search?query=25696652 | Y31: yes | Z31: http://oblrada.odessa.gov.ua/pro-oblasnu-radu/derzhavni-zakupivli/odeska-oblasna-rada/ | AA31: yes | AB31: http://oblrada-pl.gov.ua/index.php?option=com_content&view=category&layout=blog&id=37&Itemid=65 | AC31: yes | AD31: https://ror.gov.ua/zakupivli-ta-vikoristannya-byudzhetnih-koshtiv | AE31: yes | AF31: https://sorada.gov.ua/derzhavni-zakupivli.html | AG31: yes | AH31: http://te-rada.org/list/?t=35&s=rada | AI31: yes | AJ31: http://www.oblrada.kharkov.ua/ua/public-information/vidkryti-dani/richnyi-plan-zakupivel | AK31: yes | AL31: http://khor.gov.ua/zakupivli-tovariv-robit-ta-poslug-za-derzhavni-koshty/ | AM31: yes | AN31: http://km-oblrada.gov.ua/derzhavni-zakupivli-orenda/plan-provedennya-zakupivel-tovariv-robit-poslug-za-byudzhetni-koshti/ | AO31: no | AQ31: no | AS31: no
A32: Q31 | B32: Is the information on the completed Regional Council procurements published in the respective section (type of procurement, date, price, candidates, their proposals, minutes of meetings of the Commission)? | C32: yes | D32: https://vinrada.gov.ua/2020-rik-2.htm | E32: partially | F32: https://data.gov.ua/dataset/5b6e5877-fc2d-4644-9da8-f880b80e009f/resource/fc209f82-819e-4f72-b940-76e1890b7488 | G32: yes | H32: https://oblrada.dp.gov.ua/category/diyalnist/richni-plani-zakupivel/ | I32: no | K32: no | M32: yes | N32: http://zor.gov.ua https://www.dzo.com.ua/companies/18061 | O32: no | Q32: no | S32: yes | T32: https://www.oblrada.kr.ua/konkursni-torgi | U32: yes | V32: https://prozorro.gov.ua/tender/search?edrpou=25255072&edrpou=22340506 | W32: yes | X32: https://prozorro.gov.ua/tender/search?query=25696652 | Y32: yes | Z32: http://oblrada.odessa.gov.ua/pro-oblasnu-radu/derzhavni-zakupivli/odeska-oblasna-rada/ | AA32: yes | AB32: http://oblrada-pl.gov.ua/index.php?option=com_content&view=category&layout=blog&id=37&Itemid=66 | AC32: yes | AD32: https://ror.gov.ua/zakupivli-ta-vikoristannya-byudzhetnih-koshtiv | AE32: yes | AF32: https://sorada.gov.ua/derzhavni-zakupivli.html https://sorada.gov.ua/opendata.html | AG32: yes | AH32: http://te-rada.org/?id=70 http://te-rada.org/list/?type=view&id=13293 | AI32: partially | AJ32: http://www.oblrada.kharkov.ua/ua/public-information/vidkryti-dani/richnyi-plan-zakupivel | AK32: no | AM32: yes | AN32: https://km-oblrada.gov.ua/nashi-zakupivli/ | AO32: no | AQ32: no | AS32: no
A33: Q32 | B33: Are all the contracts and the amendments thereto published on the Regional Council website on a regular basis (providing hyperlinks between contracts, invoices and amendments to contracts for easy access to all the documents relating to the respective contract)? | C33: yes | D33: https://vinrada.gov.ua/zakupivli-na-prozorro.htm | E33: no | F33: 1) https://zakupki.prom.ua/ 2) https://data.gov.ua/dataset/5b6e5877-fc2d-4644-9da8-f880b80e009f | G33: yes | H33: https://oblrada.dp.gov.ua/category/diyalnist/richni-plani-zakupivel/ | I33: no | K33: no | M33: yes | N33: http://zor.gov.ua/content/perelik-naboriv-danyh-shcho-pidlyagayut-oprylyudnennyu-u-formi-vidkrytyh-danyh | O33: no | Q33: no | S33: yes | T33: https://www.oblrada.kr.ua/konkursni-torgi | U33: yes | V33: https://prozorro.gov.ua/tender/search?edrpou=25255072&edrpou=22340506 | W33: yes | X33: https://prozorro.gov.ua/tender/search?query=25696652 | Y33: yes | Z33: http://oblrada.odessa.gov.ua/pro-oblasnu-radu/derzhavni-zakupivli/odeska-oblasna-rada/ | AA33: yes | AB33: http://oblrada-pl.gov.ua/index.php?option=com_content&view=category&layout=blog&id=37&Itemid=65 | AC33: yes | AD33: https://prozorro.gov.ua https://zakupki.prom.ua/ https://ror.gov.ua/zakupivli-ta-vikoristannya-byudzhetnih-koshtiv | AE33: no | AF33: https://sorada.gov.ua/opendata.html https://data.gov.ua/dataset/fb35f971-c914-45bd-8ffa-5bae876dfaa9 | AG33: no | AI33: no | AK33: no | AM33: yes | AN33: https://km-oblrada.gov.ua/nashi-zakupivli/ | AO33: no | AQ33: no | AS33: no
