Workbook

Sheet Monitoring_eng
A1: questionID | B1: question | C1: Bakhmut | D1: Bakhmut_comment | E1: Berdychiv | F1: Berdychiv_comment | G1: Berdiansk | H1: Berdiansk_comment | I1: Bila Tserkva | J1: Bila Tserkva_comment | K1: Brovary | L1: Brovary_comment | M1: Vinnytsia | N1: Vinnytsia_comment | O1: Dnipro | P1: Dnipro_comment | Q1: Drohobych | R1: Drohobych_comment | S1: Zhytomyr | T1: Zhytomyr_comment | U1: Zaporizhzhia | V1: Zaporizhzhia_comment | W1: Ivano-Frankivsk | X1: Ivano-Frankivsk_comment | Y1: Izmail | Z1: Izmail_comment | AA1: Kamianets-Podilskyi | AB1: Kamianets-Podilskyi_comment | AC1: Kamianske | AD1: Kamianske_comment | AE1: Kyiv | AF1: Kyiv_comment | AG1: Kovel | AH1: Kovel_comment | AI1: Konotop | AJ1: Konotop_comment | AK1: Kostiantynivka | AL1: Kostiantynivka_comment | AM1: Kramatorsk | AN1: Kramatorsk_comment | AO1: Kremenchuk | AP1: Kremenchuk_comment | AQ1: Kryvyi Rih | AR1: Kryvyi Rih_comment | AS1: Kropyvnytskyi | AT1: Kropyvnytskyi_comment | AU1: Lysychansk | AV1: Lysychansk_comment | AW1: Lutsk | AX1: Lutsk_comment | AY1: Lviv | AZ1: Lviv_comment | BA1: Mariupol | BB1: Mariupol_comment | BC1: Melitopol | BD1: Melitopol_comment | BE1: Mykolaiv | BF1: Mykolaiv_comment | BG1: Mukacheve | BH1: Mukacheve_comment | BI1: Nizhyn | BJ1: Nizhyn_comment | BK1: Nikopol | BL1: Nikopol_comment | BM1: Novomoskovsk | BN1: Novomoskovsk_comment | BO1: Odesa | BP1: Odesa_comment | BQ1: Oleksandriia | BR1: Oleksandriia_comment | BS1: Pavlohrad | BT1: Pavlohrad_comment | BU1: Poltava | BV1: Poltava_comment | BW1: Rivne | BX1: Rivne_comment | BY1: Sievierodonetsk | BZ1: Sievierodonetsk_comment | CA1: Sloviansk | CB1: Sloviansk_comment | CC1: Sumy | CD1: Sumy_comment | CE1: Ternopil | CF1: Ternopil_comment | CG1: Uzhhorod | CH1: Uzhhorod_comment | CI1: Uman | CJ1: Uman_comment | CK1: Kharkiv | CL1: Kharkiv_comment | CM1: Kherson | CN1: Kherson_comment | CO1: Khmelnytskyi | CP1: Khmelnytskyi_comment | CQ1: Cherkasy | CR1: Cherkasy_comment | CS1: Chernivtsi | CT1: Chernivtsi_comment | CU1: Chernihiv | CV1: Chernihiv_comment | CW1: Shostka | CX1: Shostka_comment
A2: Q1 | B2: Is there an online platform for communication between citizens and the City Council available on the City Council website for filing complaints, suggestions and appeals, as well as requests for information? | C2: yes | D2: http://artemrada.gov.ua/8587 http://artemrada.gov.ua/28172 | E2: yes | F2: http://www.berdychiv.com.ua/index.php?do=feedback https://berdychiv.com.ua/%d0%b7%d0%b2%d0%b5%d1%80%d0%bd%d0%b5%d0%bd%d0%bd%d1%8f/ | G2: yes | H2: https://bmr.gov.ua/index.php?id=521 http://petition.bmr.gov.ua https://bmr.gov.ua/index.php?id=800000253 https://bmr.gov.ua/index.php?id=800000267 | I2: yes | J2: https://new.bc-rada.gov.ua/zhyteliam/zvernennia_bc.html | K2: yes | L2: http://brovary-rada.gov.ua/content/centr-nadannya-administrativnih-poslug.html http://brovary-rada.gov.ua/content/feedback.html | M2: yes | N2: https://www.vmr.gov.ua/Lists/Officials/Default.aspx https://1560.vmr.gov.ua/default.aspx; | O2: yes | P2: http://dmr.dp.ua/dniprorada/ | Q2: yes | R2: http://drohobych-rada.gov.ua/servisy/ https://drohobych-rada.gov.ua/%d0%bf%d1%80%d0%b8%d0%b9%d0%bc%d0%b0%d0%bb%d1%8c%d0%bd%d1%8f/%d0%b5%d0%bb%d0%b5%d0%ba%d1%82%d1%80%d0%be%d0%bd%d0%bd%d0%b5-%d0%b7%d0%b2%d0%b5%d1%80%d0%bd%d0%b5%d0%bd%d0%bd%d1%8f/ | S2: no | U2: yes | V2: https://zp.gov.ua/uk/page/council_email https://1580.zp.gov.ua/ https://zp.gov.ua/uk/page/contact-form | W2: yes | X2: http://www.emvk.if.ua/ http://www.mvk.if.ua/advisor | Y2: partially | Z2: http://izmail-rada.gov.ua/component/content/article/164-2011-01-31-07-52-55/2448-2012-08-14-05-12-27 | AA2: yes | AB2: http://kam-pod.gov.ua/gromadianam/zapitannia-do-vladi | AC2: yes | AD2: http://ez.kam.gov.ua/ | AE2: yes | AF2: https://kyivcity.gov.ua/publichna_informatsiya_257928/podati_zapit_onlayn_257949.html https://1551.gov.ua/ zvernen@kmda.gov.ua https://kmr.gov.ua/uk/content/korysna-informaciya zapyt@kmr.gov.ua | AG2: yes | AH2: http://kovelrada.gov.ua/appeals_citizens.html | AI2: yes | AJ2: https://konotop-rada.gov.ua/zvorotnij-zviazok/ | AK2: yes | AL2: http://konstrada.gov.ua/zvernennya-gromadyan | AM2: yes | AN2: http://www.krm.gov.ua/zapit/view/135 http://www.krm.gov.ua/zapit/view/29 | AO2: yes | AP2: https://petition.kremen.gov.ua/ | AQ2: yes | AR2: http://kr.gov.ua/ua/consultationform/ | AS2: yes | AT2: http://www.kr-rada.gov.ua/contacts_g/ http://kr-rada.gov.ua/contacts/ | AU2: yes | AV2: complaint@lis.gov.ua. | AW2: yes | AX2: https://www.lutskrada.gov.ua/public-information/request https://www.lutskrada.gov.ua/pages/elektronne-zvernennia | AY2: yes | AZ2: https://city-adm.lviv.ua/services/application | BA2: yes | BB2: https://mariupolrada.gov.ua/login | BC2: yes | BD2: https://cabinet.mlt.gov.ua/ | BE2: yes | BF2: https://mkrada.gov.ua/ | BG2: yes | BH2: https://mukachevo-rada.gov.ua/golovna/instrumenti-meshkancya/zvernennya-gromadyan/elektronne-zvernennya | BI2: yes | BJ2: https://nizhynrada.gov.ua/login | BK2: yes | BL2: http://nikopol-mrada.dp.gov.ua/servisi/pytannia-meru | BM2: no | BN2: https://novomoskovsk-rada.dp.gov.ua/ua/gromadskosti/zvernennya-gromadyan/zvernennya-gromadyan-do-miskoyi-vladi | BO2: yes | BP2: https://1535.odessa.ua/ https://www.omr.gov.ua/ua/city/departments/gorzdrav/appeal/ | BQ2: yes | BR2: http://olexrada.gov.ua/zapmg | BS2: yes | BT2: https://pavlogradmrada.dp.gov.ua/napisat-pismo-mehru https://pavlogradmrada.dp.gov.ua/dostup-do-publichno%d1%97-informaci%d1%97/oformlennya-zapitu.html | BU2: yes | BV2: http://www.rada-poltava.gov.ua/petition/ | BW2: yes | BX2: www.city-adm.rv.ua http://medrivne.com.ua; http://rivnerada.gov.ua/PublicServices/add-citizen-appeal; https://rivnerada.gov.ua/petitions/home | BY2: yes | BZ2: https://sed-rada.gov.ua/ | CA2: yes | CB2: http://ez.slavrada.gov.ua/ | CC2: yes | CD2: https://petition.e-dem.ua/sumy https://smr.gov.ua/uk/elektronne-zvernennia/8179-elektronne-zvernennya.html https://smr.gov.ua/uk/dokumenti/dostup-do-publichnoji-informatsiji/2180-pro-dostup-do-publichnoji-informatsiji-u-sumskij-miskij-radi.html | CE2: yes | CF2: https://ternopilcity.gov.ua/municipal-data-map/form-elektronnogo-zapitu/ https://ternopilcity.gov.ua/municipal-data-map/form-elektronnogo-zvernennya/ | CG2: yes | CH2: https://rada-uzhgorod.gov.ua/zvernennya-gromadyan/ https://rada-uzhgorod.gov.ua/zvernennya-gromadyan-1-1 https://opencity.in.ua/issuelist#r=UA2110100000 https://rada-uzhgorod.gov.ua/dostup-do-publichnoyi-informatsiyi/ | CI2: yes | CJ2: https://uman-rada.gov.ua/index.php/hromadskosti | CK2: yes | CL2: https://www.city.kharkov.ua/uk/gorodskaya-vlast/gorodskoj-golova/obratnaya-svyaz/vopros-gorodskomu-golove.html http://www.citv.kharkov.ua/ukypublichnava-infonnacziva.html http://cdr.citynet.kharkov.ua/webdocprof | CM2: yes | CN2: http://mvk.kherson.ua/zvernenya http://www.city.kherson.ua/c/publichna-informaciya/s/publichna-informaciya http://www.city.kherson.ua/guestbook/ https://igov.org.ua/service/161/general | CO2: yes | CP2: https://khm.gov.ua/uk/content/elektronni-zvernennya | CQ2: yes | CR2: http://chmr.gov.ua/ua/text.php?s=4&s1=34 | CS2: yes | CT2: http://zvernennya.chernivtsy.eu/ | CU2: yes | CV2: https://petition.e-dem.ua/chernihiv https://igov.org.ua/service/659/general | CW2: yes | CX2: http://shostka-smartcity.com/
A3: Q2 | B3: Do the responds to citizens' appeals, suggestions, and complaints are available on the respective online platform for public observation? | C3: no | E3: no | G3: no | I3: no | K3: no | M3: yes | N3: https://www.vmr.gov.ua/Lists/CitizenAddressResponses/Default.aspx | O3: no | Q3: no | S3: no | U3: no | W3: no | Y3: yes | Z3: http://izmail-rada.gov.ua/component/content/article/164-2011-01-31-07-52-55/2448-2012-08-14-05-12-27 | AA3: yes | AB3: http://kam-pod.gov.ua/gromadianam/zapitannia-do-vladi | AC3: no | AE3: yes | AF3: https://old.kyivcity.gov.ua/public-info/ | AG3: no | AI3: no | AK3: no | AM3: no | AO3: no | AQ3: no | AS3: no | AU3: yes | AV3: http://lis.gov.ua/2011-03-25-08-36-56/2011-06-10-10-24-37.html | AW3: no | AY3: no | BA3: no | BC3: no | BE3: no | BG3: no | BI3: no | BK3: yes | BL3: http://nikopol-mrada.dp.gov.ua/servisi/vidpovidi | BM3: no | BO3: yes | BP3: 1535.odessa.ua - https://1535.odessa.ua/petition/i-MjgxMTQ3/ | BQ3: no | BS3: yes | BT3: https://pavlogradmrada.dp.gov.ua/category/otvety-mehra-zhitelyam-goroda | BU3: no | BV3: https://petition.rada-poltava.gov.ua/petition/view?id=1 | BW3: partially | BX3: https://rivnerada.gov.ua/petitions/view-petition/6631 | BY3: no | CA3: no | CC3: yes | CD3: https://petition.e-dem.ua/sumy | CE3: no | CG3: partially | CH3: https://opencity.in.ua/issuelist#r=UA2110100000 | CI3: no | CK3: no | CM3: no | CO3: yes | CP3: https://opencity.e-dem.ua/map/UA6810100000 | CQ3: no | CS3: yes | CT3: http://zvernennya.chernivtsy.eu/ | CU3: yes | CV3: https://petition.e-dem.ua/chernihiv | CW3: no
A4: Q3 | B4: Are the responds to citizens' appeals, suggestions, and complaints sent/published on the respective online platform within ten working days? | C4: no | E4: partially | F4: https://berdychiv.com.ua/wp-content/uploads/2020/10/%D0%92%D0%B5%D1%80%D0%B5%D1%81%D0%B5%D0%BD%D1%8C-2020.pdf | G4: no | I4: no | K4: no | M4: yes | N4: https://www.vmr.gov.ua/Lists/CitizenAddressResponses/Default.aspx | O4: no | Q4: yes | S4: yes | T4: http://zt-rada.gov.ua | U4: no | W4: yes | X4: http://www.emvk.if.ua/ | Y4: yes | Z4: http://izmail-rada.gov.ua/component/content/article/164-2011-01-31-07-52-55/2448-2012-08-14-05-12-27 | AA4: yes | AB4: http://kam-pod.gov.ua/gromadianam/zapitannia-do-vladi http://kam-pod.gov.ua/gromadianam/zapitannia-do-vladi http://kam-pod.gov.ua/gromadianam/zapitannia-do-vladi | AC4: yes | AE4: yes | AF4: https://old.kyivcity.gov.ua/public-info/ | AG4: yes | AI4: no | AK4: no | AM4: no | AO4: no | AQ4: no | AS4: no | AU4: no | AW4: no | AY4: no | BA4: no | BC4: no | BE4: no | BG4: yes | BI4: yes | BK4: yes | BL4: http://nikopol-mrada.dp.gov.ua/servisi/vidpovidi | BM4: no | BO4: yes | BP4: https://1535.odessa.ua/petition/i-Mjg0MTg3/ | BQ4: no | BS4: no | BU4: no | BV4: https://petition.rada-poltava.gov.ua/petition/view?id=1 | BW4: partially | BX4: https://rivnerada.gov.ua/petitions/view-petition/6632 | BY4: no | CA4: no | CC4: yes | CD4: https://petition.e-dem.ua/sumy/Petition/View/2519 | CE4: yes | CG4: partially | CH4: https://rada-uzhgorod.gov.ua/uploads/sites/2/2017/05/ZAKON-UKRAYIN1Pro-zvernen.gromad.zi-zminamy.pdf http://old.rada-uzhgorod.gov.ua/download/v/R_455_vidkrute_misto_12.11.14.pdf | CI4: yes | CK4: no | CM4: no | CO4: yes | CQ4: no | CS4: yes | CU4: yes | CV4: https://petition.e-dem.ua/chernihiv | CW4: yes | CX4: http://shostka-smartcity.com/statement/index
A5: Q4 | B5: Is there a possibility to track the progress of appeals, complaints, and suggestions on the respective online platform through the indication of information on acceptance for consideration, employee responsible for processing, as well as the term of consideration? | C5: no | E5: no | G5: no | I5: no | K5: no | M5: yes | N5: https://transparent.vmr.gov.ua/LicencingProceduresCheckLib/LPCheck.aspx | O5: yes | P5: https://hotline.dniprorada.gov.ua/ | Q5: yes | R5: https://drohobych-rada.gov.ua/%d0%bf%d1%80%d0%b8%d0%b9%d0%bc%d0%b0%d0%bb%d1%8c%d0%bd%d1%8f/%d0%b5%d0%bb%d0%b5%d0%ba%d1%82%d1%80%d0%be%d0%bd%d0%bd%d0%b5-%d0%b7%d0%b2%d0%b5%d1%80%d0%bd%d0%b5%d0%bd%d0%bd%d1%8f/ | S5: no | U5: no | W5: yes | X5: http://www.emvk.if.ua/stan | Y5: no | AA5: yes | AB5: http://kam-pod.gov.ua/gromadianam/zapitannia-do-vladi | AC5: yes | AD5: http://ez.kam.gov.ua/ua/appeal_go_add/ | AE5: no | AG5: no | AI5: no | AK5: no | AM5: no | AO5: no | AQ5: yes | AR5: http://kr.gov.ua/ua/consultationform/ | AS5: no | AU5: no | AW5: no | AY5: yes | AZ5: https://city-adm.lviv.ua/services/results | BA5: no | BC5: no | BE5: no | BG5: yes | BH5: https://mukachevo-rada.gov.ua/golovna/instrumenti-meshkancya/zvernennya-gromadyan/perevirka-zvernennya | BI5: no | BK5: no | BM5: no | BO5: yes | BP5: 1535.odessa.ua https://1535.odessa.ua/petition/i-MjgxMTQ3/ | BQ5: no | BS5: no | BU5: yes | BV5: https://petition.rada-poltava.gov.ua/petition/view?id=1 | BW5: partially | BX5: https://rivnerada.gov.ua/petitions/view-petition/6633 | BY5: no | CA5: yes | CB5: http://ez.slavrada.gov.ua/stan | CC5: yes | CD5: https://petition.e-dem.ua/sumy/Petition/View/2519 | CE5: no | CG5: partially | CI5: yes | CK5: no | CM5: no | CO5: yes | CP5: https://opencity.e-dem.ua/map/UA6810100000 | CQ5: no | CS5: yes | CU5: no | CV5: https://petition.e-dem.ua/chernihiv | CW5: no
A6: Q5 | B6: Does the municipality provide the responce to requests for information within the statutory deadlines (within five days from the date of receipt of request)? (filling in the questionnaire) | C6: yes | D6: response received in time | E6: yes | F6: receipt of the letter confirmed | G6: yes | H6: response received in time | I6: no | J6: receipt of the letter confirmed | K6: yes | L6: response received in time | M6: yes | N6: response received in time | O6: yes | P6: response received in time | Q6: no | S6: yes | T6: response received in time | U6: yes | V6: response received in time | W6: yes | X6: response received in time | Y6: yes | Z6: response received in time | AA6: yes | AB6: response received in time | AC6: yes | AD6: response received in time | AE6: no | AG6: no | AH6: 10 | AI6: yes | AJ6: response received in time | AK6: yes | AL6: response received in time | AM6: yes | AN6: response received in time | AO6: yes | AP6: response received in time | AQ6: yes | AR6: response received in time | AS6: yes | AT6: response received in time | AU6: yes | AW6: yes | AX6: response received in time | AY6: no | AZ6: receipt of the letter confirmed | BA6: no | BB6: response received in 10 days | BC6: yes | BD6: response received in time | BE6: yes | BF6: response received in time | BG6: no | BI6: no | BK6: yes | BL6: response received in time | BM6: yes | BN6: response received in time | BO6: yes | BP6: response received in time | BQ6: yes | BR6: response received in time | BS6: yes | BT6: response received in time | BU6: yes | BV6: response received in time | BW6: yes | BX6: response received in time | BY6: no | CA6: no | CB6: receipt of the letter confirmed | CC6: yes | CD6: response received in time | CE6: yes | CF6: response received in time | CG6: yes | CH6: response received in time | CI6: no | CK6: yes | CL6: response received in time | CM6: yes | CN6: response received in time | CO6: yes | CP6: response received in time | CQ6: yes | CR6: response received in time | CS6: yes | CT6: response received in time | CU6: yes | CV6: response received in time | CW6: yes | CX6: response received in time
A7: Q6 | B7: Does the municipality provide the responce to requests for information in full? (filling in the questionnaire) | C7: yes | D7: response received in full | E7: yes | F7: response received in full | G7: yes | H7: response received in full | I7: no | K7: yes | L7: response received in full | M7: yes | N7: response received in full | O7: yes | P7: response received in time | Q7: yes | R7: response received in full | S7: yes | T7: response received in time | U7: yes | V7: response received in time | W7: yes | X7: response received in time | Y7: yes | Z7: response received in full | AA7: yes | AB7: response received in full | AC7: yes | AD7: response received in full | AE7: no | AG7: yes | AH7: response received in full | AI7: yes | AJ7: response received in full | AK7: yes | AL7: response received in full | AM7: yes | AN7: response received in full | AO7: yes | AP7: response received in full | AQ7: yes | AR7: response received in full | AS7: yes | AT7: response received in full | AU7: no | AW7: yes | AX7: response received in full | AY7: no | BA7: yes | BB7: response received in full | BC7: yes | BD7: response received in full | BE7: yes | BF7: response received in full | BG7: no | BI7: no | BK7: yes | BL7: response received in full | BM7: yes | BN7: response received in full | BO7: yes | BP7: response received in full | BQ7: yes | BR7: response received in full | BS7: yes | BT7: response received in full | BU7: yes | BV7: response received in full | BW7: yes | BX7: response received in full | BY7: no | CA7: no | CC7: yes | CD7: response received in full | CE7: yes | CF7: response received in full | CG7: yes | CH7: response received in full | CI7: no | CK7: yes | CL7: response received in full | CM7: yes | CN7: response received in full | CO7: yes | CP7: response received in full | CQ7: yes | CR7: response received in full | CS7: yes | CT7: response received in full | CU7: yes | CV7: response received in full | CW7: yes | CX7: response received in full
A8: Q7 | B8: Does the municipality provide the responce to requests for information within the statutory deadlines (within five days from the date of receipt of request)? (response to the 'Secret shopper’s request') | C8: yes | D8: response received in time | E8: no | F8: response received in 10 days | G8: yes | H8: response received in time | I8: no | K8: yes | L8: response received in time | M8: yes | N8: response received in time | O8: no | Q8: no | R8: response received in 10 days | S8: yes | T8: response received in time | U8: yes | V8: received a timely response to extend the term of consideration of the request to 10 days | W8: yes | X8: response received in time | Y8: yes | Z8: response received in time | AA8: yes | AB8: response received in time | AC8: yes | AD8: response received in time | AE8: no | AF8: response received in 10 days | AG8: no | AH8: response received in 10 days | AI8: no | AJ8: response received in 10 days | AK8: no | AM8: yes | AN8: response received in time | AO8: no | AQ8: yes | AR8: response received in time | AS8: no | AT8: response received in 9 days | AU8: yes | AV8: response received in time | AW8: yes | AX8: response received in time | AY8: partially | AZ8: receipt of the letter confirmed | BA8: no | BB8: response received in 10 days | BC8: no | BD8: response received in 10 days | BE8: yes | BF8: response received in time | BG8: yes | BH8: response received in time | BI8: yes | BJ8: response received in time | BK8: no | BL8: response received in 10 days | BM8: no | BN8: response received in 10 days | BO8: no | BP8: response received in 10 days | BQ8: no | BR8: response received in 10 days | BS8: no | BU8: no | BV8: response received in 10 days | BW8: no | BX8: response received in 10 days | BY8: no | CA8: no | CB8: response received in 10 days | CC8: no | CD8: response received in 10 days | CE8: yes | CF8: response received in time | CG8: yes | CH8: response received in time | CI8: yes | CJ8: response received in time | CK8: yes | CL8: response received in time | CM8: yes | CN8: response received in time | CO8: yes | CP8: response received in time | CQ8: yes | CR8: response received in time | CS8: yes | CT8: response received in time | CU8: yes | CV8: response received in time | CW8: yes | CX8: response received in time
A9: Q8 | B9: Does the municipality provide the responce to requests for information in full? (response to the 'Secret shopper’s request') | C9: yes | D9: response received in full | E9: yes | F9: response received in full | G9: no | H9: refusal to provide documents in electronic format | I9: no | K9: no | L9: issued an invoice for payment and did not provide anything, even 10 free pages. there is no need to pay for electronic format. | M9: yes | N9: issued an invoice for payment for the electronic format of reply. | O9: no | Q9: partially | S9: yes | T9: response received in time | U9: yes | V9: 10 | W9: yes | X9: response received in time | Y9: yes | Z9: response received in time | AA9: yes | AB9: response received in full | AC9: yes | AD9: response received in full | AE9: yes | AF9: response received in full | AG9: partially | AI9: yes | AJ9: response received in full | AK9: no | AM9: yes | AN9: response received in full | AO9: no | AQ9: yes | AR9: response received in time | AS9: partially | AU9: no | AW9: partially | AY9: partially | AZ9: after filing a complaint, the Lviv City Council sent an answer to the questions | BA9: partially | BC9: partially | BE9: partially | BG9: partially | BI9: partially | BK9: yes | BL9: response received in full | BM9: yes | BN9: response received in full | BO9: yes | BP9: response received in full | BQ9: yes | BR9: response received in full | BS9: no | BU9: yes | BV9: response received in full | BW9: yes | BX9: response received in full | BY9: no | CA9: yes | CB9: response received in full | CC9: yes | CD9: response received in full | CE9: yes | CF9: response received in full | CG9: yes | CH9: response received in full | CI9: yes | CJ9: response received in full | CK9: yes | CL9: response received in full | CM9: yes | CN9: response received in full | CO9: yes | CP9: response received in full | CQ9: yes | CR9: response received in full | CS9: yes | CT9: response received in full | CU9: yes | CV9: response received in full | CW9: yes | CX9: response received in full
A10: Q9 | B10: Are the reports on the processing of requests for public information published periodically (at least annually) on the City Council website? | C10: yes | D10: http://artemrada.gov.ua/2083 | E10: yes | F10: https://berdychiv.com.ua/%d0%bf%d1%80%d0%be%d0%b7%d0%be%d1%80%d1%96%d1%81%d1%82%d1%8c/%d0%b7%d0%b2%d1%96%d1%82%d0%b8-%d0%b7-%d0%bd%d0%b0%d0%b4%d1%85%d0%be%d0%b4%d0%b6%d0%b5%d0%bd%d0%bd%d1%8f-%d0%b7%d0%b0%d0%bf%d0%b8%d1%82%d1%96%d0%b2-%d0%bd%d0%b0-%d1%96%d0%bd%d1%84%d0%be%d1%80%d0%bc/ | G10: yes | H10: http://bmr.gov.ua/index.php?id=800000514 | I10: yes | J10: https://new.bc-rada.gov.ua/zhyteliam/publichna_informatsiia_new.html | K10: yes | L10: http://brovary-rada.gov.ua/content/dostup-do-publichnoi-informacii1.html | M10: yes | N10: https://www.vmr.gov.ua/TransparentCity/SitePages/AppealsRequestsInfo.aspx | O10: yes | P10: https://dniprorada.gov.ua/uk/page/zviti-pro-zapiti-na-publichnu-informaciyu | Q10: yes | R10: https://opendata.drohobych-rada.gov.ua/dataset/%D0%B7%D0%B2%D1%96%D1%82%D0%B8-%D0%B2-%D1%82%D0%BE%D0%BC%D1%83-%D1%87%D0%B8%D1%81%D0%BB%D1%96-%D1%89%D0%BE-%D0%B4%D0%BE-%D0%B7%D0%B0%D0%B4%D0%BE%D0%B2%D0%BE%D0%BB%D0%B5%D0%BD%D0%BD%D1%8F-%D0%B7%D0%B0%D0%BF%D0%B8%D1%82%D1%96%D0%B2-%D0%BD%D0%B0-%D1%96%D0%BD%D1%84%D0%BE%D1%80%D0%BC%D0%B0%D1%86%D1%96%D1%8E | S10: no | T10: http://zt-rada.gov.ua/?3506[0]=29 | U10: yes | V10: https://zp.gov.ua/uk/page/zviti-pro-zadovolennya-zapitiv-na-publichnu-informaciyu | W10: yes | X10: http://www.mvk.if.ua/pinfzv | Y10: no | AA10: yes | AB10: http://kam-pod.gov.ua/documents/dostup-do-publ-informatsii/zviti-ta-poshireni-vidpovidi | AC10: yes | AD10: http://kam.gov.ua/dostup_do_publichnoi_informatsii/zviti | AE10: yes | AF10: http://kmr.gov.ua/uk/content/zvity | AG10: yes | AH10: http://www.kovelrada.gov.ua/zviti_cshodo_zadovolennya_zapitiv_na_publichnu_informaciyu.html | AI10: no | AK10: no | AM10: no | AO10: partially | AP10: https://kremen.gov.ua/index.php?view=single-str&dep-id=14&page_id_two=805 2020 | AQ10: yes | AR10: https://kr.gov.ua/ua/st/pg/40121188543109_s/ | AS10: yes | AT10: https://kr-rada.gov.ua/informatsiya-pro-stan-vikonannya-zakonu-ukrayini-pro-dostup-do-publichnoyi-informatsiyi-pomisyachno-2020/ | AU10: yes | AV10: http://lis.gov.ua/2013-08-07-05-49-53/2013-08-09-08-37-38.html | AW10: yes | AX10: https://www.lutskrada.gov.ua/pages/zvity-pro-nadkhodzhennia-zapytiv | AY10: yes | AZ10: https://city-adm.lviv.ua/public-information/gov-officials/sadovyi-andrii-ivanovych/zvit | BA10: yes | BB10: https://mariupolrada.gov.ua/page/zviti-z-nadhodzhennja-zapitiv-na-informaciju | BC10: yes | BD10: http://mlt.gov.ua/index.php?option=com_content&task=view&id=4370&Itemid=296 | BE10: yes | BF10: http://mkrada.gov.ua/content/zviti.html | BG10: yes | BH10: https://mukachevo-rada.gov.ua/timeline?&type=all&tag=%D0%9F%D1%80%D0%BE%20%D0%B7%D0%B0%D0%B4%D0%BE%D0%B2%D0%BE%D0%BB%D0%B5%D0%BD%D0%BD%D1%8F%20%D0%B7%D0%B0%D0%BF%D0%B8%D1%82%D1%96%D0%B2%20%D0%BD%D0%B0%20%D0%BF%D1%83%D0%B1%D0%BB%D1%96%D1%87%D0%BD%D1%83%20%D1%96%D0%BD%D1%84%D0%BE%D1%80%D0%BC%D0%B0%D1%86%D1%96%D1%8E | BI10: yes | BJ10: https://nizhynrada.gov.ua/nmr/miskiy-golova/zvernennya-gromadyan/informaciya-pro-stan-roboti-iz-zvernennyami-gromadyan | BK10: yes | BL10: http://nikopol-mrada.dp.gov.ua/publichna-informatsiia/zvit-po-informatsiinym-zapytam | BM10: partially | BN10: https://novomoskovsk-rada.dp.gov.ua/ua/gromadskosti/zvernennya-gromadyan/zviti-po-zvernennyam-gromadyan 2017-2020 . | BO10: yes | BP10: https://omr.gov.ua/ua/open-city/public/otcheti/ | BQ10: no | BS10: yes | BT10: http://pavlogradmrada.dp.gov.ua/category/vikonkom-2/zapiti-na-publichnu-informaciyu | BU10: yes | BV10: http://www.rada-poltava.gov.ua/documents/public_reports/; https://rada-poltava.gov.ua/public/reports/ | BW10: no | BY10: yes | BZ10: http://sed-rada.gov.ua/dostup-do-publichnoyi-informaciyi/zviti-shchodo-zadovolennya-zapitiv-na-publichnu-informaciyu | CA10: yes | CB10: http://www.slavrada.gov.ua/?view=public_info | CC10: yes | CD10: https://smr.gov.ua/uk/dokumenti/dostup-do-publichnoji-informatsiji.html; https://docs.google.com/viewer?url=http://smr.gov.ua/images/misto/Gorodyanuny/Dostup_do_publichnoi_inform/2021/01-2021_vikonavci_organi_SMR.docx&embedded=true | CE10: yes | CF10: https://ternopilcity.gov.ua/normative-documents/dostup-do-publichnoi-informatsii/4349.html | CG10: yes | CH10: http://rada-uzhgorod.gov.ua/rada_docs_taxonomy/zvity-pro-zapyty-na-informatsiyu/ | CI10: partially | CJ10: https://uman-rada.gov.ua/index.php/hromadskosti/dostup-do-publichnoi-informatsii | CK10: yes | CL10: https://www.city.kharkov.ua/uk/publichnaya-informacziya.html | CM10: yes | CN10: http://www.city.kherson.ua/c/publichna-informaciya | CO10: yes | CP10: https://khm.gov.ua/uk/content/zvity | CQ10: yes | CR10: http://chmr.gov.ua/ua/files.php?s=40&s1=453 | CS10: partially | CT10: http://chernivtsy.eu/portal/zvity-chernivetskogo-miskogo-golovy 2018-2020 . | CU10: yes | CV10: http://chernigiv-rada.gov.ua/project/info-access | CW10: no
A11: Q10 | B11: Are materials of the City Council sessions published on the City Council website (including transcripts, audio/video recording of the sessions, minutes of the sessions and the results of roll-call votes)? | C11: yes | D11: http://artemrada.gov.ua/protocols | E11: yes | F11: https://berdychiv.com.ua/2021/01/%d0%b7%d0%b0%d1%81%d1%96%d0%b4%d0%b0%d0%bd%d0%bd%d1%8f-4-%d0%bf%d0%be%d0%b7%d0%b0%d1%87%d0%b5%d1%80%d0%b3%d0%be%d0%b2%d0%be%d1%97-%d1%81%d0%b5%d1%81%d1%96%d1%97-online/ | G11: yes | H11: http://bmr.gov.ua/index.php?id=800000269 https://bmr.gov.ua/index.php? id-800000839 https://bmr.gov.ua/index.php?%20id=800000598&no_cache=%201%20&tx_bmrfeusers_bmrfeusers%20%5BlrontendUserBmr%5D=%201%20203&tx_bmrfeusers_bmrfeus%20ers%5Baction%5D=show&tx%20_bm%20rfeusers_bmrfeusers%%205B%20controller%5D=FrontendUser%20Bmr&cHash=77f25b84038dd%20ed0b439066a74cc52e6 | I11: partially | J11: http://bc-rada.gov.ua/node/9457 https://www.youtube.com/channel/UCHXNEneGtYx0jMpYwiSY_PA/live | K11: yes | L11: http://brovary-rada.gov.ua/content/arhiv-sesiy-miskoi-radi.html | M11: yes | N11: https://www.vmr.gov.ua/Lists/CityCouncil/ShowContent.aspx?ID=97 | O11: yes | P11: https://dniprorada.gov.ua/uk/articles/category/protokoli-provedennya/ https://dniprorada.gov.ua/uk/articles/item/20259/rezultati-poimennogo-golosuvannya http://edeputat.dniprorada.gov.ua/uk/deputies https://dniprorada.gov.ua/uk/page/poshuk-prijnyatih-dokumentiv-dniprovskoi-miskoi-radi https://dniprorada.gov.ua/uk/page/onlajn-translyacii | Q11: yes | R11: https://doc.drohobych-rada.gov.ua/category/miska-rada/%d0%bf%d0%be%d1%96%d0%bc%d0%b5%d0%bd%d0%bd%d0%b5-%d0%b3%d0%be%d0%bb%d0%be%d1%81%d1%83%d0%b2%d0%b0%d0%bd%d0%bd%d1%8f-%d0%bc%d1%96%d1%81%d1%8c%d0%ba%d0%be%d1%97-%d1%80%d0%b0%d0%b4%d0%b8/ https://doc.drohobych-rada.gov.ua/category/miska-rada/%d0%bf%d1%80%d0%be%d1%82%d0%be%d0%ba%d0%be%d0%bb%d0%b8-%d0%b7%d0%b0%d1%81%d1%96%d0%b4%d0%b0%d0%bd%d1%8c-%d1%80%d0%b0%d0%b4%d0%b8/ https://doc.drohobych-rada.gov.ua/category/miska-rada/%d0%bf%d1%80%d0%be%d0%b5%d0%ba%d1%82%d0%b8-%d1%80%d1%96%d1%88%d0%b5%d0%bd%d1%8c-%d1%81%d0%b5%d1%81%d1%96%d1%97/ | S11: yes | T11: http://zt-rada.gov.ua/?3398[0]=54 | U11: yes | V11: https://zp.gov.ua/uk/sessions/107/votes | W11: yes | X11: http://www.mvk.if.ua/livevideo http://www.namvk.if.ua/rishses/ http://www.namvk.if.ua/przas/ | Y11: yes | Z11: http://www.izmail-rada.gov.ua/2011-11-16-07-26-09/2016-07-27-07-41-28 http://www.izmail-rada.gov.ua/2011-11-16-07-26-09/2011-11-16-07-31-32 | AA11: yes | AB11: http://kam-pod.gov.ua/miska-vlada/videotransliatsii-zasidan-sesii-miskoi-rady ( ) http://kam-pod.gov.ua/documents/of-docs-miskradi/rishennia-miskradi | AC11: yes | AD11: http://kam.gov.ua/miska_vlada/miska_rada/ plenarni_zasidannya | AE11: yes | AF11: https://kmr.gov.ua/uk/protokolu https://kmr.gov.ua/uk/stenogramu https://kmr.gov.ua/uk/result_golosuvanya | AG11: yes | AH11: http://www.kovelrada.gov.ua/councildecision.html | AI11: no | AJ11: https://www.youtube.com/channel/UCE6WG2rNq13noTl0TeBrWnA/videos | AK11: yes | AL11: https://www.youtube.com/watch?v=qq358Ol3-Qk http://konstrada.gov.ua/component/documents/?menu=&typedoc=2&Itemid=181 | AM11: partially | AN11: http://www.krm.gov.ua/article/view/429 http://www.krm.gov.ua/article/view/587 https://odp.krm.gov.ua/dataset/pe3yjibtatn-noimehhnx-rojiocybahb-njiehaphnx-3acidahb-kpamatopcbkoi-micbkoi-padn-vii-ckjinkahhr https://odp.krm.gov.ua/dataset/id_090720191037 https://odp.krm.gov.ua/dataset/id_090820191447 | AO11: yes | AP11: https://kremen.gov.ua/?view=project-journals https://kremen.gov.ua/?view=projects-city-rada-archive&session=233 https://www.youtube.com/playlist?list=PL_WXRuoXDYJTlZ2XvJrUaN63AFposFSK1 | AQ11: yes | AR11: https://www.youtube.com/channel/UCXkUQmyeQTrVl2np1vciQ2Q https://kr.gov.ua/ua/st/pg/270121925683749_s/index.html https://kr.gov.ua/ua/st/pg/200120508001814_s/ | AS11: yes | AT11: http://www.kr-rada.gov.ua/sesiyi/protokoli-zasidan/ http://www.kr-rada.gov.ua/sesiyi/rezultati-golosuvannya/ http://www.kr-rada.gov.ua/sesiyi/on-line-translyatsiya/ | AU11: yes | AV11: https://lis.gov.ua/2011-03-25-08-36-56/resheniya/resheniya-sessij-gorodskogo-soveta/785-resheniya-sessij-gorodskogo-soveta-7-sozyva/rishennya-84-sesiji-7-sklikannya.html https://www.youtube.com/watch?v=jAE3PUh5EpU | AW11: yes | AX11: https://www.lutskrada.gov.ua/video-news/on-line https://www.lutskrada.gov.ua/documents?term=&number=&type=18 https://www.lutskrada.gov.ua/pages/rezuaty-holosuvan-zasidan-sesii http://www.lutskrada.gov.ua/sesiyi-miskoyi-rady | AY11: yes | AZ11: https://www.lvivrada.gov.ua/zasidannia/poryadok-dennyy https://www.lvivrada.gov.ua/zasidannia/rezultaty-golosuvan https://www.lvivrada.gov.ua/zasidannia/protokolu-zasidan-radu | BA11: yes | BB11: http://marsovet.org.ua/articles/show/article/2335 http://marsovet.org.ua/videogallery | BC11: no | BE11: partially | BF11: https://mkrada.gov.ua/content/rezultati-golosuvannya-deputativ_2.html | BG11: yes | BH11: https://www.youtube.com/channel/UCzW60VEq1f-AchMKI6ox7PQ https://mukachevo-rada.gov.ua/upravlinnya-mistom/miska-rada/rezultati-golosuvannya-deputativ-miskoyi-radi https://mukachevo-rada.gov.ua/npasearch?&category=7 | BI11: yes | BJ11: https://nizhynrada.gov.ua/nmr/miska-rada/protokoli-sesiy-miskoji-radi/protokoli-sesiy-miskoji-radi-viii-cklikannya https://nizhynrada.gov.ua/nmr/zagalna-informaciya/rezultati-golosuvannya https://nizhynrada.gov.ua/videos | BK11: yes | BL11: http://nikopol-mrada.dp.gov.ua/publichna-informatsiia/protokoly-sesii-miskoi-rady | BM11: yes | BN11: https://novomoskovsk-rada.dp.gov.ua/ua/rada/rezultati-poimennogo-golosuvannya https://novomoskovsk-rada.dp.gov.ua/ua/rada/protokoli-sesij/2020 | BO11: yes | BP11: https://www.youtube.com/playlist?list=PL9kCLTOesuyx-zIrGXg9Fm39nXONRB7Fs https://www.omr.gov.ua/ua/city/council/protocols/ https://omr.gov.ua/ua/acts/council/ | BQ11: yes | BR11: https://www.youtube.com/playlist?list=PLq8C9AriSeZBkiRrcyqqjHBKe9xEk6uFW http://olexrada.gov.ua/category/city_rada/plenary-sessions | BS11: yes | BT11: https://www.youtube.com/channel/UCoJewoomOCN2IHoEZChg7sA https://pavlogradmrada.dp.gov.ua/poimenne-golosuvannya | BU11: yes | BV11: http://www.rada-poltava.gov.ua/rule/rada/videosesia/ http://www.rada-poltava.gov.ua/documents/inshi_dokumenti/ http://www.rada-poltava.gov.ua/rule/rada/voting_result/ | BW11: yes | BX11: http://rivnerada.gov.ua/portal/view-content/9373 | BY11: yes | BZ11: https://www.youtube.com/channel/UCrDkiyGatc5Pj7U330UshYQ : http://sed-rada.gov.ua/plenarni-zasidannya/protokoli-zasidan : http://sed-rada.gov.ua/plenarni-zasidannya/poimenne-golosuvannya : http://sed-rada.gov.ua/normativna-baza | CA11: yes | CB11: http://e-deputat.slavrada.gov.ua/uk/plenary_sessions http://docs.slavrada.gov.ua/pdzas/ http://docs.slavrada.gov.ua/przas/ http://slavrada.gov.ua/?view=live | CC11: yes | CD11: https://smr.gov.ua/uk/miska-vlada/miska-rada/protokoli-sesij.html | CE11: yes | CF11: https://ternopilcity.gov.ua/sesiya/rishennya-sesii/ https://ternopilcity.gov.ua/sesiya/protokoli-sesii/ https://ternopilcity.gov.ua/sesiya/prisutnist-deputativ-ternopilskoi-miskoi-radi-viii-sklikannya-na-plenarnih-zasidannyah-sesiy-miskoi-radi/ https://ternopilcity.gov.ua/archiv-video/ | CG11: partially | CH11: https://rada-uzhgorod.gov.ua/rada_docs/protokoly-sesij-2019/ https://rada-uzhgorod.gov.ua/search?utf8=%E2%9C%93&q=%D0%B0%D1%83%D0%B4%D1%96%D0%BE%D0%B7%D0%B0%D0%BF%D0%B8%D1%81%D0%B8 https://rada-uzhgorod.gov.ua/search?page=1&q=%D1%80%D0%BE%D0%B7%D0%B4%D1%80%D1%83%D0%BA%D1%96%D0%B2%D0%BA%D0%B0+%D1%80%D0%B5%D0%B7%D1%83%D0%BB%D1%8C%D1%82%D0%B0%D1%82%D1%96%D0%B2&utf8=%E2%9C%93 , 2020 | CI11: yes | CJ11: https://drive.google.com/drive/u/1/folders/1WhmVYGX7jOiFRQ8pTZOtA4DeY8FOaG2h https://uman-rada.gov.ua/index.php/dokumenty/protokoly-sesii https://uman-rada.gov.ua/index.php/dokumenty/rishennia-miskoi-rady | CK11: partially | CL11: https://doc.city.kharkov.ua/uk/profile/document/protocols | CM11: yes | CN11: http://www.city.kherson.ua/articles/protokoli-zasidan-sesiy-miskoyi-radi-vii-sklikannya https://www.youtube.com/channel/UCrkFOrT5GwUEWaW7a9gzxbA http://www.city.kherson.ua/articles/rezultati-golosuvan-miskoyi-radi-viii-sklikannya | CO11: yes | CP11: https://khm.gov.ua/uk/video-translation https://khm.gov.ua/uk/protocols https://khm.gov.ua/uk/city-council-decision | CQ11: yes | CR11: http://chmr.gov.ua/ua/files.php?s=2&s1=168&s2=391 http://rada.ck.ua/golos/golos http://chmr.gov.ua/ua/text.php?s=24&s1=430 | CS11: yes | CT11: http://chernivtsy.eu/portal/plenarni-zasidannya-rady http://chernivtsy.eu/portal/protokoly-pogodzhuvalnoyi-rady | CU11: yes | CV11: chernigiv-rada.gov.ua/rishennya-sesii/sid-59/id-46186/ http://chernigiv-rada.gov.ua/vote-results/ | CW11: no
A12: Q11 | B12: Are materials of the City Council standing committees' sessions published on the City Council website (including transcripts, audio/video recording of the meetings, minutes of the meetings and the results of roll-call votes)? | C12: yes | D12: http://artemrada.gov.ua/18265 | E12: yes | F12: https://berdychiv.com.ua/2020/10/%d0%bf-%d1%80-%d0%be-%d1%82-%d0%be-%d0%ba-%d0%be-%d0%bb-%e2%84%96-31-%d0%b7%d0%b0%d1%81%d1%96%d0%b4%d0%b0%d0%bd%d0%bd%d1%8f-%d0%ba%d0%be%d0%bc%d1%96%d1%81%d1%96%d1%97-%d0%b7-%d0%bf%d0%b8%d1%82%d0%b0/ | G12: yes | H12: https://bmr.gov.ua/index.php? id-800000714 https://bmr.gov.ua/index.php?id=800000317&no_cache=1&L=456 | I12: partially | J12: http://bc-rada.gov.ua/node/1838 | K12: yes | L12: http://brovary-rada.gov.ua/content/protokoli-postiynih-deputatskih-komisiy-vii-sklikannya.html | M12: yes | N12: https://www.vmr.gov.ua/Lists/CityCouncil/ShowContent.aspx?ID=90 | O12: yes | P12: https://dniprorada.gov.ua/uk/page/onlajn-translyacii-zasidan-postijnih-komisij-miskoi-radi | Q12: no | S12: yes | T12: http://zt-rada.gov.ua/graficcomisiy | U12: yes | V12: https://zp.gov.ua/uk/organizations/category/postijni-komisii-miskoi-radi-8-sklikannya/ https://zp.gov.ua/uk/organizations/item/166/postijna-komisiya-z-pitan-osviti-nauki-kulturi-sportu-molodi-ta-turizmu | W12: yes | X12: https://www.mrada.if.ua/%D0%BF%D1%80%D0%BE-%D0%BC%D1%96%D1%81%D1%8C%D0%BA%D1%83-%D1%80%D0%B0%D0%B4%D1%83/%D0%B4%D0%B5%D0%BF%D1%83%D1%82%D0%B0%D1%82%D1%81%D1%8C%D0%BA%D1%96-%D0%BA%D0%BE%D0%BC%D1%96%D1%81%D1%96%D1%97 | Y12: yes | Z12: https://izmail-rada.gov.ua/2011-11-16-07-26-09/2011-11-16-07-31-59 | AA12: yes | AB12: http://kam-pod.gov.ua/miska-vlada/videotransliatsii-zasidan-postiinykh-komisii-miskoi-rady ( ) http://kam-pod.gov.ua/rada/deputatsky-korpus/post-komisii-miskradi/arkhiv-protokoliv-zasidan-postiinykh-komisii-miskoi-rady ( ) | AC12: yes | AD12: http://kam.gov.ua/miska_vlada/miska_rada/postiyni_komisii_miskoi_radi_vii_sklikannya | AE12: partially | AF12: https://kmr.gov.ua/uk/comisii/31/zasidannya. (https://kmr.gov.ua/uk/comisii/28/zasidannya); (https://kmr.gov.ua/uk/comisii/28/video-archive); (https://kmr.gov.ua/uk/comisii/28/protokol); https://kmr.gov.ua/uk/comisii/26 (http://kmr.gov.ua/uk/comisii/21); (https://kmr.gov.ua/uk/comisii/21/video); (https://kmr.gov.ua/uk/comisii/21/protokol); (https://kmr.gov.ua/uk/comisii/21/video-archive) | AG12: yes | AH12: http://kovelrada.gov.ua/protokoli_zasidan_postijnih_komisij_za_2020_rik.html - | AI12: no | AJ12: https://konotop-rada.gov.ua/zasidannia-miskoi-komisii-z-pytan-tekhnohenno-ekolohichnoi-bezpeky-ta-nadzvychajnykh-sytuatsij-vid-27-03-2020-roku/ | AK12: no | AM12: yes | AN12: http://www.krm.gov.ua/article/view/824 | AO12: yes | AP12: https://kremen.gov.ua/?view=project-journals | AQ12: yes | AR12: https://kr.gov.ua/ua/st/pg/240117320165686_s/ http://kr.gov.ua/ua/st/pg/20415937626381_s/ | AS12: yes | AT12: http://www.kr-rada.gov.ua/arhiv-zasidan/ http://www.kr-rada.gov.ua/postiyni-deputatski-komisiyi/ | AU12: yes | AV12: https://lis.gov.ua/2011-03-25-08-36-56/resheniya/protokoli-postijnikh-komisij.html | AW12: yes | AX12: https://www.lutskrada.gov.ua/pages/protokoly-zasidan-postiinykh-komisii https://www.lutskrada.gov.ua/video-news/on-line | AY12: yes | AZ12: https://www.lvivrada.gov.ua/miska-rada/postiyni-komisii | BA12: yes | BB12: http://marsovet.org.ua/articles/show/article/2336 | BC12: no | BE12: partially | BG12: yes | BH12: https://mukachevo-rada.gov.ua/committees/postijna-deputatska-komisiya-z-pitan-byudzhetu-ta-socialno-ekonomichnogo-rozvitku https://www.youtube.com/channel/UCzW60VEq1f-AchMKI6ox7PQ | BI12: yes | BJ12: https://nizhynrada.gov.ua/nmr/miska-rada/protokoli-postiynih-deputatskih-komisiy/protokoli-zasidan-postiynoji-komisiji-miskoji-radi-z-pitan-socialnogo-zahistu-naselennya-osviti-ohoroni-zdorov-ya-kulturi-sim-ji-ta-molodi-fizichnoji-kulturi-i-sportu https://nizhynrada.gov.ua/news/novini/vidbulasya-komisiji-z-pitan-socialno-ekonomichnogo-rozvitku-mista https://nizhynrada.gov.ua/videos?page=3 | BK12: yes | BL12: http://nikopol-mrada.dp.gov.ua/publichna-informatsiia/protokoly-zasidan-postiinykh-komisii-miskoi-rady | BM12: no | BO12: yes | BP12: https://deputat.odessa.ua/commissions/ | BQ12: yes | BR12: http://olexrada.gov.ua/category/city_rada/cg_st_komis | BS12: yes | BT12: https://pavlogradmrada.dp.gov.ua/category/miska-rada/protokoli-zasidan-postijjnikh-deputatskikh-komisijj | BU12: yes | BV12: http://www.rada-poltava.gov.ua/documents/inshi_dokumenti/ | BW12: yes | BX12: http://rivnerada.gov.ua/portal/commissions | BY12: yes | BZ12: http://sed-rada.gov.ua/miska-rada/postiyni-komisiyi-miskoyi-radi-vii-sklikannya | CA12: partially | CB12: http://e-deputat.slavrada.gov.ua/uk/commissions http://docs.slavrada.gov.ua/pdzas/ http://slavrada.gov.ua/?view=live http://slavrada.gov.ua/?view=live | CC12: yes | CD12: https://smr.gov.ua/uk/miska-vlada/miska-rada/postijni-komisiji/38-postijni-komisiji.html https://smr.gov.ua/uk/miska-vlada/miska-rada/postijni-komisiji/56-komisiji/19648-komisiya-5.html | CE12: yes | CF12: https://ternopilcity.gov.ua/sesiya/protokoli-visnovki-rekomendatsii-ta-grafik-provedennya-zasidan-postiynih-komisiy/8go-sklikannya/ | CG12: partially | CH12: https://rada-uzhgorod.gov.ua/miska_rada#mtbqsjodqz https://rada-uzhgorod.gov.ua/miska_rada#3lr0o7stngj | CI12: yes | CJ12: http://uman-rada.gov.ua/index.php/dokumenty/protokoly-komisii | CK12: yes | CL12: https://doc.city.kharkov.ua/uk/profile/document/protocols | CM12: yes | CN12: http://www.city.kherson.ua/articles/protokoli-postiynih-komisiy-miskoyi-radi-viii-sklikannya-2020-2021-roki http://www.city.kherson.ua/articles/visnovki-ta-rekomendaciyi-postiynih-komisiy-miskoyi-radi-viii-sklikannya-2020-2021-roki | CO12: yes | CP12: https://khm.gov.ua/uk/commission-protocols | CQ12: yes | CR12: http://chmr.gov.ua/ua/sections.php?s=2 http://chmr.gov.ua/ua/files.php?s=2&s1=168&s2=398 http://chmr.gov.ua/ua/files.php?s=2&s1=168&s2=396 | CS12: yes | CT12: http://chernivtsy.eu/portal/postijni-deputatski-komisiyi-chernivetskoyi-miskoyi-rady | CU12: yes | CV12: https://chernigiv-rada.gov.ua/comisii/id-1411/ | CW12: no
A13: Q12 | B13: Are the regular reports of the mayor on his work published on the City Council website (at least annually)? | C13: yes | D13: http://artemrada.gov.ua/15891 | E13: no | G13: no | I13: partially | J13: https://new.bc-rada.gov.ua/miska_rada/zvitnist/zvituvannia_miskoho_holovy/zvituvannia_miskoho_holovy_20.html , | K13: yes | L13: http://brovary-rada.gov.ua/content/zvit-miskogo-golovi.html 2020 | M13: yes | N13: https://www.vmr.gov.ua/Lists/CityMajor/ShowContent.aspx?ID=3 | O13: yes | P13: https://dniprorada.gov.ua/uk/articles/item/36711/rishennya-dniprovskoi-miskoi-radi-vid-22-01-2020-11053-pro-zvit-miskogo-golovi-schodo-zdijsnennya-derzhavnoi-regulyatornoi-politiki-vikonavchimi-organami-miskoi-radi-u-2019-roci | Q13: yes | R13: https://drohobych-rada.gov.ua/%d0%bc%d1%96%d1%81%d1%8c%d0%ba%d0%b0-%d1%80%d0%b0%d0%b4%d0%b0/taras-kuchma/ | S13: yes | T13: http://zt-rada.gov.ua/?3505[0]=1 | U13: no | W13: yes | X13: http://www.mvk.if.ua/news/51631 http://www.mvk.if.ua/video/ | Y13: no | AA13: yes | AB13: http://kam-pod.gov.ua/files/zvit-mg.pdf http://kam-pod.gov.ua/novini/video-novini/item/51-zvit-miskoho-holovy-za-100-dniv | AC13: yes | AD13: http://kam.gov.ua/ua/person/pg/250116793923950_p8/ | AE13: yes | AF13: https://kyivcity.gov.ua/kyiv_ta_miska_vlada/richni_zviti_kmda/ | AG13: yes | AH13: http://www.kovelrada.gov.ua/news-8635.html | AI13: no | AK13: no | AM13: yes | AN13: http://www.krm.gov.ua/article/view/32 | AO13: yes | AP13: https://www.kremen.gov.ua/?view=kremen-page&page-id=10 | AQ13: yes | AR13: https://kr.gov.ua/ua/news/pg/241220602642854_s/ | AS13: yes | AT13: http://www.kr-rada.gov.ua/zviti/ http://www.kr-rada.gov.ua/miskiy-golova/ | AU13: yes | AW13: yes | AX13: https://www.lutskrada.gov.ua/pages/zvit-miskoho-holovy-pro-zdiisnennia-derzhavnoi-rehuliatornoi-polityky-vykonavchymy-orhanamy; | AY13: no | BA13: yes | BB13: http://marsovet.org.ua/articles/show/menu/3226 | BC13: no | BE13: yes | BF13: https://mkrada.gov.ua/content/zvit-miskogo-golovi.html | BG13: partially | BH13: https://mukachevo-rada.gov.ua/profiles/baloga-andriy-viktorovich 2018 | BI13: yes | BJ13: https://nizhynrada.gov.ua/nmr/miskiy-golova/zvituvannya-miskogo-golovi | BK13: yes | BL13: http://nikopol-mrada.dp.gov.ua/vlada/zvity-miskoho-holovy http://nikopol-mrada.dp.gov.ua/pbinf/2021_R/2-4-8.rar | BM13: no | BO13: yes | BP13: https://www.omr.gov.ua/ua/city/mayor/report/ https://truhanov.od.ua/ | BQ13: partially | BR13: 2010 - 2014 - http://olexrada.gov.ua/doc/zmg1014.pdf 2013 - http://olexrada.gov.ua/news/zvit-miskogo-golovy-s-tsapyuka-pro-robo.html/nggallery/page/1 2018 - http://olexrada.gov.ua/news/oleksandrijtsi-zatverdyly-zvit-miskogo-golovy.html . | BS13: yes | BT13: https://pavlogradmrada.dp.gov.ua/kerivnictvo-mista | BU13: yes | BV13: http://www.rada-poltava.gov.ua/documents/public_reports/ ( ) | BW13: yes | BX13: 2020 http://rvrada.gov.ua/portalfiles/1/34/9153/zvitReg2020.pdf; http://rivnerada.gov.ua/portal/mayor | BY13: partially | BZ13: http://sed-rada.gov.ua/miska-rada/zviti-miskogo-golovi-yogo-zastupnikiv-ta-sekretarya-radi | CA13: partially | CB13: http://slavrada.gov.ua/?view=news&newsID=23012 http://slavrada.gov.ua/?view=news&newsID=16883 http://slavrada.gov.ua/?view=news&newsID=13187 | CC13: yes | CD13: https://smr.gov.ua/uk/miska-vlada/miskij-golova/zviti.html ( 2006 ) | CE13: yes | CF13: http://zvit.nadal.te.ua/ | CG13: yes | CH13: https://rada-uzhgorod.gov.ua/rada_docs/show/zvit-miskoho-holovy-pro-zdiisnennia-derzhavnoi-rehuliatornoi-polityky-vykonavchymy-orhanamy-miskoi-rady-za-2020-rik https://rada-uzhgorod.gov.ua/publichniy-zvit-miskogo-golovi-nazhivo | CI13: yes | CJ13: https://uman-rada.gov.ua/index.php/dokumenty/proiekty-rishen-miskoi-rady/item/16917-zvit-miskoho-holovy-pro-zdiisnennia-derzhavnoi-rehuliatornoi-polityky-umanskoiu-miskoiu-radoiu-ta-ii-vykonavchym-komitetom-u-2020-rotsi | CK13: no | CM13: yes | CN13: 2018 - http://www.city.kherson.ua/articles/zviti-miskogo-golovi 2019 - http://www.city.kherson.ua/news_detail/miskiy-golova-volodimir-mikolayenko-prozvituvav-na-ua:herson | CO13: yes | CP13: http://khm.gov.ua/uk/mayor-reports | CQ13: yes | CR13: http://chmr.gov.ua/ua/ | CS13: partially | CT13: http://chernivtsy.eu/portal/zvity-chernivetskogo-miskogo-golovy 2018-2020 . | CU13: yes | CV13: 2018 http://chernigiv-rada.gov.ua/news/id-450/ 2019 https://chernigiv-rada.gov.ua/news/id-38817/ | CW13: yes | CX13: http://shostka-rada.gov.ua/zvti_organu_vladi/
A14: Q13 | B14: Is the information about the city mayor, City Council deputies (including CVs or biographical information, contact information, time and place of reception of citizens) published on the City Council website? | C14: yes | D14: http://artemrada.gov.ua/mayor http://artemrada.gov.ua/28281 | E14: partially | F14: https://berdychiv.com.ua/%d0%bc%d1%96%d1%81%d1%8c%d0%ba%d0%b8%d0%b9-%d0%b3%d0%be%d0%bb%d0%be%d0%b2%d0%b0/ https://berdychiv.com.ua/%d1%81%d0%b0%d0%bc%d0%be%d0%b2%d1%80%d1%8f%d0%b4%d1%83%d0%b2%d0%b0%d0%bd%d0%bd%d1%8f/%d1%81%d0%ba%d0%bb%d0%b0%d0%b4/ | G14: yes | H14: https://bmr.gov.ua/index.php?id=212&no_cache-l https://bmr.gov.ua/index.php?id=522 https://bmr.gov.ua/index.php?%20id=800000598&no_cache=%201 https://bmr.gov.ua/index.php? id=63 https://bmr.gov.ua/index.php?id=53 | I14: yes | J14: http://bc-rada.gov.ua/node/1835 | K14: yes | L14: http://brovary-rada.gov.ua/content/biografichna-dovidka.html http://brovary-rada.gov.ua/content/povnovazhennya.html http://brovary-rada.gov.ua/content/deputatskiy-korpus.html http://brovary-rada.gov.ua/content/grafik-priyomu-deputativ.html | M14: yes | N14: http://drv.vmr.gov.ua/deputaty.aspx https://www.vmr.gov.ua/Lists/CityMajor/Default.aspx | O14: yes | P14: https://dniprorada.gov.ua/uk/persons/item/211/filatov-boris-albertovich https://dniprorada.gov.ua/uk/persons/category/deputati-viii-sklikannya/ http://edeputat.dniprorada.gov.ua/uk/deputies | Q14: yes | R14: https://drohobych-rada.gov.ua/%d0%bc%d1%96%d1%81%d1%8c%d0%ba%d0%b0-%d1%80%d0%b0%d0%b4%d0%b0/taras-kuchma/ https://drohobych-rada.gov.ua/%d0%bc%d1%96%d1%81%d1%8c%d0%ba%d0%b0-%d1%80%d0%b0%d0%b4%d0%b0/depytatu/ | S14: yes | T14: http://zt-rada.gov.ua/depytatu http://zt-rada.gov.ua/?3505[0]=27 | U14: yes | V14: https://zp.gov.ua/uk/persons/item/3/buryak-volodimir-viktorovich https://zp.gov.ua/uk/persons/category/deputati-miskoi-radi/ | W14: yes | X14: http://www.mvk.if.ua/biografija http://www.mrada.if.ua/%D0%B4%D0%B5%D0%BF%D1%83%D1%82%D0%B0%D1%82%D0%B8-%D0%BC%D1%96%D1%81%D1%8C%D0%BA%D0%BE%D1%97-%D1%80%D0%B0%D0%B4%D0%B8/%D0%B4%D0%B5%D0%BF%D1%83%D1%82%D0%B0%D1%82%D1%81%D1%8C%D0%BA%D0%B8%D0%B9-%D0%BA%D0%BE%D1%80%D0%BF%D1%83%D1%81 | Y14: partially | Z14: http://www.izmail-rada.gov.ua/2009-09-14-09-14-45 http://www.izmail-rada.gov.ua/2011-11-16-07-26-09/2011-11-16-07-30-33 http://www.izmail-rada.gov.ua/2011-11-16-07-26-09/2011-11-16-07-28-13 | AA14: yes | AB14: http://kam-pod.gov.ua/miskiy-golova/biografiya http://kam-pod.gov.ua/rada/deputatsky-korpus/deputati-misk-radi/zagalnij-spisok-deputativ ( ) http://kam-pod.gov.ua/rada/deputatsky-korpus/deputati-misk-radi/spisok-deputativ-kam-yanets-podilskoji-miskoji-radi-v-bagatomandatnomu-viborchomu-okruzi ( , ) | AC14: yes | AD14: http://kam.gov.ua/miska_vlada/kerivnitstvo_miskoi_radi http://kam.gov.ua/miska_vlada/miska_rada/deputati_miskoi_radi_viii_sklikannya | AE14: yes | AF14: https://kyivcity.gov.ua/kyiv_ta_miska_vlada/kyivskyi_miskyi_holova/ https://kmr.gov.ua/uk/deputats | AG14: yes | AH14: http://www.kovelrada.gov.ua/council.html | AI14: no | AJ14: https://konotop-rada.gov.ua/7530-2019-08-20-14-00-50/ - | AK14: yes | AL14: http://konstrada.gov.ua/vlada/miskij-golova http://konstrada.gov.ua/vlada/miska-rada/32-miska-rada/deputati-miskoji-radi | AM14: yes | AN14: http://www.krm.gov.ua/article/view/32 :http://www.krm.gov.ua/person | AO14: yes | AP14: https://kremen.gov.ua/?view=mayor-info https://opendata.kremen.gov.ua/dataset/%D0%B4%D0%B0%D0%BD%D1%96-%D0%BF%D1%80%D0%BE-%D0%B4%D0%B5%D0%BF%D1%83%D1%82%D0%B0%D1%82%D1%96%D0%B2-%D0%BA%D1%80%D0%B5%D0%BC%D0%B5%D0%BD%D1%87%D1%83%D1%86%D1%8C%D0%BA%D0%BE%D1%97-%D0%BC%D1%96%D1%81%D1%8C%D0%BA%D0%BE%D1%97-%D1%80%D0%B0%D0%B4%D0%B8-%D1%83-%D1%82%D0%BE%D0%BC%D1%83-%D1%87%D0%B8%D1%81%D0%BB%D1%96-%D0%BA%D0%BE%D0%BD%D1%82%D0%B0%D0%BA%D1%82%D0%BD%D1%96-%D0%B4%D0%B0%D0%BD%D1%96-%D1%82%D0%B0-%D0%B3%D1%80%D0%B0%D1%84%D1%96%D0%BA-2#{} | AQ14: yes | AR14: https://kr.gov.ua/miskiy_golova https://kr.gov.ua/deputatskiy_korpus | AS14: yes | AT14: http://www.kr-rada.gov.ua/miskiy-golova/ http://www.kr-rada.gov.ua/deputats/ | AU14: yes | AV14: https://lis.gov.ua/vijskovo-tsivilna-administratsiya/kerivnuk-vtsa.html https://lis.gov.ua/vijskovo-tsivilna-administratsiya/zastupniki-kerivnika-vtsa.html https://lis.gov.ua/2011-03-25-08-36-56/494-2010-11-23-14-00-52/deputatskij-korpus.html | AW14: yes | AX14: https://www.lutskrada.gov.ua/sekretar-miskoi-rady/sekretar-miskoi-rady https://www.lutskrada.gov.ua/deputies https://www.lutskrada.gov.ua/pages/pryiom-hromadian-deputatamy https://www.lutskrada.gov.ua/city-government | AY14: yes | AZ14: https://www.lvivrada.gov.ua/deputaty/deputaty-miskoi-rady | BA14: yes | BB14: http://marsovet.org.ua/articles/show/article/2366 | BC14: partially | BD14: http://mlt.gov.ua/index.php?option=com_content&task=view&id=6100 http://mlt.gov.ua/index.php?option=com_content&task=view&id=4276&Itemid=283 | BE14: yes | BF14: https://mkrada.gov.ua/content/miskiy-golova.html | BG14: yes | BH14: https://mukachevo-rada.gov.ua/profiles/baloga-andriy-viktorovich https://mukachevo-rada.gov.ua/profiles/berdishev-oleksandr-vadimovich-8 | BI14: yes | BJ14: https://nizhynrada.gov.ua/nmr/departments/deputati-miskoji-radi https://nizhynrada.gov.ua/nmr/profiles/kodola-oleksandr-mihaylovich | BK14: partially | BL14: http://nikopol-mrada.dp.gov.ua/vlada/miskyi-holova http://nikopol-mrada.dp.gov.ua/obrgrag/preemy/rada.doc http://nikopol-mrada.dp.gov.ua/vlada/deputatskyi-korpus/miska-rada http://nikopol-mrada.dp.gov.ua/vlada/deputatskyi-korpus/pryiom-hromadian-deputatamy | BM14: partially | BN14: https://novomoskovsk-rada.dp.gov.ua/ua/vikonkom/team , | BO14: partially | BP14: https://omr.gov.ua/ua/city/mayor/ https://omr.gov.ua/ua/essential/218464 https://deputat.odessa.ua/deputies/ | BQ14: yes | BR14: http://olexrada.gov.ua/category/mer http://olexrada.gov.ua/category/citizens_treats/info_for_citizens http://olexrada.gov.ua/doc/zvern/zvt022021.pdf http://olexrada.gov.ua/category/city_rada/dep_8_conv | BS14: partially | BT14: https://pavlogradmrada.dp.gov.ua/kerivnictvo-mista https://pavlogradmrada.dp.gov.ua/kerivnictvo-mista/biografichna-dovidka-3.html https://pavlogradmrada.dp.gov.ua/miska-rada/deputati.html | BU14: yes | BV14: http://www.rada-poltava.gov.ua/rule/rada/secretary/ http://www.rada-poltava.gov.ua/rule/rada/delegate/ http://www.rada-poltava.gov.ua/rule/rada/secretary/ http://www.rada-poltava.gov.ua/rule/rada/delegate/ | BW14: yes | BX14: http://rivnerada.gov.ua/portal/deputies; http://rivnerada.gov.ua/portal/view-deputy/44; http://rivnerada.gov.ua/portal/mayor | BY14: yes | BZ14: http://sed-rada.gov.ua/miska-rada/deputati http://sed-rada.gov.ua/novini-mista/informaciya-dlya-viborciv-sievierodonecka_09-09-2019 | CA14: yes | CB14: http://e-deputat.slavrada.gov.ua/uk/deputies | CC14: yes | CD14: https://smr.gov.ua/uk/miska-vlada/miskij-golova/biografiya.html https://smr.gov.ua/uk/zvorotnij-zv-yazok.html https://smr.gov.ua/uk/zvorotnij-zv-yazok/9503-polozhennia-pro-poriadok-roboty-zi-zvernenniamy-ta-orhanizatsii-osobystoho-pryiomu-hromadian-u-sumskii-miskii-radi-ta-ii-vykonavchykh-orhanakh.html https://smr.gov.ua/uk/miska-vlada/miska-rada/deputati/36-deputati.html https://smr.gov.ua/uk/miska-vlada/miska-rada/grafiki-prijomu-kerivnikiv-deputativ-ta-deputatskikh-fraktsij-i-grup-mista/1823-grafik-prijomu-deputatskikh-fraktsij-i-grup-v-sumskij-miskij-radi-vii-sklikannya-2016-2020-rr.html https://smr.gov.ua/uk/miska-vlada/miska-rada/grafiki-prijomu-kerivnikiv-deputativ-ta-deputatskikh-fraktsij-i-grup-mista/1827-grafiki-prijomu-deputativ-miskoji-radi.html | CE14: yes | CF14: https://ternopilcity.gov.ua/vikonavchiy-komitet/sklad-vikonavchogo-komitetu/4563.html https://ternopilcity.gov.ua/deputy/deputati-viii-cklikannya/deputatskiy-korpus/ | CG14: yes | CH14: https://rada-uzhgorod.gov.ua/aparat/mer https://rada-uzhgorod.gov.ua/miska_rada#vvhap6fxmz, https://rada-uzhgorod.gov.ua/miska_rada#sqdyfl5ti9s – | CI14: yes | CJ14: http://uman-rada.gov.ua/index.php/miska-vlada https://uman-rada.gov.ua/index.php/miska-vlada/deputaty https://uman-rada.gov.ua/index.php/miska-vlada/deputaty/deputatski-fraktsii-ta-hrupy | CK14: yes | CL14: http://www.city.kharkov.ua/uk/gorodskaya-vlast/gorodskoj-golova/biografiya.html https://www.city.kharkov.ua/uk/gorodskaya-vlast/gorodskoj-golova/obratnaya-svyaz/obratitsya-k-gorodskomu-golove.-lichnyij-priem.html https://www.city.kharkov.ua/uk/gorodskaya-vlast/gorodskoj-sovet/deputatyi.html | CM14: partially | CN14: http://www.city.kherson.ua/c/miska-vlada/s/kerivniki http://mvk.kherson.ua/DepList.php | CO14: yes | CP14: http://khm.gov.ua/uk/content/biografiya http://khm.gov.ua/uk/content/pryymalnya http://khm.gov.ua/uk/content/zvernennya-gromadyan https://khm.gov.ua/uk/user/203 | CQ14: yes | CR14: http://chmr.gov.ua/ua/rada.php?s=2&s1=168&s2=456 http://chmr.gov.ua/ua/text.php?s=2&s1=89&s2=103#bio | CS14: yes | CT14: http://chernivtsy.eu/portal/4091-2; http://chernivtsy.eu/portal/11651-2; http://chernivtsy.eu/portal/8629-2 http://chernivtsy.eu/portal/9/842-842.html | CU14: yes | CV14: http://chernigiv-rada.gov.ua/mr-golova-biografiya/ http://chernigiv-rada.gov.ua/deputat/ | CW14: yes | CX14: http://www.old.shostka-rada.gov.ua/government/miska_rada/
A15: Q14 | B15: Is the information on the list and contact details of the City Council standing committees, as well as names of Council standing committees’ members published on the City Council website? | C15: yes | D15: http://artemrada.gov.ua/28323 http://artemrada.gov.ua/deputy_committee | E15: yes | F15: https://berdychiv.com.ua/%d1%81%d0%b0%d0%bc%d0%be%d0%b2%d1%80%d1%8f%d0%b4%d1%83%d0%b2%d0%b0%d0%bd%d0%bd%d1%8f/%d0%ba%d0%be%d0%bc%d1%96%d1%81%d1%96%d1%97/ | G15: yes | H15: https://bmr.gov.ua/index.php? id=58&L=456 https://bmr.gov.ua/index.php?id=58 | I15: yes | J15: http://bc-rada.gov.ua/node/1838 | K15: yes | L15: http://brovary-rada.gov.ua/content/postiyni-komisii.html | M15: yes | N15: https://www.vmr.gov.ua/Lists/CityCouncil/ShowContent.aspx?ID=64 | O15: yes | P15: https://dniprorada.gov.ua/uk/page/postijni-komissii-miskoi-radi | Q15: yes | R15: https://drohobych-rada.gov.ua/%d0%bc%d1%96%d1%81%d1%8c%d0%ba%d0%b0-%d1%80%d0%b0%d0%b4%d0%b0/%d0%ba%d0%be%d0%bc%d1%96%d1%81%d1%96%d1%97-%d0%b2%d0%b8%d0%ba%d0%be%d0%bd%d0%b0%d0%b2%d1%87%d0%be%d0%b3%d0%be-%d0%ba%d0%be%d0%bc%d1%96%d1%82%d0%b5%d1%82%d1%83/ | S15: yes | T15: http://zt-rada.gov.ua/graficcomisiy | U15: yes | V15: https://zp.gov.ua/uk/organizations/item/165/postijna-komisiya-z-pitan-deputatskoi-diyalnosti-reglamentu-zakonnosti-pravoporyadku-ta-zapobigannya-korupcii- https://zp.gov.ua/uk/organizations/category/postijni-komisii-miskoi-radi-8-sklikannya/ | W15: yes | X15: https://www.mrada.if.ua/%D0%BF%D1%80%D0%BE-%D0%BC%D1%96%D1%81%D1%8C%D0%BA%D1%83-%D1%80%D0%B0%D0%B4%D1%83/%D0%B4%D0%B5%D0%BF%D1%83%D1%82%D0%B0%D1%82%D1%81%D1%8C%D0%BA%D1%96-%D0%BA%D0%BE%D0%BC%D1%96%D1%81%D1%96%D1%97 | Y15: partially | Z15: http://www.izmail-rada.gov.ua/2011-11-16-07-26-09/2011-11-16-07-28-44 | AA15: yes | AB15: https://kam-pod.gov.ua/rada/deputatsky-korpus/post-komisii-miskradi/sklad-postijnikh-komisij-miskoji-radi | AC15: yes | AD15: http://kam.gov.ua/miska_vlada/miska_rada/postiyni_komisii_miskoi_radi_viii_sklikannya | AE15: yes | AF15: https://kmr.gov.ua/uk/comisii https://kmr.gov.ua/uk/comisii/28/sklad (http://kmr.gov.ua/uk/comisii/21/sklad) https://kyivcity.gov.ua/kyiv_ta_miska_vlada/kmr/postiini_komisii/ | AG15: yes | AH15: http://kovelrada.gov.ua/commission.html | AI15: yes | AJ15: https://konotop-rada.gov.ua/postijni-komisii-miskoi-rady-8-sklykannia/ | AK15: yes | AL15: http://konstrada.gov.ua/vlada/miska-rada/35-miska-rada/postijni-komisiji | AM15: yes | AN15: http://www.krm.gov.ua/article/view/45 : http://www.krm.gov.ua/article/view/46 :http://www.krm.gov.ua/article/view/821 | AO15: yes | AP15: https://kremen.gov.ua/?view=kremen-page&page-id=101 | AQ15: yes | AR15: https://kr.gov.ua/ua/st/pg/181018802279585_s/ | AS15: yes | AT15: http://www.kr-rada.gov.ua/postiyni-deputatski-komisiyi/ | AU15: yes | AV15: https://lis.gov.ua/vijskovo-tsivilna-administratsiya/vikonavchi-organi/strukturni-pidrozdili.html | AW15: yes | AX15: https://www.lutskrada.gov.ua/pages/postiini-komisii-miskoi-rady https://www.lutskrada.gov.ua/komisii-lutskoi-miskoi-rady | AY15: yes | AZ15: https://www.lvivrada.gov.ua/miska-rada/postiyni-komisii | BA15: yes | BB15: http://marsovet.org.ua/articles/show/article/2366 | BC15: no | BE15: yes | BG15: yes | BH15: https://mukachevo-rada.gov.ua/committees | BI15: yes | BJ15: https://nizhynrada.gov.ua/nmr/miska-rada/deputati-miskoji-radi/frakciji-ta-postiyni-deputatski-komisiji | BK15: partially | BL15: http://nikopol-mrada.dp.gov.ua/vlada/deputatskyi-korpus/postiini-komisii-nikopolskoi-miskoi-rady-vii-sklykannia | BM15: yes | BN15: https://novomoskovsk-rada.dp.gov.ua/ua/rada/postijni-komisiyi | BO15: partially | BP15: https://deputat.odessa.ua/commissions/ | BQ15: partially | BR15: http://olexrada.gov.ua/category/city_rada/cg_st_komis http://olexrada.gov.ua/base/sesiya/8/r-4.zip | BS15: partially | BT15: https://pavlogradmrada.dp.gov.ua/miska-rada/postoyannaya-deputatskaya-komissiya-po-voprosam-zakonnosti-deputatskojj-ehtiki-svyazyam-s-politicheskimi-partiyami-obshhestvennymi-organizaciyami-i-sredstvami-massovojj-informacii.html | BU15: yes | BV15: https://rada-poltava.gov.ua/rule/rada/comission/ | BW15: yes | BX15: http://rivnerada.gov.ua/portal/commissions | BY15: yes | BZ15: http://sed-rada.gov.ua/postiyni-komisiyi-miskoyi-radi-vii-sklikannya/personalniy-sklad-postiynih-komisiy-miskoyi-radi-vii-sklikannya | CA15: yes | CB15: http://e-deputat.slavrada.gov.ua/uk/commissions | CC15: yes | CD15: https://smr.gov.ua/uk/miska-vlada/miska-rada/postijni-komisiji/38-postijni-komisiji.html | CE15: yes | CF15: https://ternopilcity.gov.ua/deputy/deputati-viii-cklikannya/deputatski-komisii/ | CG15: partially | CH15: https://rada-uzhgorod.gov.ua/miska_rada#3lr0o7stngj - | CI15: yes | CJ15: http://uman-rada.gov.ua/index.php/postiini-komisii | CK15: partially | CL15: https://www.city.kharkov.ua/uk/gorodskaya-vlast/gorodskoj-sovet/komissii.html | CM15: partially | CN15: http://www.city.kherson.ua/upload/Komisii_VIII_%20281220.pdf | CO15: yes | CP15: https://khm.gov.ua/uk/content/postiyni-komisiyi | CQ15: yes | CR15: http://chmr.gov.ua/ua/komis.php?s=2&s1=168&s2=456 | CS15: yes | CT15: http://chernivtsy.eu/portal/9/872-872.html | CU15: yes | CV15: http://chernigiv-rada.gov.ua/comisii/ | CW15: yes | CX15: http://shostka-rada.gov.ua/government/miska_rada/deputatsk_koms_shostkinsko_msko_radi_v_sklikannya/
