Workbook

Sheet Monitoring_MP
A1: questionID | B1: ID_2020 | C1: Row | D1: question | E1: question_en | G1: Code issues | H1: Code comment | I1: max points | J1: ans1 | K1: ans1en | L1: ans2 | M1: ans2en | N1: ans3 | O1: ans3en | P1: ans4 | Q1: ans4en | R1: ans5 | S1: ans5en | T1: ans6 | U1: ans6en | V1: ans7 | W1: ans7en | X1: ans8 | Y1: ans8en | Z1: ans9 | AA1: ans9en | AB1: Best | AC1: Worst | AD1: pts1 | AE1: pts2 | AF1: pts3 | AG1: pts4 | AH1: pts5 | AI1: pts6 | AJ1: pts7 | AK1: pts8 | AL1: pts9 | AM1: Anenii Noi | AN1: Anenii Noi_comentariu | AO1: Basarabeasca | AP1: Basarabeasca_comentariu | AQ1: Briceni | AR1: Briceni_comentariu | AS1: Cahul | AT1: Cahul_comentariu | AU1: Călărași | AV1: Călărași_comentariu | AW1: Cantemir | AX1: Cantemir_comentariu | AY1: Caușeni | AZ1: Caușeni_comentariu | BA1: Cimișlia | BB1: Cimișlia_comentariu | BC1: Criuleni | BD1: Criuleni_comentariu | BE1: Dondușeni | BF1: Dondușeni_comentariu | BG1: Drochia | BH1: Drochia_comentariu | BI1: Dubăsari | BJ1: Dubăsari_comentariu | BK1: Edineț | BL1: Edineț_comentariu | BM1: Fălești | BN1: Fălești_comentariu | BO1: Florești | BP1: Florești_comentariu | BQ1: Glodeni | BR1: Glodeni_comentariu | BS1: Hîncești | BT1: Hîncești_comentariu | BU1: Ialoveni | BV1: Ialoveni_comentariu | BW1: Leova | BX1: Leova_comentariu | BY1: Nisporeni | BZ1: Nisporeni_comentariu | CA1: Ocnița | CB1: Ocnița_comentariu | CC1: Orhei | CD1: Orhei_comentariu | CE1: Rezina | CF1: Rezina_comentariu | CG1: Rîșcani | CH1: Rîșcani_comentariu | CI1: Sîngerei | CJ1: Sîngerei_comentariu | CK1: Șoldănești | CL1: Șoldănești_comentariu | CM1: Soroca | CN1: Soroca_comentariu | CO1: Ștefan Vodă | CP1: Ștefan Vodă_comentariu | CQ1: Strășeni | CR1: Strășeni_comentariu | CS1: Taraclia | CT1: Taraclia_comentariu | CU1: Telenești | CV1: Telenești_comentariu | CW1: Ungheni | CX1: Ungheni_comentariu
A2: Q1 | B2: R20001 | C2: 2 | D2: Pagina web oficială a autorităților publice dispune de compartimente dedicate transparenţei decizionale, unde se plasează informaţia privind procesul de elaborare şi adoptare a deciziilor? | E2: Does the official web page of the public authority contains the fields related to transparency in decision making process, where the information about the development and approval of decisions is placed? | F2: acc | G2: acc1 | H2: acc1k | I2: 1 | J2: da | K2: yes | L2: nu | M2: no | N2: partial | O2: partially | P2: ="---" -> --- | Q2: ="---" -> --- | R2: ="---" -> --- | S2: ="---" -> --- | T2: ="---" -> --- | U2: ="---" -> --- | V2: ="---" -> --- | W2: ="---" -> --- | X2: N/A | Y2: N/A | Z2: ="---" -> --- | AA2: ="---" -> --- | AB2: =J2 -> da | AC2: =L2 -> nu | AD2: =I2 -> 1 | AE2: 0 | AF2: =AD2/2 -> 0.5 | AG2: ="---" -> --- | AH2: ="---" -> --- | AI2: ="---" -> --- | AJ2: ="---" -> --- | AK2: N/A | AL2: ="---" -> --- | AM2: nu | AN2: Nu sînt informații pe web | AO2: da | AP2: http://basarabeasca.md/ro/# | AQ2: partial | AR2: Deși pagina web dispune de compartimente destinate transparenței procesului decizional, acestea nu sînt completate sau conțin puține informații utile https://briceni.md/ | AS2: da | AT2: http://cahul.md/ | AU2: partial | AV2: Pagină web dispune de compartimente destinate transparenței decizionale, însă acestea nu sînt completate sau conțin puține informații utile http://www.calarasi.md/index.php/transparenta-decizionala | AW2: nu | AX2: Nu sînt informații pe web | AY2: da | AZ2: http://www.causeni.md/documents/ | BA2: da | BB2: http://raioncimislia.md/ | BC2: da | BD2: http://criuleni.md/index.php?l=ro | BE2: da | BF2: http://donduseni.md/ | BG2: partial | BH2: Pagină web dispune de compartimente destinate transparenței decizionale, însă acestea nu sînt completate sau conțin puține informații utile https://drochia.md/ | BI2: da | BJ2: http://dubasari.md/ | BK2: da | BL2: http://edinet.md/ | BM2: da | BN2: http://www.cr-falesti.md/index.php | BO2: da | BP2: http://floresti.md/ | BQ2: partial | BR2: http://www.glodeni.md/ro | BS2: da | BT2: https://hincesti.md/category/procesul-decizional/ | BU2: partial | BV2: https://il.md/ | BW2: da | BX2: http://www.leova.md/index.php?l=ro | BY2: nu | BZ2: Nu sînt informații pe web | CA2: partial | CB2: https://ocnita.md/ | CC2: da | CD2: http://or.md/ | CE2: nu | CF2: Nu sînt informații pe web | CG2: da | CH2: http://www.riscani.md/index.php?pag=procesul_decizional&ids=proiecte_decizii | CI2: da | CJ2: http://www.singerei.md/transparenta-decizionala.html | CK2: da | CL2: https://soldanesti.md/ | CM2: da | CN2: http://soroca.md/ | CO2: da | CP2: https://stefan-voda.md/ | CQ2: da | CR2: http://crstraseni.md/index.php?pag=cat&id=838&l=ro | CS2: nu | CT2: Nu sînt informații pe web | CU2: da | CV2: https://telenesti.md/ | CW2: da | CX2: http://www.crungheni.md/
A3: Q2 | B3: R20002 | C3: 3 | D3: Pagina web conține informații privind datele de contact și programul de lucru al președintelui, vicepreședinților, aparatul președintelui, subdiviziunile consiliului raional și secretarul consiliului raional, cu indicarea zilelor şi orelor de audienţă a președintelui și vicepreședinților? | E3: The web page contains information on contact details and work program of the President, Vice-Presidents and President of the region, including days and hours of district's President and Vice President audience? | F3: acc | G3: acc2 | H3: acc2k | I3: 1 | J3: da | K3: yes | L3: nu | M3: no | N3: partial | O3: partially | P3: ="---" -> --- | Q3: ="---" -> --- | R3: ="---" -> --- | S3: ="---" -> --- | T3: ="---" -> --- | U3: ="---" -> --- | V3: ="---" -> --- | W3: ="---" -> --- | X3: N/A | Y3: N/A | Z3: ="---" -> --- | AA3: ="---" -> --- | AB3: =J3 -> da | AC3: =L3 -> nu | AD3: =I3 -> 1 | AE3: 0 | AF3: =AD3/2 -> 0.5 | AG3: ="---" -> --- | AH3: ="---" -> --- | AI3: ="---" -> --- | AJ3: ="---" -> --- | AK3: N/A | AL3: ="---" -> --- | AM3: partial | AN3: https://anenii-noi.md/index.php?option=com_content&view=article&id=151&Itemid=528 https://anenii-noi.md/index.php?option=com_content&view=article&id=156&Itemid=527 https://anenii-noi.md/index.php?option=com_content&view=article&id=163&Itemid=531 https://anenii-noi.md/index.php?option=com_content&view=article&id=301&Itemid=662 | AO3: da | AP3: http://basarabeasca.md/ro/contacte/ http://basarabeasca.md/ro/aparatul-presedintelui-raionului-2/ | AQ3: da | AR3: https://briceni.md/contacte/ https://briceni.md/presedintele-raionului-briceni/#!prettyPhoto https://briceni.md/vicepresedintii-raionului-briceni/ | AS3: partial | AT3: https://cahul.md/datele-de-contact-ale-aparatului-presedintelui/ | AU3: partial | AV3: http://www.calarasi.md/index.php/aparat-si-subdiviziuni | AW3: partial | AX3: http://cantemir.md/pageview.php?l=ro&idc=139&t=/Contacte/Contacte/ | AY3: partial | AZ3: http://www.causeni.md/contacte | BA3: da | BB3: http://raioncimislia.md/contacte/ http://raioncimislia.md/audienta-cetatenilor/ | BC3: partial | BD3: http://criuleni.md/index.php?pag=page&id=407&l=ro | BE3: partial | BF3: http://donduseni.md/aparatul-presedintelui/ | BG3: partial | BH3: https://drochia.md/contacte/ https://drochia.md/presedintele-raionului/ | BI3: da | BJ3: http://dubasari.md/pagins/contact | BK3: partial | BL3: http://edinet.md/contacts /http://edinet.md/audienta/ | BM3: partial | BN3: http://www.cr-falesti.md/index.php/contacte http://www.cr-falesti.md/index.php/aparat-pres | BO3: da | BP3: http://floresti.md/contacte/ http://floresti.md/aparatul-presedintelui/ http://floresti.md/agenda-consiliului/ | BQ3: da | BR3: http://www.glodeni.md/ro/content/aparatul-pre%C8%99edintelui http://www.glodeni.md/ro/content/audienta-cetatenilor | BS3: da | BT3: https://www.facebook.com/Consiliul-Raional-Hincesti-542153075827385/ https://hincesti.md/2019/11/25/pre-edintele-raionului-h-nce-ti/ | BU3: da | BV3: https://il.md/presedintele-raionului/ https://il.md/agenda/ https://il.md/vicepresedintii-raionului/ https://il.md/aparatul-presedintelui-cr/ | BW3: da | BX3: http://www.leova.md/index.php?pag=feedback&id=561&l=ro http://www.leova.md/index.php?pag=page&id=917&l=ro | BY3: da | BZ3: https://nisporeni.md/contacte/ https://nisporeni.md/aparatul-presedintelui/ https://nisporeni.md/conducerea-raionului/ | CA3: partial | CB3: https://ocnita.md/772-2/ | CC3: partial | CD3: http://or.md/ | CE3: partial | CF3: http://consiliu.rezina.md/contacts.php?target=1 http://consiliu.rezina.md/contacts.php?target=2 http://consiliu.rezina.md/contacts.php?target=sectii http://consiliu.rezina.md/contacts.php?target=directii | CG3: partial | CH3: http://www.riscani.md/index.php?pag=page&id=55 http://www.riscani.md/index.php?pag=news2&tip=componenta | CI3: da | CJ3: http://www.singerei.md/contacte.html http://www.singerei.md/program-de-audienta.html http://www.singerei.md/structura.html | CK3: da | CL3: https://soldanesti.md/contacte/ https://soldanesti.md/petitii-si-audienta-cetatenilor/ | CM3: da | CN3: http://www.soroca.org.md/index.php/contacte http://www.soroca.org.md/index.php/consiliul-raional/presedintele-raionului-soroca | CO3: da | CP3: https://stefan-voda.md/vasile-gherman/ https://stefan-voda.md/alexandru-pavlicenco/ https://stefan-voda.md/aparatul-presedintelui-raionului/ | CQ3: da | CR3: http://crstraseni.md/index.php?pag=page&id=875&l=ro http://crstraseni.md/index.php?pag=page&id=803&l=ro | CS3: nu | CT3: Nu sînt informații pe web | CU3: partial | CV3: https://telenesti.md/contacte/ | CW3: da | CX3: http://www.crungheni.md/contacte/ http://www.crungheni.md/conducerea-raionului/program-de-audiente/
A4: Q3 | B4: R20003 | C4: 4 | D4: Este disponibilă pe pagina web lista instituțiilor raionale înființate de unitatea administrativ-teritorială și lista serviciilor desconcentrate ce activează în unitatea administrativ-teritorială, informații privind adresa și datele de contact? | E4: Is it available on the website the list of institutions established by the district administrative-territorial unit, the list of decentralized services operating in territorial-administrative unit, address information and contact details available on the website? | F4: acc | G4: acc3 | H4: acc3k | I4: 1 | J4: da | K4: yes | L4: nu | M4: no | N4: partial | O4: partially | P4: ="---" -> --- | Q4: ="---" -> --- | R4: ="---" -> --- | S4: ="---" -> --- | T4: ="---" -> --- | U4: ="---" -> --- | V4: ="---" -> --- | W4: ="---" -> --- | X4: N/A | Y4: N/A | Z4: ="---" -> --- | AA4: ="---" -> --- | AB4: =J4 -> da | AC4: =L4 -> nu | AD4: =I4 -> 1 | AE4: 0 | AF4: =AD4/2 -> 0.5 | AG4: ="---" -> --- | AH4: ="---" -> --- | AI4: ="---" -> --- | AJ4: ="---" -> --- | AK4: N/A | AL4: ="---" -> --- | AM4: partial | AN4: https://anenii-noi.md/index.php?option=com_content&view=article&id=130&Itemid=667 | AO4: da | AP4: http://basarabeasca.md/ro/institutii-fondate-de-consiliul-raional/ http://basarabeasca.md/ro/servicii-publice-desconcentrate-in-teritoriu-2/ http://basarabeasca.md/ro/directia-invatamint-general/institutii-subordonate/ | AQ4: nu | AR4: Nu sînt informații pe web | AS4: nu | AT4: Nu sînt informații pe web | AU4: nu | AV4: Nu sînt informații pe web | AW4: partial | AX4: http://cantemir.md/category.php?l=ro&idc=91&nod=1&t=/Directiile-Consiliului-Raional | AY4: nu | AZ4: Nu sînt informații pe web | BA4: partial | BB4: http://raioncimislia.md/ | BC4: da | BD4: http://criuleni.md/index.php?pag=page&id=423&l=ro http://criuleni.md/index.php?pag=page&id=437&l=ro | BE4: partial | BF4: http://donduseni.md/servicii-disconcentrate/ | BG4: partial | BH4: https://drochia.md/serviciile-desconcentrate/ | BI4: da | BJ4: http://dubasari.md/pagins/servicii-desconcentrate http://dubasari.md/pagins/cs-dubasari http://dubasari.md/pagins/prietenia http://dubasari.md/pagins/centrul-stomatologic-dubasari http://dubasari.md/pagins/scoala-sportiva | BK4: da | BL4: http://edinet.md/institutii-raionale/ http://edinet.md/servicii-desconcentrate/ | BM4: partial | BN4: http://www.cr-falesti.md/index.php/serv-p/servicii-desconcentrate | BO4: partial | BP4: http://floresti.md/lista-serviciilor-desconcentrate/ | BQ4: partial | BR4: http://www.glodeni.md/ro/content/serviciile-desconcentrate | BS4: partial | BT4: https://hincesti.md/2016/07/25/servicii-desconcentrate/ | BU4: partial | BV4: https://il.md/servicii-desconcentrate/ | BW4: nu | BX4: Nu sînt informații pe web | BY4: da | BZ4: https://nisporeni.md/serviciile-publice-desconcentrate/ | CA4: nu | CB4: Nu sînt informații pe web | CC4: da | CD4: http://or.md/index.php/servicii-desconcentrate/ http://or.md/index.php/centrul-de-tineret-orhei/ http://or.md/index.php/scoala-raionala-de-sport-orhei/ http://or.md/index.php/imsp-spitalul-raional-orhei/ http://or.md/index.php/institutii-medico-sanitare-publice-locale/ | CE4: partial | CF4: http://consiliu.rezina.md/organization.php?name=7 | CG4: partial | CH4: http://www.riscani.md/index.php?pag=page&id=50 | CI4: da | CJ4: http://www.singerei.md/2014-07-24-22-50-34.html http://www.singerei.md/servicii-desconcentratee.html | CK4: partial | CL4: https://soldanesti.md/servicii-disconcentrate-2/ | CM4: partial | CN4: http://www.soroca.org.md/index.php/raionul-soroca/serviciile-desconcentrate | CO4: da | CP4: https://stefan-voda.md/serviciile-desconcentrate/ https://stefan-voda.md/category/medicina/ | CQ4: partial | CR4: http://crstraseni.md/index.php?pag=news&id=817&l=ro | CS4: nu | CT4: Nu sînt informații pe web | CU4: partial | CV4: https://telenesti.md/servicii-desconcentrate/ | CW4: da | CX4: http://www.crungheni.md/contacte/ http://www.crungheni.md/wp-content/uploads/2020/02/Lista-aparatului-pre%C5%9Fedintelui-raionului-serviciilor-descentralizate-desconcentrate-%C5%9Fi-altor-institu%C5%A3ii-din-raionul-Ungheni-modificare-27.12.2012-1.pdf
A5: Q4 | B5: R20004 | C5: 5 | D5: Sunt disponibile pe site-ul oficial numele, date de contact și afilierea politică a consilierilor raionali ? | E5: Are the names and political affiliation of councilors available on the web-site? | F5: acc | G5: acc4 | H5: acc4k | I5: 1 | J5: da | K5: yes | L5: nu | M5: no | N5: partial | O5: partially | P5: ="---" -> --- | Q5: ="---" -> --- | R5: ="---" -> --- | S5: ="---" -> --- | T5: ="---" -> --- | U5: ="---" -> --- | V5: ="---" -> --- | W5: ="---" -> --- | X5: N/A | Y5: N/A | Z5: ="---" -> --- | AA5: ="---" -> --- | AB5: =J5 -> da | AC5: =L5 -> nu | AD5: =I5 -> 1 | AE5: 0 | AF5: =AD5/2 -> 0.5 | AG5: ="---" -> --- | AH5: ="---" -> --- | AI5: ="---" -> --- | AJ5: ="---" -> --- | AK5: N/A | AL5: ="---" -> --- | AM5: partial | AN5: https://anenii-noi.md/index.php?option=com_content&view=article&id=115&Itemid=660 | AO5: partial | AP5: http://basarabeasca.md/ro/dispozitiile-presedintelui/ | AQ5: partial | AR5: https://briceni.md/consilieri/ | AS5: partial | AT5: https://cahul.md/consilieri-raionali/ | AU5: partial | AV5: http://www.calarasi.md/index.php/consiliul-raional/consilieri | AW5: da | AX5: http://cantemir.md/pageview.php?l=ro&idc=116&id=803&ord=3&t=/Consiliul-Raional/Consilieri-raionali/Lista-consilierilor-raionali-situatia-din-ianuarie-2019/ | AY5: nu | AZ5: Nu sînt informații pe web | BA5: partial | BB5: http://raioncimislia.md/consilieri-raionali/ | BC5: partial | BD5: http://criuleni.md/index.php?pag=page&id=410&l=ro | BE5: partial | BF5: http://donduseni.md/consilieri-raional/ | BG5: nu | BH5: Nu sînt informații pe web | BI5: partial | BJ5: http://dubasari.md/pagins/consilieri-raionali | BK5: nu | BL5: Nu sînt informații pe web | BM5: partial | BN5: http://www.cr-falesti.md/index.php/consilieri | BO5: nu | BP5: Nu sînt informații pe web | BQ5: partial | BR5: http://www.glodeni.md/ro/content/lista-consilierilor-consiliului-raional | BS5: da | BT5: https://hincesti.md/2019/11/25/consilierii-raionali/ | BU5: partial | BV5: https://il.md/consilierii-raionali/ | BW5: partial | BX5: http://www.leova.md/index.php?pag=page&id=898&l=ro | BY5: partial | BZ5: https://nisporeni.md/consilieri-raionali/ | CA5: partial | CB5: https://ocnita.md/lista-consilierilor/ | CC5: partial | CD5: http://or.md/index.php/consilieri/ | CE5: partial | CF5: http://consiliu.rezina.md/councilor.php | CG5: partial | CH5: http://www.riscani.md/index.php?pag=page&id=47 | CI5: partial | CJ5: http://www.singerei.md/consilieri-raionali.html | CK5: partial | CL5: https://soldanesti.md/consilieri-raionali/ | CM5: partial | CN5: http://www.soroca.org.md/index.php/consiliul-raional/consilieri | CO5: partial | CP5: https://stefan-voda.md/consilieri-raionali/ | CQ5: partial | CR5: http://crstraseni.md/index.php?pag=page&id=874&l=ro | CS5: partial | CT5: http://raiontaraclia.md/consraion/cons/ | CU5: partial | CV5: https://telenesti.md/consilieri-raionali/ | CW5: partial | CX5: http://www.crungheni.md/conducerea-raionului/consilieri/
A6: Q5 | B6: R20005 | C6: 6 | D6: Anunţul referitor la desfăşurarea şedinţei publice este adus la cunoştinţă cetăţenilor (cu cel puţin 10 zile înaintea şedinţelor ordinare şi cu cel puţin 3 zile înaintea celor extraordinare)? | E6: Did the announce of the public session made public to the citizens (at least 10 days before the ordinary meetings and at least 3 days before the extraordinary ones)? | F6: acc | G6: acc5 | H6: acc5k | I6: 1 | J6: da | K6: yes | L6: nu | M6: no | N6: panou informativ/alte modalități | O6: Bilboard/other ways | P6: 0-10% | Q6: 0-10% | R6: 10-30% | S6: 10-30% | T6: 30-60% | U6: 30-60% | V6: 60-90% | W6: 60-90% | X6: N/A | Y6: N/A | Z6: ="---" -> --- | AA6: ="---" -> --- | AB6: =J6 -> da | AC6: =L6 -> nu | AD6: =I6 -> 1 | AE6: 0 | AF6: =AD6/2 -> 0.5 | AG6: =$AD6*(1/5) -> 0.2 | AH6: =$AD6*(2/5) -> 0.4 | AI6: =$AD6*(3/5) -> 0.6 | AJ6: =$AD6*(4/5) -> 0.8 | AK6: N/A | AL6: ="---" -> --- | AM6: nu | AN6: Nu sînt informații pe web | AO6: da | AP6: http://basarabeasca.md/ro/dispozitii-ale-presedintelui/ | AQ6: nu | AR6: Nu sînt informații pe web | AS6: panou informativ/alte modalități | AT6: Pe web doar un anunț http://cahul.md/consiliul-raional-cahul-se-convoaca-in-sedinta-extraordinara-la-27-decembrie-2019/ | AU6: da | AV6: http://www.calarasi.md/index.php/anunturi?start=16 http://www.calarasi.md/index.php/anunturi/1404-hghjhyre4334567890 http://www.calarasi.md/index.php/anunturi/1378-eertyy http://www.calarasi.md/index.php/anunturi/1342-gfjhjkhkhk http://www.calarasi.md/index.php/anunturi/1221-p78 | AW6: nu | AX6: Nu sînt informații pe web | AY6: 10-30% | AZ6: http://www.causeni.md/documents/item/index/1786 | BA6: da | BB6: http://raioncimislia.md/dispozitiile-presedintelui/ | BC6: da | BD6: http://criuleni.md/index.php?pag=news&id=517&l=ro http://criuleni.md/index.php?pag=news&id=434&rid=3335&l=ro http://criuleni.md/index.php?pag=news&id=434&l=ro&start=20 | BE6: 30-60% | BF6: http://donduseni.md/dispozitiile-presedintelui/ | BG6: 0-10% | BH6: https://drochia.md/category/anunturi-transparenta/ | BI6: da | BJ6: Anunțurile sînt plasate la rubrica noutăți de pe web http://dubasari.md/news/consilierii-raionali-se-convoaca-in-sedinta-ordinara-de-lucru-425675 | BK6: da | BL6: http://edinet.md/convocare-consiliu-raional/ | BM6: da | BN6: http://www.cr-falesti.md/index.php/dispozitii | BO6: da | BP6: http://floresti.md/anunturile-de-convocare-a-sedintelor-consiliului/ http://floresti.md/sedintele-si-deciziile-comisiilor/ | BQ6: 30-60% | BR6: http://www.glodeni.md/ro/anun%C8%9B/anunt | BS6: da | BT6: https://hincesti.md/category/procesul-decizional/proiectele-de-decizii/ | BU6: da | BV6: https://il.md/page/7/ | BW6: da | BX6: http://www.leova.md/index.php?pag=news&id=769&rid=1584&l=ro http://www.leova.md/index.php?pag=news&id=769&rid=1706&l=ro http://www.leova.md/index.php?pag=news&id=769&rid=1745&l=ro http://www.leova.md/index.php?pag=news&id=769&rid=1799&l=ro http://www.leova.md/index.php?pag=news&id=769&rid=1833&l=ro http://www.leova.md/index.php?pag=news&id=788&rid=1630&l=ro | BY6: nu | BZ6: Nu sînt informații pe web | CA6: 0-10% | CB6: https://ocnita.md/category/decizii-2019/ | CC6: da | CD6: http://or.md/index.php/page/11/ http://or.md/index.php/2019/12/24/convocarea-consiliului-raional-orhei-in-sedinta-extraordinara-4/ http://or.md/index.php/2019/12/03/convocarea-consiliului-raional-orhei-in-sedinta-ordinara-6/ | CE6: da | CF6: http://consiliu.rezina.md/index.php?page=4&category=13 | CG6: 60-90% | CH6: http://www.riscani.md/index.php?pag=news&tip=anunturi&start=50 | CI6: da | CJ6: http://www.singerei.md/proiecte-de-decizii.html | CK6: da | CL6: https://soldanesti.md/page/10/ | CM6: da | CN6: http://www.soroca.org.md/index.php/acte-normative/dispozitiile-presedintelui-raionului/610-dispozitii-de-baza-2019 http://www.soroca.org.md/index.php/procesul-decizional/anunt-de-initiere-a-proiectelor-de-decizie http://www.soroca.org.md/index.php/procesul-decizional/anunt-de-initiere-a-proiectelor-de-decizie?start=3 | CO6: da | CP6: https://stefan-voda.md/category/dispozitiile-presedintelui/page/2/ | CQ6: da | CR6: http://crstraseni.md/index.php?pag=news&id=769&rid=2882&l=ro http://crstraseni.md/index.php?pag=news&id=769&rid=2938&l=ro http://crstraseni.md/index.php?pag=news&id=769&rid=3029&l=ro http://crstraseni.md/index.php?pag=news&id=769&rid=3179&l=ro http://crstraseni.md/index.php?pag=news&id=769&rid=3233&l=ro http://crstraseni.md/index.php?pag=news&id=769&rid=3352&l=ro http://crstraseni.md/index.php?pag=news&id=769&rid=3362&l=ro http://crstraseni.md/index.php?pag=news&id=769&rid=3403&l=ro | CS6: 0-10% | CT6: http://raiontaraclia.md/2019/08/23/%d0%b2%d0%bd%d0%b5%d0%be%d1%87%d0%b5%d1%80%d0%b5%d0%b4%d0%bd%d0%be%d0%b5-%d0%b7%d0%b0%d1%81%d0%b5%d0%b4%d0%b0%d0%bd%d0%b8%d0%b5-%d1%80%d0%b0%d0%b9%d0%be%d0%bd%d0%bd%d0%be%d0%b3%d0%be-%d1%81%d0%be-9/ http://raiontaraclia.md/2019/08/14/%d0%b2%d0%bd%d0%b5%d0%be%d1%87%d0%b5%d1%80%d0%b5%d0%b4%d0%bd%d0%be%d0%b5-%d0%b7%d0%b0%d1%81%d0%b5%d0%b4%d0%b0%d0%bd%d0%b8%d0%b5-%d1%80%d0%b0%d0%b9%d0%be%d0%bd%d0%bd%d0%be%d0%b3%d0%be-%d1%81%d0%be-7/ http://raiontaraclia.md/2019/08/02/%d0%b2%d0%bd%d0%b5%d0%be%d1%87%d0%b5%d1%80%d0%b5%d0%b4%d0%bd%d0%be%d0%b5-%d0%b7%d0%b0%d1%81%d0%b5%d0%b4%d0%b0%d0%bd%d0%b8%d0%b5-%d1%80%d0%b0%d0%b9%d0%be%d0%bd%d0%bd%d0%be%d0%b3%d0%be-%d1%81%d0%be-6/ http://raiontaraclia.md/2019/07/19/%d0%b2%d0%bd%d0%b5%d0%be%d1%87%d0%b5%d1%80%d0%b5%d0%b4%d0%bd%d0%be%d0%b5-%d0%b7%d0%b0%d1%81%d0%b5%d0%b4%d0%b0%d0%bd%d0%b8%d0%b5-%d1%80%d0%b0%d0%b9%d0%be%d0%bd%d0%bd%d0%be%d0%b3%d0%be-%d1%81%d0%be-5/ http://raiontaraclia.md/2019/07/10/%d0%b2%d0%bd%d0%b5%d0%be%d1%87%d0%b5%d1%80%d0%b5%d0%b4%d0%bd%d0%be%d0%b5-%d0%b7%d0%b0%d1%81%d0%b5%d0%b4%d0%b0%d0%bd%d0%b8%d0%b5-%d1%80%d0%b0%d0%b9%d0%be%d0%bd%d0%bd%d0%be%d0%b3%d0%be-%d1%81%d0%be-4/ http://raiontaraclia.md/2019/05/17/%d0%b2%d0%bd%d0%b5%d0%be%d1%87%d0%b5%d1%80%d0%b5%d0%b4%d0%bd%d0%be%d0%b5-%d0%b7%d0%b0%d1%81%d0%b5%d0%b4%d0%b0%d0%bd%d0%b8%d0%b5-%d1%80%d0%b0%d0%b9%d0%be%d0%bd%d0%bd%d0%be%d0%b3%d0%be-%d1%81%d0%be-2/ http://raiontaraclia.md/2019/04/08/%d0%b2%d0%bd%d0%b5%d0%be%d1%87%d0%b5%d1%80%d0%b5%d0%b4%d0%bd%d0%be%d0%b5-%d0%b7%d0%b0%d1%81%d0%b5%d0%b4%d0%b0%d0%bd%d0%b8%d0%b5-%d1%80%d0%b0%d0%b9%d0%be%d0%bd%d0%bd%d0%be%d0%b3%d0%be-%d1%81%d0%be/ http://raiontaraclia.md/2019/03/19/%d0%be%d1%87%d0%b5%d1%80%d0%b5%d0%b4%d0%bd%d0%be%d0%b5-%d0%b7%d0%b0%d1%81%d0%b5%d0%b4%d0%b0%d0%bd%d0%b8%d0%b5-%d1%80%d0%b0%d0%b9%d0%be%d0%bd%d0%bd%d0%be%d0%b3%d0%be-%d1%81%d0%be%d0%b2%d0%b5%d1%82/ | CU6: 30-60% | CV6: https://telenesti.md/2019/03/13/cu-privire-la-convocarea-consiliului-raional-in-sedinta-ordinara/ https://telenesti.md/2019/09/09/anunt-cu-privire-la-convocarea-consiliului-raional-telenesti-in-sedinta-ordinara/ https://telenesti.md/2019/11/15/anunt-cu-privire-la-convocarea-consiliului-raional-telenesti-in-sedinta-extraordinara/ https://telenesti.md/2019/12/08/anunt-cu-privire-la-convocarea-consiliului-raional-telenesti-in-sedinta-ordinara-2/ | CW6: da | CX6: http://www.crungheni.md/anunturi/page/3/
A7: Q6 | B7: R20006 | C7: 7 | D7: Cuprinde anunțul referitor la desfăşurarea şedinţei publice data, ora, locul desfăşurării şedinţei şi ordinea de zi a acesteia? | E7: Does the public session announcement include the date, time and place of the meeting and its agenda? | F7: acc | G7: acc6 | H7: acc6k | I7: 1 | J7: da | K7: yes | L7: nu | M7: no | N7: partial | O7: partially | P7: ="---" -> --- | Q7: ="---" -> --- | R7: ="---" -> --- | S7: ="---" -> --- | T7: ="---" -> --- | U7: ="---" -> --- | V7: ="---" -> --- | W7: ="---" -> --- | X7: N/A | Y7: N/A | Z7: ="---" -> --- | AA7: ="---" -> --- | AB7: =J7 -> da | AC7: =L7 -> nu | AD7: =I7 -> 1 | AE7: 0 | AF7: =AD7/2 -> 0.5 | AG7: ="---" -> --- | AH7: ="---" -> --- | AI7: ="---" -> --- | AJ7: ="---" -> --- | AK7: N/A | AL7: ="---" -> --- | AM7: nu | AN7: Nu sînt informații pe web | AO7: da | AP7: http://basarabeasca.md/ro/dispozitii-ale-presedintelui/ | AQ7: nu | AR7: Nu sînt informații pe web | AS7: partial | AT7: Pe web doar un anunț http://cahul.md/consiliul-raional-cahul-se-convoaca-in-sedinta-extraordinara-la-27-decembrie-2019/ | AU7: da | AV7: http://www.calarasi.md/index.php/anunturi?start=16 http://www.calarasi.md/index.php/anunturi/1404-hghjhyre4334567890 http://www.calarasi.md/index.php/anunturi/1378-eertyy http://www.calarasi.md/index.php/anunturi/1342-gfjhjkhkhk http://www.calarasi.md/index.php/anunturi/1221-p78 | AW7: nu | AX7: Nu sînt informații pe web | AY7: da | AZ7: http://www.causeni.md/documents/item/index/1786 | BA7: da | BB7: http://raioncimislia.md/dispozitiile-presedintelui/ | BC7: da | BD7: http://criuleni.md/index.php?pag=news&id=517&l=ro http://criuleni.md/index.php?pag=news&id=434&rid=3335&l=ro http://criuleni.md/index.php?pag=news&id=434&l=ro&start=20 | BE7: da | BF7: http://donduseni.md/dispozitiile-presedintelui/ | BG7: da | BH7: https://drochia.md/category/anunturi-transparenta/ | BI7: da | BJ7: Anunțurile sînt plasate la rubrica noutăți de pe web http://dubasari.md/news/consilierii-raionali-se-convoaca-in-sedinta-ordinara-de-lucru-425676 | BK7: da | BL7: http://edinet.md/convocare-consiliu-raional/ | BM7: da | BN7: http://www.cr-falesti.md/index.php/dispozitii | BO7: da | BP7: http://floresti.md/anunturile-de-convocare-a-sedintelor-consiliului/ http://floresti.md/sedintele-si-deciziile-comisiilor/ | BQ7: partial | BR7: http://www.glodeni.md/ro/anun%C8%9B/anunt | BS7: da | BT7: https://hincesti.md/category/procesul-decizional/proiectele-de-decizii/ | BU7: da | BV7: https://il.md/page/7/ | BW7: da | BX7: http://www.leova.md/index.php?pag=news&id=769&rid=1584&l=ro http://www.leova.md/index.php?pag=news&id=769&rid=1706&l=ro http://www.leova.md/index.php?pag=news&id=769&rid=1745&l=ro http://www.leova.md/index.php?pag=news&id=769&rid=1799&l=ro http://www.leova.md/index.php?pag=news&id=769&rid=1833&l=ro http://www.leova.md/index.php?pag=news&id=788&rid=1630&l=ro | BY7: nu | BZ7: Nu sînt informații pe web | CA7: partial | CB7: https://ocnita.md/category/decizii-2019/ | CC7: da | CD7: http://or.md/index.php/page/11/ http://or.md/index.php/2019/12/24/convocarea-consiliului-raional-orhei-in-sedinta-extraordinara-4/ http://or.md/index.php/2019/12/03/convocarea-consiliului-raional-orhei-in-sedinta-ordinara-6/ | CE7: da | CF7: http://consiliu.rezina.md/index.php?page=4&category=13 | CG7: da | CH7: http://www.riscani.md/index.php?pag=news&opa=view&id=914&tip=anunturi&start=20&di= | CI7: da | CJ7: http://www.singerei.md/proiecte-de-decizii.html | CK7: da | CL7: https://soldanesti.md/page/10/ | CM7: da | CN7: http://www.soroca.org.md/index.php/acte-normative/dispozitiile-presedintelui-raionului/610-dispozitii-de-baza-2019 http://www.soroca.org.md/index.php/procesul-decizional/anunt-de-initiere-a-proiectelor-de-decizie http://www.soroca.org.md/index.php/procesul-decizional/anunt-de-initiere-a-proiectelor-de-decizie?start=3 | CO7: da | CP7: https://stefan-voda.md/category/dispozitiile-presedintelui/page/2/ | CQ7: da | CR7: http://crstraseni.md/index.php?pag=news&id=769&rid=2882&l=ro http://crstraseni.md/index.php?pag=news&id=769&rid=2938&l=ro http://crstraseni.md/index.php?pag=news&id=769&rid=3029&l=ro http://crstraseni.md/index.php?pag=news&id=769&rid=3179&l=ro http://crstraseni.md/index.php?pag=news&id=769&rid=3233&l=ro http://crstraseni.md/index.php?pag=news&id=769&rid=3352&l=ro http://crstraseni.md/index.php?pag=news&id=769&rid=3362&l=ro http://crstraseni.md/index.php?pag=news&id=769&rid=3403&l=ro | CS7: da | CT7: Din 11 anunțuri pe web doar unul a fost publicat în termenul prevăzut de lege http://raiontaraclia.md/2019/12/10/%d0%b2%d0%bd%d0%b5%d0%be%d1%87%d0%b5%d1%80%d0%b5%d0%b4%d0%bd%d0%be%d0%b5-%d0%b7%d0%b0%d1%81%d0%b5%d0%b4%d0%b0%d0%bd%d0%b8%d0%b5-%d1%80%d0%b0%d0%b9%d0%be%d0%bd%d0%bd%d0%be%d0%b3%d0%be-%d1%81%d0%be-11/ | CU7: da | CV7: https://telenesti.md/2019/03/13/cu-privire-la-convocarea-consiliului-raional-in-sedinta-ordinara/ https://telenesti.md/2019/09/09/anunt-cu-privire-la-convocarea-consiliului-raional-telenesti-in-sedinta-ordinara/ https://telenesti.md/2019/11/15/anunt-cu-privire-la-convocarea-consiliului-raional-telenesti-in-sedinta-extraordinara/ https://telenesti.md/2019/12/08/anunt-cu-privire-la-convocarea-consiliului-raional-telenesti-in-sedinta-ordinara-2/ | CW7: da | CX7: http://www.crungheni.md/anunturi/page/3/
A8: Q7 | B8: R20007 | C8: 8 | D8: Proiectele de decizii/dispoziţii şi materialele aferente acestora din anul 2019 au fost aduse la cunoștința publicului pînă la şedinţa autorităţii publice? | E8: Were the draft decisions / provisions and relevant materials in 2019 made known for public before the public authority meeting? | F8: acc | G8: acc7 | H8: acc7k | I8: 1 | J8: da | K8: yes | L8: nu | M8: no | N8: panou informativ/alte modalități | O8: Bilboard/other ways | P8: 0-10% | Q8: 0-10% | R8: 10-30% | S8: 10-30% | T8: 30-60% | U8: 30-60% | V8: 60-90% | W8: 60-90% | X8: N/A | Y8: N/A | Z8: ="---" -> --- | AA8: ="---" -> --- | AB8: =J8 -> da | AC8: =L8 -> nu | AD8: =I8 -> 1 | AE8: 0 | AF8: =AD8/2 -> 0.5 | AG8: =$AD8*(1/5) -> 0.2 | AH8: =$AD8*(2/5) -> 0.4 | AI8: =$AD8*(3/5) -> 0.6 | AJ8: =$AD8*(4/5) -> 0.8 | AK8: N/A | AL8: ="---" -> --- | AM8: 30-60% | AN8: https://anenii-noi.md/index.php?option=com_content&view=category&layout=blog&id=85&Itemid=691 | AO8: 60-90% | AP8: http://basarabeasca.md/ro/consultari-publice-ale-proiectelor/ Pe web sînt proiectele de decizii doar pentru 3 ședințe ale consiliului raional (cu mențiunea că din 25.09.2018 consiliul raional Basarabeasca a fost dizolvat, iar noul consiliul raional a fost ales în rezultatul alegerilor locale generale din 20.10.2019, cu validarea mandatelor pe 7.11.19). Punctajul acordat reiese din lipsa nemijlocită a proiectului bugetului raional în proiectele de decizii publicate pe web. consecutiv nu a fost convocat în ședințe și nu a adoptat nici o decizie | AQ8: nu | AR8: Nu sînt informații pe web | AS8: 60-90% | AT8: http://cahul.md/proiecte-de-decizii/ | AU8: nu | AV8: Nu sînt informații pe web | AW8: 0-10% | AX8: http://cantemir.md/lib.php?l=ro&idc=97&year=&month=&day=&page=2 | AY8: da | AZ8: http://www.causeni.md/documents/item/index/1784 | BA8: 60-90% | BB8: http://raioncimislia.md/proiecte-de-decizii/ | BC8: da | BD8: http://criuleni.md/index.php?pag=news&id=517&l=ro | BE8: nu | BF8: Nu sînt informații pe web | BG8: 0-10% | BH8: https://drochia.md/proiecte-de-decizii/ | BI8: da | BJ8: http://dubasari.md/pagins/proiecte-de-decizie | BK8: 60-90% | BL8: https://edinet.md/proiecte-de-decizii/ | BM8: da | BN8: http://www.cr-falesti.md/index.php/proiecte-de-decizii-2 | BO8: 60-90% | BP8: http://floresti.md/proiecte-de-decizii/ | BQ8: da | BR8: http://www.glodeni.md/ro/acte-normative/proiecte-de-decizii?page=6 | BS8: da | BT8: https://hincesti.md/category/procesul-decizional/proiectele-de-decizii/ | BU8: 60-90% | BV8: https://il.md/proiecte-de-decizii/ | BW8: da | BX8: http://leova.md/index.php?pag=news&id=786&l=ro | BY8: nu | BZ8: Nu sînt informații pe web | CA8: 10-30% | CB8: http://ocnita.md/wp-content/uploads/2019/03/%C8%98edin%C8%9Ba-Consiliului-raional-N1-28-martie-2019.pdf http://ocnita.md/wp-content/uploads/2019/07/Ordinea-de-zi-%C8%98edin%C8%9Ba-II-2019.pdf | CC8: 60-90% | CD8: http://or.md/index.php/proiecte-de-acte/ | CE8: nu | CF8: Nu sînt informații pe web | CG8: da | CH8: http://www.riscani.md/index.php?pag=procesul_decizional&ids=proiecte_decizii&y=2019&start=0 | CI8: da | CJ8: http://www.singerei.md/proiecte-de-decizii.html | CK8: 30-60% | CL8: https://soldanesti.md/proiecte-de-decizii/ | CM8: 60-90% | CN8: http://www.soroca.org.md/index.php/procesul-decizional/proiecte-intrate-in-cr?start=3 | CO8: 60-90% | CP8: https://stefan-voda.md/category/proiecte-de-decizii/ | CQ8: da | CR8: http://crstraseni.md/index.php?pag=news&id=809&l=ro | CS8: 0-10% | CT8: http://raiontaraclia.md/2019/12/10/%d0%bc%d0%b0%d1%82%d0%b5%d1%80%d0%b8%d0%b0%d0%bb%d1%8b-%d0%ba-%d0%b7%d0%b0%d1%81%d0%b5%d0%b4%d0%b0%d0%bd%d0%b8%d1%8e-%d1%80%d0%b0%d0%b9%d0%be%d0%bd%d0%bd%d0%be%d0%b3%d0%be-%d1%81%d0%be%d0%b2%d0%b5/ | CU8: nu | CV8: Nu sînt informații pe web | CW8: nu | CX8: Nu sînt informații pe web
A9: Q8 | B9: R20008 | C9: 9 | D9: Există un instrument online care permite publicului să depună și să urmărească reclamațiile/cererile lor? | E9: Is there any online tool that allows the public to follow its requests and complaints? | F9: acc | G9: acc8 | H9: acc8k | I9: 1 | J9: da | K9: yes | L9: nu | M9: no | N9: partial | O9: partially | P9: ="---" -> --- | Q9: ="---" -> --- | R9: ="---" -> --- | S9: ="---" -> --- | T9: ="---" -> --- | U9: ="---" -> --- | V9: ="---" -> --- | W9: ="---" -> --- | X9: N/A | Y9: N/A | Z9: ="---" -> --- | AA9: ="---" -> --- | AB9: =J9 -> da | AC9: =L9 -> nu | AD9: =I9 -> 1 | AE9: 0 | AF9: =AD9/2 -> 0.5 | AG9: ="---" -> --- | AH9: ="---" -> --- | AI9: ="---" -> --- | AJ9: ="---" -> --- | AK9: N/A | AL9: ="---" -> --- | AM9: nu | AN9: Nu sînt informații pe web | AO9: partial | AP9: http://basarabeasca.md/ro/contacte/ | AQ9: nu | AR9: Nu sînt informații pe web | AS9: partial | AT9: https://cahul.md/contact/ | AU9: nu | AV9: Nu sînt informații pe web | AW9: partial | AX9: http://cantemir.md/feedbacktxt.php?l=ro&idc=109&t=/Audienta-online/Audienta-online/ | AY9: partial | AZ9: http://www.causeni.md/questions/questions_item/add?mail=1 | BA9: partial | BB9: http://raioncimislia.md/petitii-online/ | BC9: partial | BD9: http://criuleni.md/index.php?pag=feedback&id=463&l=ro | BE9: nu | BF9: Nu sînt informații pe web | BG9: nu | BH9: Nu sînt informații pe web | BI9: partial | BJ9: http://dubasari.md/pagins/scrie-presedintelui | BK9: nu | BL9: Nu sînt informații pe web | BM9: nu | BN9: Nu sînt informații pe web | BO9: partial | BP9: http://floresti.md/scrie-presedintelui/ | BQ9: partial | BR9: http://www.glodeni.md/ro/content/peti%C8%9Bii-line | BS9: nu | BT9: Nu sînt informații pe web | BU9: nu | BV9: Nu sînt informații pe web | BW9: partial | BX9: http://www.leova.md/index.php?pag=feedback&id=794&l=ro | BY9: nu | BZ9: Nu sînt informații pe web | CA9: nu | CB9: Nu sînt informații pe web | CC9: partial | CD9: http://or.md/index.php/contacte/ | CE9: partial | CF9: http://consiliu.rezina.md/contact_us.php | CG9: partial | CH9: http://www.riscani.md/index.php?pag=petitie | CI9: partial | CJ9: http://www.singerei.md/scrie-presedintelui.html | CK9: nu | CL9: Nu sînt informații pe web | CM9: nu | CN9: Nu sînt informații pe web | CO9: partial | CP9: https://stefan-voda.md/petitie-online/ | CQ9: nu | CR9: Nu sînt informații pe web | CS9: nu | CT9: Nu sînt informații pe web | CU9: nu | CV9: Nu sînt informații pe web | CW9: partial | CX9: http://www.crungheni.md/scrie-presedintelui/
A10: Q9 | B10: R20009 | C10: 10 | D10: Autoritățile publice locale au răspuns la cererea persoanei fizice de solicitare a informațiilor în conformitate cu cerințele și termenii legali ? | E10: Has the local public authority responded to the individual's request for information in accordance with legal requirements and terms? | F10: acc | G10: acc9 | H10: acc9k | I10: 4 | J10: da | K10: yes | L10: nu | M10: no | N10: partial | O10: partially | P10: ="---" -> --- | Q10: ="---" -> --- | R10: ="---" -> --- | S10: ="---" -> --- | T10: ="---" -> --- | U10: ="---" -> --- | V10: ="---" -> --- | W10: ="---" -> --- | X10: N/A | Y10: N/A | Z10: ="---" -> --- | AA10: ="---" -> --- | AB10: =J10 -> da | AC10: =L10 -> nu | AD10: =I10 -> 4 | AE10: 0 | AF10: =AD10/2 -> 2 | AG10: ="---" -> --- | AH10: ="---" -> --- | AI10: ="---" -> --- | AJ10: ="---" -> --- | AK10: N/A | AL10: ="---" -> --- | AM10: nu | AN10: Nu a furnizat informația solicitată | AO10: da | AP10: Răspuns oferit potrivit cerințelor și termenilor legali | AQ10: nu | AR10: Nu a furnizat informația solicitată | AS10: nu | AT10: Nu a furnizat informația solicitată | AU10: da | AV10: Răspuns oferit potrivit cerințelor și termenilor legali | AW10: nu | AX10: Nu a furnizat informația solicitată | AY10: nu | AZ10: Nu a furnizat informația solicitată | BA10: nu | BB10: Nu a furnizat informația solicitată | BC10: da | BD10: Răspuns oferit potrivit cerințelor și termenilor legali | BE10: nu | BF10: Nu a furnizat informația solicitată | BG10: da | BH10: Răspuns oferit potrivit cerințelor și termenilor legali | BI10: da | BJ10: Răspuns oferit potrivit cerințelor și termenilor legali | BK10: nu | BL10: Nu a furnizat informația solicitată | BM10: nu | BN10: Nu a furnizat informația solicitată | BO10: da | BP10: Răspuns oferit potrivit cerințelor și termenilor legali | BQ10: nu | BR10: Nu a furnizat informația solicitată | BS10: da | BT10: Răspuns oferit potrivit cerințelor și termenilor legali | BU10: nu | BV10: Nu a furnizat informația solicitată | BW10: da | BX10: Răspuns oferit potrivit cerințelor și termenilor legali | BY10: da | BZ10: Nu sînt informații pe web | CA10: nu | CB10: Nu a furnizat informația solicitată | CC10: da | CD10: Răspuns oferit potrivit cerințelor și termenilor legali | CE10: nu | CF10: Nu a furnizat informația solicitată | CG10: da | CH10: Răspuns oferit potrivit cerințelor și termenilor legali | CI10: da | CJ10: Răspuns oferit potrivit cerințelor și termenilor legali | CK10: nu | CL10: Nu a furnizat informația solicitată | CM10: da | CN10: Răspuns oferit potrivit cerințelor și termenilor legali | CO10: da | CP10: Răspuns oferit potrivit cerințelor și termenilor legali | CQ10: da | CR10: Răspuns oferit potrivit cerințelor și termenilor legali | CS10: nu | CT10: Nu a furnizat informația solicitată | CU10: nu | CV10: Nu a furnizat informația solicitată | CW10: da | CX10: Răspuns oferit potrivit cerințelor și termenilor legali
A11: Q9a | B11: R20009a | C11: 11 | D11: Autoritățile publice locale au răspuns la chestionarul IDIS „Viitorul” în conformitate cu cerințele și termenii legii privind accesul la informație? | E11: Did the local public authority answer the IDIS “Viitorul” questionnaire in accordance with the requirements and terms of the law on access to information? | F11: acc | G11: acc9a | H11: acc9ak | I11: 4 | J11: da | K11: yes | L11: nu | M11: no | N11: partial | O11: partially | P11: ="---" -> --- | Q11: ="---" -> --- | R11: ="---" -> --- | S11: ="---" -> --- | T11: ="---" -> --- | U11: ="---" -> --- | V11: ="---" -> --- | W11: ="---" -> --- | X11: N/A | Y11: N/A | Z11: ="---" -> --- | AA11: ="---" -> --- | AB11: =J11 -> da | AC11: =L11 -> nu | AD11: =I11 -> 4 | AE11: 0 | AF11: =AD11/2 -> 2 | AG11: ="---" -> --- | AH11: ="---" -> --- | AI11: ="---" -> --- | AJ11: ="---" -> --- | AK11: N/A | AL11: ="---" -> --- | AM11: da | AN11: Chestionar completat și recepționat | AO11: nu | AP11: Nu a fost completat chestionarul | AQ11: nu | AR11: Nu a fost completat chestionarul | AS11: da | AT11: Chestionar completat și recepționat | AU11: nu | AV11: Nu a fost completat chestionarul | AW11: da | AX11: Chestionar completat și recepționat | AY11: nu | AZ11: Nu a fost completat chestionarul | BA11: da | BB11: Chestionar completat și recepționat | BC11: da | BD11: Chestionar completat și recepționat | BE11: da | BF11: Chestionar completat și recepționat | BG11: nu | BH11: Nu a fost completat chestionarul | BI11: da | BJ11: Chestionar completat și recepționat | BK11: da | BL11: Chestionar completat și recepționat | BM11: da | BN11: Chestionar completat și recepționat | BO11: da | BP11: Chestionar completat și recepționat | BQ11: nu | BR11: Nu a fost completat chestionarul | BS11: nu | BT11: Nu a fost completat chestionarul | BU11: nu | BV11: Nu a fost completat chestionarul | BW11: da | BX11: Chestionar completat și recepționat | BY11: nu | BZ11: Nu a fost completat chestionarul | CA11: nu | CB11: Nu a fost completat chestionarul | CC11: nu | CD11: Nu a fost completat chestionarul | CE11: da | CF11: Chestionar completat și recepționat | CG11: da | CH11: Chestionar completat și recepționat | CI11: da | CJ11: Chestionar completat și recepționat | CK11: da | CL11: Chestionar completat și recepționat | CM11: da | CN11: Chestionar completat și recepționat | CO11: da | CP11: Chestionar completat și recepționat | CQ11: da | CR11: Chestionar completat și recepționat | CS11: nu | CT11: Nu a fost completat chestionarul | CU11: nu | CV11: Nu a fost completat chestionarul | CW11: da | CX11: Chestionar completat și recepționat
A12: Q10 | B12: R20010 | C12: 12 | D12: Au fost organizate consultări publice pentru proiectele de decizii/dispoziţii în anul 2019? | E12: Were any public consultations organized for the drafts of decisions/provisions for 2019? | F12: par | G12: par1 | H12: par1k | I12: 3 | J12: da | K12: yes | L12: nu | M12: no | N12: panou informativ/alte modalități | O12: Bilboard/other ways | P12: 0-10% | Q12: 0-10% | R12: 10-30% | S12: 10-30% | T12: 30-60% | U12: 30-60% | V12: 60-90% | W12: 60-90% | X12: N/A | Y12: N/A | Z12: ="---" -> --- | AA12: ="---" -> --- | AB12: =J12 -> da | AC12: =L12 -> nu | AD12: =I12 -> 3 | AE12: 0 | AF12: =AD12/2 -> 1.5 | AG12: =$AD12*(1/5) -> 0.6 | AH12: =$AD12*(2/5) -> 1.2 | AI12: =$AD12*(3/5) -> 1.8 | AJ12: =$AD12*(4/5) -> 2.4 | AK12: N/A | AL12: ="---" -> --- | AM12: 0-10% | AN12: https://anenii-noi.md/index.php?option=com_content&view=category&layout=blog&id=85&Itemid=691&limitstart=5 | AO12: nu | AP12: http://basarabeasca.md/ro/proiecte-de-decizii/ | AQ12: nu | AR12: Nu sînt informații pe web | AS12: 10-30% | AT12: http://cahul.md/anunturi-privind-organizarea-consultarii-publice/ | AU12: nu | AV12: Nu sînt informații pe web | AW12: 30-60% | AX12: http://cantemir.md/lib.php?l=ro&idc=97&year=&month=&day=&page=2 | AY12: nu | AZ12: Nu sînt informații pe web | BA12: 0-10% | BB12: http://raioncimislia.md/consultari-publice/ | BC12: da | BD12: http://criuleni.md/index.php?pag=news&id=517&l=ro | BE12: panou informativ/alte modalități | BF12: Nu sînt informații pe web | BG12: nu | BH12: Nu sînt informații pe web | BI12: 60-90% | BJ12: http://dubasari.md/consultatie | BK12: 10-30% | BL12: http://edinet.md/anunt-de-organizare-a-dezbaterilor-publice-a-proiectelor-de-decizii/ https://edinet.md/anunt-de-initiere-a-proiectelor-de-decizii/ | BM12: 0-10% | BN12: http://www.cr-falesti.md/index.php/consultari-publice | BO12: nu | BP12: Nu sînt informații pe web | BQ12: 30-60% | BR12: http://www.glodeni.md/ro/anun%C8%9B/anunt | BS12: 0-10% | BT12: https://hincesti.md/category/procesul-decizional/consultari-publice/ | BU12: nu | BV12: Nu sînt informații pe web | BW12: da | BX12: http://leova.md/index.php?pag=news&id=786&l=ro | BY12: nu | BZ12: Nu sînt informații pe web | CA12: 0-10% | CB12: https://ocnita.md/category/audieri-publice/ | CC12: 60-90% | CD12: http://or.md/index.php/proiecte-de-acte/ | CE12: nu | CF12: Nu sînt informații pe web | CG12: da | CH12: http://www.riscani.md/index.php?pag=procesul_decizional&ids=proiecte_decizii&y=2019&start=0 http://www.riscani.md/index.php?pag=procesul_decizional&ids=anunturi_audieri | CI12: 0-10% | CJ12: Conform răspunsului din chestionar http://www.singerei.md/consultari-publice.html | CK12: 10-30% | CL12: https://soldanesti.md/initierea-proiectelor-de-decizii/ | CM12: 30-60% | CN12: http://www.soroca.org.md/index.php/procesul-decizional/anunt-de-organizare-a-dezbaterilor-publice-a-proiectelor-de-decizie?start=3 | CO12: nu | CP12: Nu sînt informații pe web | CQ12: da | CR12: http://crstraseni.md/index.php?pag=news&id=810&l=ro&start=20 | CS12: nu | CT12: Nu sînt informații pe web | CU12: nu | CV12: Nu sînt informații pe web | CW12: nu | CX12: Nu sînt informații pe web
A13: Q11 | B13: R20011 | C13: 13 | D13: Anunţul privind organizarea consultărilor publice este făcut public de autoritatea publică (cu cel puțin 10 zile pînă la adoptarea deciziei)? | E13: Is the announcement regarding the organization of public consultations made public by the public authority at least 10 days before the decision? | F13: par | G13: par2 | H13: par2k | I13: 2 | J13: da | K13: yes | L13: nu | M13: no | N13: panou informativ/alte modalități | O13: Bilboard/other ways | P13: 0-10% | Q13: 0-10% | R13: 10-30% | S13: 10-30% | T13: 30-60% | U13: 30-60% | V13: 60-90% | W13: 60-90% | X13: N/A | Y13: N/A | Z13: ="---" -> --- | AA13: ="---" -> --- | AB13: =J13 -> da | AC13: =L13 -> nu | AD13: =I13 -> 2 | AE13: 0 | AF13: =AD13/2 -> 1 | AG13: =$AD13*(1/5) -> 0.4 | AH13: =$AD13*(2/5) -> 0.8 | AI13: =$AD13*(3/5) -> 1.2 | AJ13: =$AD13*(4/5) -> 1.6 | AK13: N/A | AL13: ="---" -> --- | AM13: nu | AN13: Nu sînt informații pe web | AO13: nu | AP13: http://basarabeasca.md/ro/proiecte-de-decizii/ | AQ13: nu | AR13: Nu sînt informații pe web | AS13: 30-60% | AT13: Conform răspunsului din chestionar | AU13: nu | AV13: Nu sînt informații pe web | AW13: 30-60% | AX13: http://cantemir.md/lib.php?l=ro&idc=97&year=&month=&day=&page=2 | AY13: nu | AZ13: Nu sînt informații pe web | BA13: 60-90% | BB13: Conform răspunsului din chestionar | BC13: da | BD13: http://criuleni.md/index.php?pag=news&id=517&l=ro | BE13: panou informativ/alte modalități | BF13: Nu sînt informații pe web | BG13: nu | BH13: Nu sînt informații pe web | BI13: da | BJ13: http://dubasari.md/consultatie | BK13: nu | BL13: Nu sînt informații pe web | BM13: 0-10% | BN13: http://www.cr-falesti.md/index.php/consultari-publice | BO13: nu | BP13: Nu sînt informații pe web | BQ13: 30-60% | BR13: http://www.glodeni.md/ro/anun%C8%9B/anunt | BS13: 0-10% | BT13: https://hincesti.md/category/procesul-decizional/consultari-publice/ | BU13: nu | BV13: Nu sînt informații pe web | BW13: nu | BX13: Nu sînt informații pe web | BY13: nu | BZ13: Nu sînt informații pe web | CA13: nu | CB13: Nu sînt informații pe web | CC13: 30-60% | CD13: http://or.md/index.php/proiecte-de-acte/ | CE13: nu | CF13: Nu sînt informații pe web | CG13: 10-30% | CH13: http://www.riscani.md/index.php?pag=procesul_decizional&ids=anunturi_audieri | CI13: 0-10% | CJ13: Conform răspunsului din chestionar http://www.singerei.md/consultari-publice.html | CK13: 10-30% | CL13: https://soldanesti.md/initierea-proiectelor-de-decizii/ | CM13: 10-30% | CN13: http://www.soroca.org.md/index.php/procesul-decizional/anunt-de-organizare-a-dezbaterilor-publice-a-proiectelor-de-decizie?start=3 | CO13: nu | CP13: Nu sînt informații pe web | CQ13: da | CR13: http://crstraseni.md/index.php?pag=news&id=810&l=ro&start=21 | CS13: nu | CT13: Nu sînt informații pe web | CU13: nu | CV13: Nu sînt informații pe web | CW13: nu | CX13: Nu sînt informații pe web
A14: Q12 | B14: R20012 | C14: 14 | D14: Anunţul privind organizarea consultărilor publice conține termenul-limită de prezentare a recomandărilor, modalitatea în care părţile interesate pot prezenta sau expedia recomandări, datele de contact ale persoanelor responsabile de recepţionarea şi examinarea recomandărilor (numele şi prenumele, numărul de telefon, adresa poștei electronice)? | E14: Does the announcement regarding the organization of public consultations contains deadline for submitting recommendations, the method in which interested parties may send recommendations, contact details of the persons responsible for examining the recommendations (name, phone number, email address)? | F14: par | G14: par3 | H14: par3k | I14: 1 | J14: da | K14: yes | L14: nu | M14: no | N14: partial | O14: partially | P14: ="---" -> --- | Q14: ="---" -> --- | R14: ="---" -> --- | S14: ="---" -> --- | T14: ="---" -> --- | U14: ="---" -> --- | V14: ="---" -> --- | W14: ="---" -> --- | X14: N/A | Y14: N/A | Z14: ="---" -> --- | AA14: ="---" -> --- | AB14: =J14 -> da | AC14: =L14 -> nu | AD14: =I14 -> 1 | AE14: 0 | AF14: =AD14/2 -> 0.5 | AG14: ="---" -> --- | AH14: ="---" -> --- | AI14: ="---" -> --- | AJ14: ="---" -> --- | AK14: N/A | AL14: ="---" -> --- | AM14: nu | AN14: Nu sînt informații pe web | AO14: nu | AP14: http://basarabeasca.md/ro/proiecte-de-decizii/ | AQ14: nu | AR14: Nu sînt informații pe web | AS14: da | AT14: http://cahul.md/anunturi-privind-organizarea-consultarii-publice/ | AU14: nu | AV14: Nu sînt informații pe web | AW14: nu | AX14: Nu sînt informații pe web | AY14: nu | AZ14: Nu sînt informații pe web | BA14: nu | BB14: Nu sînt informații pe web | BC14: partial | BD14: http://criuleni.md/index.php?pag=news&id=517&l=ro | BE14: nu | BF14: Nu sînt informații pe web | BG14: nu | BH14: Nu sînt informații pe web | BI14: da | BJ14: http://dubasari.md/consultatie | BK14: da | BL14: http://edinet.md/anunt-de-organizare-a-dezbaterilor-publice-a-proiectelor-de-decizii/ https://edinet.md/proiecte-de-decizii/ | BM14: da | BN14: http://www.cr-falesti.md/index.php/consultari-publice | BO14: nu | BP14: Nu sînt informații pe web | BQ14: partial | BR14: http://www.glodeni.md/ro/anun%C8%9B/anunt | BS14: nu | BT14: Nu sînt informații pe web | BU14: nu | BV14: Nu sînt informații pe web | BW14: nu | BX14: Nu sînt informații pe web | BY14: nu | BZ14: Nu sînt informații pe web | CA14: nu | CB14: Nu sînt informații pe web | CC14: da | CD14: http://or.md/index.php/proiecte-de-acte/ | CE14: nu | CF14: Nu sînt informații pe web | CG14: da | CH14: http://www.riscani.md/index.php?pag=procesul_decizional&ids=anunturi_audieri | CI14: nu | CJ14: Nu sînt informații pe web | CK14: da | CL14: http://soldanesti.md/wp-content/uploads/2019/05/Consult%C4%83ri-publice.pdf | CM14: da | CN14: http://www.soroca.org.md/index.php/procesul-decizional/anunt-de-organizare-a-dezbaterilor-publice-a-proiectelor-de-decizie?start=3 | CO14: nu | CP14: Nu sînt informații pe web | CQ14: da | CR14: http://crstraseni.md/index.php?pag=news&id=810&l=ro&start=22 | CS14: nu | CT14: Nu sînt informații pe web | CU14: nu | CV14: Nu sînt informații pe web | CW14: nu | CX14: Nu sînt informații pe web
A15: Q13 | B15: R20013 | C15: 15 | D15: Autoritățile publice au creat consilii consultative, grupuri de lucru permanente sau grupuri de lucru ad-hoc care participă la procesul decizional? | E15: Are created by the public authorities advisory boards, working groups, permanent or ad hoc working groups participating in the decision making process? | F15: par | G15: par4 | H15: par4k | I15: 2 | J15: da | K15: yes | L15: nu | M15: no | N15: partial | O15: partially | P15: ="---" -> --- | Q15: ="---" -> --- | R15: ="---" -> --- | S15: ="---" -> --- | T15: ="---" -> --- | U15: ="---" -> --- | V15: ="---" -> --- | W15: ="---" -> --- | X15: N/A | Y15: N/A | Z15: ="---" -> --- | AA15: ="---" -> --- | AB15: =J15 -> da | AC15: =L15 -> nu | AD15: =I15 -> 2 | AE15: 0 | AF15: =AD15/2 -> 1 | AG15: ="---" -> --- | AH15: ="---" -> --- | AI15: ="---" -> --- | AJ15: ="---" -> --- | AK15: N/A | AL15: ="---" -> --- | AM15: nu | AN15: Nu sînt informații pe web | AO15: nu | AP15: Nu sînt informații pe web | AQ15: nu | AR15: Nu sînt informații pe web | AS15: da | AT15: https://cahul.md/la-cahul-s-a-desfasurat-forumul-democratiei-locale/ http://contact-cahul.md/69-consiliul-raional-de-participare-cahul-in-aciune.html | AU15: nu | AV15: Nu sînt informații pe web | AW15: nu | AX15: Nu sînt informații pe web | AY15: nu | AZ15: Nu sînt informații pe web | BA15: nu | BB15: Nu sînt informații pe web | BC15: nu | BD15: Nu sînt informații pe web | BE15: nu | BF15: Nu sînt informații pe web | BG15: nu | BH15: Nu sînt informații pe web | BI15: nu | BJ15: Nu sînt informații pe web | BK15: nu | BL15: Nu sînt informații pe web | BM15: nu | BN15: Nu sînt informații pe web | BO15: nu | BP15: Nu sînt informații pe web | BQ15: nu | BR15: Nu sînt informații pe web | BS15: nu | BT15: Nu sînt informații pe web | BU15: nu | BV15: Nu sînt informații pe web | BW15: nu | BX15: Nu sînt informații pe web | BY15: nu | BZ15: Nu sînt informații pe web | CA15: nu | CB15: Nu sînt informații pe web | CC15: nu | CD15: Nu sînt informații pe web | CE15: nu | CF15: Nu sînt informații pe web | CG15: nu | CH15: Nu sînt informații pe web | CI15: nu | CJ15: Nu sînt informații pe web | CK15: nu | CL15: Nu sînt informații pe web | CM15: da | CN15: http://euparticip.md/ | CO15: nu | CP15: Nu sînt informații pe web | CQ15: partial | CR15: http://crstraseni.md/index.php?pag=news&id=849&rid=2219&l=ro | CS15: nu | CT15: Nu sînt informații pe web | CU15: nu | CV15: Nu sînt informații pe web | CW15: nu | CX15: Nu sînt informații pe web
A16: Q14 | B16: R20014 | C16: 16 | D16: Autorităţile publice au elaborat, aprobat și adus la cunoștință regulile interne de informare, consultare şi participare în procesul de elaborare şi adoptare a deciziilor? | E16: Does the public authorities drafted, approved and announced the internal rules of informing, consultation and participation in the process of drafting and adoption of decisions? | F16: par | G16: par5 | H16: par5k | I16: 2 | J16: da | K16: yes | L16: nu | M16: no | N16: partial | O16: partially | P16: ="---" -> --- | Q16: ="---" -> --- | R16: ="---" -> --- | S16: ="---" -> --- | T16: ="---" -> --- | U16: ="---" -> --- | V16: ="---" -> --- | W16: ="---" -> --- | X16: N/A | Y16: N/A | Z16: ="---" -> --- | AA16: ="---" -> --- | AB16: =J16 -> da | AC16: =L16 -> nu | AD16: =I16 -> 2 | AE16: 0 | AF16: =AD16/2 -> 1 | AG16: ="---" -> --- | AH16: ="---" -> --- | AI16: ="---" -> --- | AJ16: ="---" -> --- | AK16: N/A | AL16: ="---" -> --- | AM16: nu | AN16: Nu sînt informații pe web | AO16: nu | AP16: Nu sînt informații pe web | AQ16: nu | AR16: Nu sînt informații pe web | AS16: da | AT16: http://cahul.md/regulile-interne/ | AU16: da | AV16: http://www.calarasi.md/index.php/transparenta-decizionala/998-regulilor-interne-de-organizare-a-procedurilor-de-asigurare-a-transparentei-in-procesul-de-elaborare-si-adoptare-a-deciziilor-consiliului-raional-calarasi | AW16: nu | AX16: Nu sînt informații pe web | AY16: nu | AZ16: Nu sînt informații pe web | BA16: nu | BB16: Nu sînt informații pe web | BC16: da | BD16: http://criuleni.md/index.php?pag=news&id=432&rid=2685&l=ro | BE16: nu | BF16: Nu sînt informații pe web | BG16: nu | BH16: Nu sînt informații pe web | BI16: nu | BJ16: Nu sînt informații pe web | BK16: nu | BL16: Nu sînt informații pe web | BM16: nu | BN16: Nu sînt informații pe web | BO16: nu | BP16: Nu sînt informații pe web | BQ16: nu | BR16: Nu sînt informații pe web | BS16: nu | BT16: Nu sînt informații pe web | BU16: nu | BV16: Nu sînt informații pe web | BW16: da | BX16: http://www.leova.md/index.php?pag=news&id=922&rid=1477&l=ro | BY16: nu | BZ16: Nu sînt informații pe web | CA16: nu | CB16: Nu sînt informații pe web | CC16: nu | CD16: Nu sînt informații pe web | CE16: nu | CF16: Nu sînt informații pe web | CG16: da | CH16: http://www.riscani.md/index.php?pag=procesul_decizional&ids=alte_documente&id=4698&start=40 | CI16: nu | CJ16: Nu sînt informații pe web | CK16: nu | CL16: Nu sînt informații pe web | CM16: nu | CN16: Nu sînt informații pe web | CO16: nu | CP16: Nu sînt informații pe web | CQ16: da | CR16: http://crstraseni.md/index.php?pag=news&id=808&rid=1805&l=ro | CS16: nu | CT16: Nu sînt informații pe web | CU16: nu | CV16: Nu sînt informații pe web | CW16: nu | CX16: Nu sînt informații pe web
A17: Q15 | B17: R20015 | C17: 17 | D17: Sînt aduse la cunoștință informații despre coordonatorul procesului de consultare publică, responsabil de asigurarea transparenţei procesului decizional din autoritatea respectivă ? | E17: Is the information about the public consultation coordinator, responsible for ensuring the transparency of decision-making authority made public? | F17: par | G17: par6 | H17: par6k | I17: 2 | J17: da | K17: yes | L17: nu | M17: no | N17: partial | O17: partially | P17: ="---" -> --- | Q17: ="---" -> --- | R17: ="---" -> --- | S17: ="---" -> --- | T17: ="---" -> --- | U17: ="---" -> --- | V17: ="---" -> --- | W17: ="---" -> --- | X17: N/A | Y17: N/A | Z17: ="---" -> --- | AA17: ="---" -> --- | AB17: =J17 -> da | AC17: =L17 -> nu | AD17: =I17 -> 2 | AE17: 0 | AF17: =AD17/2 -> 1 | AG17: ="---" -> --- | AH17: ="---" -> --- | AI17: ="---" -> --- | AJ17: ="---" -> --- | AK17: N/A | AL17: ="---" -> --- | AM17: nu | AN17: Nu sînt informații pe web | AO17: nu | AP17: Nu sînt informații pe web | AQ17: nu | AR17: Nu sînt informații pe web | AS17: da | AT17: http://cahul.md/persoana-responsabila-de-procesul-decizional/ | AU17: nu | AV17: Nu sînt informații pe web | AW17: nu | AX17: Nu sînt informații pe web | AY17: nu | AZ17: Nu sînt informații pe web | BA17: nu | BB17: Nu sînt informații pe web | BC17: nu | BD17: Nu sînt informații pe web | BE17: nu | BF17: Nu sînt informații pe web | BG17: nu | BH17: Nu sînt informații pe web | BI17: nu | BJ17: Nu sînt informații pe web | BK17: nu | BL17: Nu sînt informații pe web | BM17: nu | BN17: Nu sînt informații pe web | BO17: nu | BP17: Nu sînt informații pe web | BQ17: nu | BR17: Nu sînt informații pe web | BS17: nu | BT17: Nu sînt informații pe web | BU17: nu | BV17: Nu sînt informații pe web | BW17: nu | BX17: Nu sînt informații pe web | BY17: nu | BZ17: Nu sînt informații pe web | CA17: nu | CB17: Nu sînt informații pe web | CC17: da | CD17: http://or.md/index.php/persoana-responsabila/ | CE17: nu | CF17: Nu sînt informații pe web | CG17: nu | CH17: Nu sînt informații pe web | CI17: nu | CJ17: Nu sînt informații pe web | CK17: nu | CL17: Nu sînt informații pe web | CM17: nu | CN17: Nu sînt informații pe web | CO17: nu | CP17: Nu sînt informații pe web | CQ17: da | CR17: http://crstraseni.md/index.php?pag=cat&id=858&l=ro | CS17: nu | CT17: Nu sînt informații pe web | CU17: nu | CV17: Nu sînt informații pe web | CW17: nu | CX17: Nu sînt informații pe web
