Workbook

Sheet Monitoring_MP
A1: questionID | B1: ID_2020 | C1: Row | D1: question | E1: question_en | G1: Code issues | H1: Code comment | I1: max points | J1: ans1 | K1: ans1en | L1: ans2 | M1: ans2en | N1: ans3 | O1: ans3en | P1: ans4 | Q1: ans4en | R1: ans5 | S1: ans5en | T1: ans6 | U1: ans6en | V1: ans7 | W1: ans7en | X1: ans8 | Y1: ans8en | Z1: ans9 | AA1: ans9en | AB1: pts1 | AC1: pts2 | AD1: pts3 | AE1: pts4 | AF1: pts5 | AG1: pts6 | AH1: pts7 | AI1: pts8 | AJ1: pts9 | AK1: Chisinau | AL1: Chisinau_comentariu | AM1: Balti | AN1: Balti_comentariu | AO1: Cahul | AP1: Cahul_comentariu | AQ1: Ungheni | AR1: Ungheni_comentariu | AS1: Soroca | AT1: Soroca_comentariu | AU1: Orhei | AV1: Orhei_comentariu | AW1: Ceadir Lunga | AX1: Ceadir Lunga_comentariu | AY1: Straseni | AZ1: Straseni_comentariu | BA1: Drochia | BB1: Drochia_comentariu | BC1: Durlesti | BD1: Durlesti_comentariu | BE1: Causeni | BF1: Causeni_comentariu | BG1: Edinet | BH1: Edinet_comentariu | BI1: Hincesti | BJ1: Hincesti_comentariu | BK1: Vulcanesti | BL1: Vulcanesti_comentariu | BM1: Calarasi | BN1: Calarasi_comentariu | BO1: Ialoveni | BP1: Ialoveni_comentariu | BQ1: Floresti | BR1: Floresti_comentariu | BS1: Taraclia | BT1: Taraclia_comentariu | BU1: Falesti | BV1: Falesti_comentariu | BW1: Singerei | BX1: Singerei_comentariu | BY1: Nisporeni | BZ1: Nisporeni_comentariu | CA1: Cimislia | CB1: Cimislia_comentariu | CC1: Riscani | CD1: Riscani_comentariu | CE1: Rezina | CF1: Rezina_comentariu | CG1: Basarabeasca | CH1: Basarabeasca Comentariu | CI1: Congaz | CJ1: Congaz_comentariu | CK1: Codru | CL1: Codru_comentariu | CM1: Glodeni | CN1: Glodeni_comentariu | CO1: Costesti | CP1: Costesti_comentariu | CQ1: Leova | CR1: Leova_comentariu | CS1: Donduseni | CT1: Donduseni_comentariu | CU1: Carpineni | CV1: Carpineni_comentariu | CW1: Briceni | CX1: Briceni_comentariu | CY1: Copceac | CZ1: Copceac_comentariu | DA1: Ocnita | DB1: Ocnita_comentariu | DC1: Anenii Noi | DD1: Anenii Noi_comentariu | DE1: Baurci | DF1: Baurci_comentariu | DG1: Cricova | DH1: Cricova_comentariu | DI1: Bacioi | DJ1: Bacioi_comentariu | DK1: Stefan Voda | DL1: Stefan Voda_comentariu | DM1: Singera | DN1: Singera_comentariu | DO1: Criuleni | DP1: Criuleni_comentariu | DQ1: Otaci | DR1: Otaci_comentariu | DS1: Cupcini | DT1: Cupcini_comentariu | DU1: Corjeuti | DV1: Corjeuti_comentariu | DW1: Truseni | DX1: Truseni_comentariu | DY1: Pelinia | DZ1: Pelinia_comentariu | EA1: Peresecina | EB1: Peresecina_comentariu | EC1: Sipoteni | ED1: Sipoteni_comentariu | EE1: Talmaza | EF1: Talmaza_comentariu | EG1: Budești | EH1: Budești_comentariu | EI1: Varnița | EJ1: Varnița_comentariu | EK1: Larga | EL1: Larga_comentariu | EM1: Telenești | EN1: Telenești_comentariu | EO1: Măgdăcești | EP1: Măgdăcești_comentariu | EQ1: Gura Galbenă | ER1: Gura Galbenă_comentariu | ES1: Chișcăreni | ET1: Chișcăreni_comentariu | EU1: Ruseștii Noi | EV1: Ruseștii Noi_comentariu | EW1: Zaim | EX1: Zaim_comentariu | EY1: Comrat | EZ1: Comrat_comentariu
A2: Q1 | B2: C20001 | C2: 2 | D2: Pagina web oficială a autorității publice dispune de compartimente dedicate transparenţei decizionale, unde se plasează informaţia privind procesul de elaborare şi adoptare a deciziilor ? | E2: Does the official web page of the public authority contains the fields related to transparency in decision making process, where the information about the development and approval of decisions is placed? | F2: acc | G2: acc1 | H2: acc1k | I2: 1 | J2: da | K2: yes | L2: nu | M2: no | N2: partial | O2: partially | P2: -------- | Q2: -------- | R2: -------- | S2: -------- | T2: -------- | U2: -------- | V2: -------- | W2: -------- | X2: N/A | Y2: N/A | Z2: -------- | AA2: -------- | AB2: 1 | AC2: 0 | AD2: =AB2/2 -> 0.5 | AI2: N/A | AK2: da | AL2: https://www.chisinau.md/scategory.php?l=ro&idc=1000&t=/Transparenta-decizionala/ https://www.chisinau.md/libt.php?l=ro&idc=412&t=/Consiliul/Activitatea-Consiliului/Sedintele-CMC https://www.chisinau.md/lib.php?l=ro&idc=616&t=/Consiliul/Activitatea-Consiliului/Proiecte-de-decizii& https://www.chisinau.md/libt.php?l=ro&idc=408&t=/Consiliul/Activitatea-Consiliului/Decizii-CMC& | AM2: da | AN2: http://balti.md/ | AO2: da | AP2: http://primariacahul.md/ | AQ2: da | AR2: http://ungheni.md/ | AS2: da | AT2: http://www.primsoroca.md/ro// | AU2: da | AV2: https://www.orhei.md/index.php?l=ro | AW2: da | AX2: https://ceadir-lunga.md/webportal/ | AY2: da | AZ2: http://www.straseni.md/ | BA2: partial | BB2: În compartimentele destinate transparenței decizionale nu sînt publicate informatii https://primariadrochia.md/ | BC2: partial | BD2: http://www.durlesti.md/ | BE2: da | BF2: https://primaria.causeni.org/ | BG2: partial | BH2: http://primariaedinet.md/ | BI2: partial | BJ2: https://primariahincesti.md/ | BK2: partial | BL2: https://www.vulcanestimd.com/ | BM2: partial | BN2: http://calarasi-primaria.md/ | BO2: partial | BP2: http://ialoveni.md/ | BQ2: partial | BR2: http://primariafloresti.md/ | BS2: nu | BT2: Compartimentele destinate transparentei decizionale nu contin informatiile prevăzute de lege http://taraclia.md/ru/page/prozrachnosty#hm | BU2: da | BV2: https://falesti.md/index.php | BW2: partial | BX2: http://primariasingerei.md | BY2: partial | BZ2: http://primarianisporeni.md/docs/ | CA2: da | CB2: http://cimislia.md/ro/page/transparenta http://cimislia.md/ro/page/consiliul-local/consiliul-local-214 | CC2: partial | CD2: http://riscani.com/ro/page/transparenta#hm | CE2: nu | CF2: nu sînt informații pe web | CG2: nu | CH2: Compartimentele destinate transparenței decizionale nu sînt completate | CI2: nu | CJ2: Compartimentele nu sînt completate | CK2: nu | CL2: nu sînt informații pe web | CM2: partial | CN2: www.primaria-glodeni.md | CO2: nu | CP2: nu sînt informații pe web | CQ2: partial | CR2: http://primarialeova.md | CS2: nu | CT2: Pagina web nefuncțională (ultima verificare 31.05.2020) | CU2: da | CV2: http://www.carpineni.md/articole/transparenta/page/5/# | CW2: nu | CX2: nu sînt completate corespunzător | CY2: nu | CZ2: nu sînt completate corespunzător | DA2: partial | DB2: http://primariaocnita.md/ | DC2: partial | DD2: https://anenii-noi.com/index.php | DE2: nu | DF2: nu este pagina web (ultima verificare 31.05.2020) | DG2: da | DH2: http://www.primariacricova.md/ro/ | DI2: partial | DJ2: https://bacioi.md/ | DK2: partial | DL2: http://www.primariastefanvoda.md/ | DM2: nu | DN2: nu sînt completate corespunzător | DO2: nu | DP2: site nefuncțional (ultima verificare 31.05.2020) | DQ2: nu | DR2: Nu are pagină web (ultima verificare 31.05.2020) | DS2: nu | DT2: nu sînt informații pe web | DU2: nu | DV2: Nu are pagină web (ultima verificare 31.05.2020) | DW2: da | DX2: www.truseni.md | DY2: nu | DZ2: nu sînt completate corespunzător | EA2: nu | EB2: Nu sînt completate corespunzător | EC2: nu | ED2: Nu are pagină web (ultima verificare 31.05.2020) | EE2: nu | EF2: Nu sînt completate corespunzător | EG2: partial | EH2: https://www.budesti.md/ | EI2: da | EJ2: http://varnita.md/ | EK2: nu | EL2: Nu sînt completate corespunzător | EM2: partial | EN2: http://www.primariatelenesti.md/ | EO2: partial | EP2: https://magdacesti.md/ | EQ2: nu | ER2: pagina web nefuncțională (ultima verificare la 2.06.2020) | ES2: nu | ET2: pagina web nefuncțională (ultima verificare la 2.06.2020) | EU2: nu | EV2: pagina web nefuncțională (ultima verificare la 2.06.2020) | EW2: partial | EX2: http://zaim.md/ro/page/transparenta | EY2: partial | EZ2: https://comrat.md/
A3: Q2 | B3: C20002 | C3: 3 | D3: Pagina web conține date de contact, informații privind programul de lucru al autorității publice și subdiviziunile sale, cu indicarea zilelor şi orelor de audienţă a funcţionarilor responsabili de furnizarea informaţiilor, documentelor oficiale? | E3: Does the web page contains contact information, information about the working program of the public authority and its subdivisions, including days and hours when public officers in charge with providing information and official documents are in the office? | F3: acc | G3: acc2 | H3: acc2k | I3: 1 | J3: da | K3: yes | L3: nu | M3: no | N3: partial | O3: partially | P3: -------- | Q3: -------- | R3: -------- | S3: -------- | T3: -------- | U3: -------- | V3: -------- | W3: -------- | X3: N/A | Y3: N/A | Z3: -------- | AA3: -------- | AB3: 1 | AC3: 0 | AD3: =AB3/2 -> 0.5 | AI3: N/A | AK3: partial | AL3: https://www.chisinau.md/pageview.php?l=ro&idc=666&t=/Alo-Primaria/Telefoane-utile https://www.chisinau.md/category.php?l=ro&idc=449&t=/Directii/ https://www.chisinau.md/category.php?l=ro&idc=428&t=/Structura-Primariei/ | AM3: da | AN3: http://balti.md/primaria/aparatul-primariei/ http://balti.md/relatii-cu-publicul/petitii-si-audienta-cetatenilor/ http://balti.md/relatii-cu-publicul/telefonul-direct/ | AO3: partial | AP3: http://primariacahul.md/index.php/primaria-cahul/specialisti/384-specialisti-2 | AQ3: partial | AR3: http://ungheni.md/aparatul-primariei/ http://ungheni.md/contacte/ | AS3: da | AT3: http://www.primsoroca.md/ro/contacte http://www.primsoroca.md/ro/aparatul-primariei http://www.primsoroca.md/ro/conducerea-primariei | AU3: da | AV3: https://www.orhei.md/index.php?pag=feedback&id=561&l=ro https://www.orhei.md/index.php?pag=page&id=681&l=ro https://www.orhei.md/index.php?pag=page&id=676&l=ro https://www.orhei.md/index.php?pag=page&id=922&l=ro | AW3: da | AX3: https://ceadir-lunga.md/kontakty https://ceadir-lunga.md/primeriya/sluzhashchie | AY3: partial | AZ3: http://www.straseni.md/contacte/ http://www.straseni.md/aparatul-primariei/ | BA3: partial | BB3: http://primariadrochia.md/person-category/aparatul-primariei/ | BC3: da | BD3: http://www.durlesti.md/ro/contacte.html | BE3: partial | BF3: https://primaria.causeni.org/contacte/ https://primaria.causeni.org/aparatul-primariei/ | BG3: partial | BH3: http://primariaedinet.md/?page_id=32 http://primariaedinet.md/?page_id=140 | BI3: partial | BJ3: https://primariahincesti.md/contacte/ | BK3: partial | BL3: https://www.vulcanestimd.com/apparat-primerii | BM3: da | BN3: http://calarasi-primaria.md/primar/ http://calarasi-primaria.md/contacte/ http://calarasi-primaria.md/lista-colaboratorilor-primariei/ | BO3: da | BP3: http://ialoveni.md/phone-numbers/ http://ialoveni.md/primar/ | BQ3: partial | BR3: http://primariafloresti.md/contacte/ | BS3: da | BT3: http://taraclia.md/ro/page/contacte http://taraclia.md/ru/page/grazhdan-i-bizns/prim-grazhdan/zargistriruytsy-na-prim | BU3: da | BV3: https://falesti.md/index.php/contacte.html https://falesti.md/index.php/primar.html https://falesti.md/index.php/secretarul-consiliului.html | BW3: da | BX3: http://primariasingerei.md/ro/page/cos-cu-pagini-sterse/contacte/contacte-si-adrese-utile http://primariasingerei.md/ro/page/transparenta1/dialogul-cu-cetatenii | BY3: partial | BZ3: http://primarianisporeni.md/contacte/lista-contacte/ | CA3: da | CB3: http://cimislia.md/ro/page/primaria/primaria-208/aparatul-primariei http://cimislia.md/ro/page/cetateni-si-business/audierea-cetatenilor/orarul-audierilor | CC3: partial | CD3: http://riscani.com/ro/page/contacte | CE3: da | CF3: http://primaria-rezina.md/contacte/ http://primaria-rezina.md/zile-de-audienta/ | CG3: partial | CH3: http://www.primariabessarabka.md/ru/page/kontaktn-dann http://www.primariabessarabka.md/ru/page/primriya/primriya-209/apparat-primrii | CI3: partial | CJ3: https://www.congaz.md/kontaktnaya-informatsiya/ | CK3: da | CL3: https://primariacodru.md/contacte-codru/ | CM3: da | CN3: http://primaria-glodeni.md/ro/page/contacte http://primaria-glodeni.md/ro/page/primaria/primaria-208/aparatul-primariei http://primaria-glodeni.md/ro/page/primaria/primarul/biografia-primarului http://primaria-glodeni.md/ro/page/primaria/primaria-208/viceprimari | CO3: da | CP3: http://costesti.md/telefonul-direct/ http://costesti.md/primarie-apl/ | CQ3: partial | CR3: http://primarialeova.md/contacte/ | CS3: nu | CT3: Pagina web nefuncțională (ultima verificare 31.05.2020) | CU3: da | CV3: http://www.carpineni.md/contacte/ http://www.carpineni.md/secretar/ http://www.carpineni.md/viceprimar/ | CW3: da | CX3: http://primbriceni.md/contacte/ http://primbriceni.md/primarul/ http://primbriceni.md/viceprimar/ http://primbriceni.md/secretarul-consiliului/ http://primbriceni.md/aparatulprimariei/ | CY3: partial | CZ3: http://www.copceac.md/kontakty/ | DA3: da | DB3: http://primariaocnita.md/lista-functionarilor-publici-din-cadrul-primariei-orasului-ocnita/ http://primariaocnita.md/zile-de-audienta-si-date-de-contact/ | DC3: partial | DD3: https://anenii-noi.com/index.php/primaria/contacte/ https://anenii-noi.com/index.php/primaria/primarul-anenii-noi/ https://anenii-noi.com/index.php/consiliul-local/secretarul-consiliului/ | DE3: nu | DF3: nu este pagina web (ultima verificare 31.05.2020) | DG3: da | DH3: http://www.primariacricova.md/ro/contacte.html http://www.primariacricova.md/ro/aparatul-primariei--personalul-primariei-.html | DI3: partial | DJ3: https://bacioi.md/contacte/ https://bacioi.md/aparatul-primariei/ | DK3: partial | DL3: http://www.primariastefanvoda.md/index.php?pag=page&id=26&l= http://www.primariastefanvoda.md/?pag=aparatul&opa=directie&id=28&l= | DM3: partial | DN3: https://singera.md/contact.html | DO3: nu | DP3: site nefuncțional (ultima verificare 31.05.2020) | DQ3: nu | DR3: Nu are pagină web (ultima verificare 31.05.2020) | DS3: partial | DT3: http://cupcini.md/contacte/ | DU3: nu | DV3: Nu are pagină web (ultima verificare 31.05.2020) | DW3: da | DX3: http://truseni.md/index.php/ro/kontakty http://truseni.md/index.php/ro/kontakty-i-audientsiya | DY3: partial | DZ3: http://www.pelinia.md/contacte/ http://www.pelinia.md/aparatul-primariei/ | EA3: nu | EB3: nu sînt informații pe web | EC3: nu | ED3: Nu are pagină web (ultima verificare 31.05.2020) | EE3: partial | EF3: http://talmaza.md/index.php?pag=feedback&id=896&l=ro http://talmaza.md/index.php?pag=page&id=1196&l=ro | EG3: partial | EH3: https://budesti.md/contacte/ | EI3: partial | EJ3: http://varnita.md/contact | EK3: partial | EL3: http://larga.md/ro/prim-ria/contacte.html http://larga.md/ro/prim-ria/aparatul-prim-riei.html | EM3: da | EN3: http://www.primariatelenesti.md/contacte/ http://www.primariatelenesti.md/primar/ http://www.primariatelenesti.md/viceprimar/ http://www.primariatelenesti.md/secretar/ | EO3: nu | EP3: nu sînt informații pe web | EQ3: nu | ER3: pagina web nefuncțională (ultima verificare la 2.06.2020) | ES3: nu | ET3: pagina web nefuncțională (ultima verificare la 2.06.2020) | EU3: nu | EV3: pagina web nefuncțională (ultima verificare la 2.06.2020) | EW3: partial | EX3: http://zaim.md/ro/page/contacte http://zaim.md/ro/page/primaria/primaria-208/aparatul-primariei | EY3: da | EZ3: https://comrat.md/kontakty.html https://comrat.md/rukovodstvo.html
A4: Q3 | B4: C20003 | C4: 4 | D4: Sunt disponibile pe site-ul oficial numele, date de contact și afilierea politică a consilierilor locali ? | E4: Are the names of the officials, contact data and political affiliation of the local counselors published on the web site? | F4: acc | G4: acc3 | H4: acc3k | I4: 1 | J4: da | K4: yes | L4: nu | M4: no | N4: partial | O4: partially | P4: -------- | Q4: -------- | R4: -------- | S4: -------- | T4: -------- | U4: -------- | V4: -------- | W4: -------- | X4: N/A | Y4: N/A | Z4: -------- | AA4: -------- | AB4: 1 | AC4: 0 | AD4: =AB4/2 -> 0.5 | AI4: N/A | AK4: partial | AL4: https://www.chisinau.md/pageview.php?l=ro&idc=415&t=/Consiliul/Componenta/Consilierii-CMC&year=2019&& | AM4: partial | AN4: http://balti.md/consilieri/ http://balti.md/consiliul/graficul-de-audienta/ | AO4: partial | AP4: http://primariacahul.md/index.php/consiliul-orasenesc/componenta/74-lista-consilierilor-in-consiliul-orasenesc-cahul | AQ4: partial | AR4: http://ungheni.md/consilieri/ | AS4: partial | AT4: http://www.primsoroca.md/ro/componenta-consiliului | AU4: partial | AV4: https://www.orhei.md/index.php?pag=page&id=924&l=ro | AW4: da | AX4: https://ceadir-lunga.md/munitsipalnyj-sovet/sovetniki | AY4: da | AZ4: http://www.straseni.md/consilieri/ | BA4: partial | BB4: http://primariadrochia.md/person-category/consilieri/ | BC4: partial | BD4: http://www.durlesti.md/ro/componenta-consiliului.html | BE4: partial | BF4: https://primaria.causeni.org/consiliul-orasenesc/ | BG4: partial | BH4: http://primariaedinet.md/?page_id=57 | BI4: nu | BJ4: nu sînt informații pe web | BK4: partial | BL4: https://www.vulcanestimd.com/deputatskie-okruga | BM4: partial | BN4: http://calarasi-primaria.md/consilieri/ | BO4: partial | BP4: http://ialoveni.md/lista-consilierilor/ | BQ4: partial | BR4: http://primariafloresti.md/consilieri/ | BS4: da | BT4: http://taraclia.md/ru/page/mstny-sovt/mstny-sovt-215/mstn-sovtniki-i-sfr-otvtstvnnosti | BU4: da | BV4: https://falesti.md/index.php/consilieri.html | BW4: da | BX4: http://primariasingerei.md/ro/page/consiliul-local/consilieri-si-programul-de-audienta | BY4: partial | BZ4: http://primarianisporeni.md/structura/consiliul-orasenesc/ | CA4: da | CB4: http://cimislia.md/ro/page/consiliul-local/consiliul-local-214/consilieri-locali-si-domeniile-de-responsabilitate | CC4: partial | CD4: http://riscani.com/ro/page/consiliul-local/consiliul-local-2015-2019/consilieri-locali-si-domeniile-de-responsabilitate | CE4: partial | CF4: http://primaria-rezina.md/componenta/ | CG4: partial | CH4: http://www.primariabessarabka.md/ru/page/mstny-sovt/mstny-sovt-215/mstn-sovtniki-i-sfr-otvtstvnnosti | CI4: partial | CJ4: https://www.congaz.md/spetsializirovannye-komitety/ | CK4: partial | CL4: https://primariacodru.md/consiliul-local/ | CM4: partial | CN4: http://primaria-glodeni.md/ro/page/consilieri-locali-si-domeniile-de-responsabilitate-216/desopre-consiliul-local/consilieri-locali-si-domeniile-de-responsabilitate | CO4: nu | CP4: nu sînt informații pe web | CQ4: partial | CR4: http://primarialeova.md/consilieri/ | CS4: nu | CT4: Pagina web nefuncțională (ultima verificare 31.05.2020) | CU4: partial | CV4: http://www.carpineni.md/consilieri-in-perioada-2019-2023/ | CW4: partial | CX4: http://primbriceni.md/componenta-consiliului/ | CY4: da | CZ4: http://www.copceac.md/selskij-sovet/ | DA4: da | DB4: http://primariaocnita.md/lista-consilierilor-in-consiliul-orasenesc-ocnita-2015-2019/ | DC4: partial | DD4: https://anenii-noi.com/index.php/consiliul-local/lista-membrilor/ | DE4: nu | DF4: nu este pagina web (ultima verificare 31.05.2020) | DG4: partial | DH4: http://www.primariacricova.md/ro/componenta-consiliului.html | DI4: partial | DJ4: https://bacioi.md/consilieri-locali/ | DK4: nu | DL4: nu sînt informații pe web | DM4: partial | DN4: https://singera.md/consilierii-locali.html | DO4: nu | DP4: site nefuncțional (ultima verificare 31.05.2020) | DQ4: nu | DR4: Nu are pagină web (ultima verificare 31.05.2020) | DS4: partial | DT4: http://cupcini.md/componenta-consiliului/ | DU4: nu | DV4: Nu are pagină web (ultima verificare 31.05.2020) | DW4: partial | DX4: http://truseni.md/index.php/ro/spisok-sovetnikov | DY4: partial | DZ4: http://www.pelinia.md/consilieri/ | EA4: nu | EB4: nu sînt informații pe web | EC4: nu | ED4: Nu are pagină web (ultima verificare 31.05.2020) | EE4: da | EF4: http://talmaza.md/index.php?pag=page&id=1195&l=ro | EG4: partial | EH4: https://budesti.md/consilieri/12-lista-consilierilor-ai-consiliului-local-budeti.html | EI4: nu | EJ4: nu sînt informații pe web | EK4: partial | EL4: http://larga.md/ro/consiliul-comunal/consilieri.html | EM4: da | EN4: http://www.primariatelenesti.md/consilieri/ | EO4: partial | EP4: https://magdacesti.md/componenta/ | EQ4: nu | ER4: pagina web nefuncțională (ultima verificare la 2.06.2020) | ES4: nu | ET4: pagina web nefuncțională (ultima verificare la 2.06.2020) | EU4: nu | EV4: pagina web nefuncțională (ultima verificare la 2.06.2020) | EW4: da | EX4: http://zaim.md/ro/page/consiliul-local/consiliul-local-214/consilieri-locali-si-domeniile-de-responsabilitate | EY4: da | EZ4: https://comrat.md/municipalnye-sovetniki.html
A5: Q4 | B5: C20004 | C5: 5 | D5: Anunţul referitor la desfăşurarea şedinţei publice este adus la cunoştinţă cetăţenilor (cu cel puţin 5 zile înaintea şedinţelor ordinare şi cu cel puţin 3 zile înaintea celor extraordinare)? | E5: Is the announcement about the public session made public to citizens (at least 5 days before the ordinary meetings and at least 3 days before the extraordinary meeting)? | F5: acc | G5: acc4 | H5: acc4k | I5: 1 | J5: da | K5: yes | L5: nu | M5: no | N5: partial/panou informativ | O5: partially/bliboard | P5: 0-10% | Q5: 0-10% | R5: 10-30% | S5: 10-30% | T5: 30-60% | U5: 30-60% | V5: 60-90% | W5: 60-90% | X5: N/A | Y5: N/A | Z5: -------- | AA5: -------- | AB5: 1 | AC5: 0 | AD5: =AB5/2 -> 0.5 | AE5: =$AB5*(1/5) -> 0.2 | AF5: =$AB5*(2/5) -> 0.4 | AG5: =$AB5*(3/5) -> 0.6 | AH5: =$AB5*(4/5) -> 0.8 | AI5: N/A | AK5: da | AL5: https://www.chisinau.md/libt.php?l=ro&idc=412&t=/Consiliul/Activitatea-Consiliului/Sedintele-CMC&year=2019& https://www.chisinau.md/libview.php?l=ro&idc=403&id=28036&t=/Presa/Comunicate-de-presa/edinta-Consiliului-municipal-Chiinau https://www.chisinau.md/libview.php?l=ro&idc=403&id=27982&t=/Presa/Comunicate-de-presa/edinta-Consiliului-municipal-Chiinau https://www.chisinau.md/libview.php?l=ro&idc=403&id=28116&t=/Presa/Comunicate-de-presa/edinta-Consiliului-municipal-Chiinau https://www.chisinau.md/libview.php?l=ro&idc=403&id=27827&t=/Presa/Comunicate-de-presa/edinta-Consiliului-municipal-Chiinau https://www.chisinau.md/libview.php?l=ro&idc=403&id=27206&t=/Presa/Comunicate-de-presa/edinta-Consiliului-municipal-Chiinau https://www.chisinau.md/libview.php?l=ro&idc=403&id=27297&t=/Presa/Comunicate-de-presa/Continuarea-edintei-Consiliului-municipal-Chiinau https://www.chisinau.md/libview.php?l=ro&idc=403&id=27763&t=/Presa/Comunicate-de-presa/edinta-Consiliului-municipal-Chiinau https://www.chisinau.md/libview.php?l=ro&idc=403&id=26637&t=/Presa/Comunicate-de-presa/Continuarea-edintei-Consiliului-municipal-Chiinau https://www.chisinau.md/libview.php?l=ro&idc=403&id=26530&t=/Presa/Comunicate-de-presa/Convocarea-edintei-ordinare-a-Consiliului-municipal-Chiinau https://www.chisinau.md/libview.php?l=ro&idc=403&id=25476&t=/Presa/Comunicate-de-presa/Continuarea-edintei-Consiliului-municipal-Chiinau https://www.chisinau.md/libview.php?l=ro&idc=403&id=25252&t=/Presa/Comunicate-de-presa/Convocarea-edintei-extraordinare-a-Consiliului-municipal-Chiinau https://www.chisinau.md/libview.php?l=ro&idc=403&id=25032&t=/Presa/Comunicate-de-presa/Convocarea-edintei-de-indata-a-Consiliului-municipal-Chiinau | AM5: da | AN5: http://balti.md/consiliul/sedinte/ | AO5: da | AP5: http://primariacahul.md/index.php/consiliul-orasenesc/proiecte-de-decizii http://primariacahul.md/index.php/20-informatii-publice/1195-se-convoaca-sedinta-ordinara-a-consiliului-municipal-cahul-la-data-de-30-mai-2019 | AQ5: nu | AR5: nu sînt informații pe web | AS5: da | AT5: http://www.primsoroca.md/ro/dispozitiile-primarului?ArticleFileSearch%5BYear%5D=2019&ArticleFileSearch%5BMonth%5D=&ArticleFileSearch%5BDay%5D= | AU5: da | AV5: https://www.orhei.md/index.php?pag=news&id=907&l=ro https://www.orhei.md/index.php?pag=news&id=737&l=ro | AW5: partial/panou informativ | AX5: https://ceadir-lunga.md/novosti/item/3035-na-sleduyushchej-nedele-sostoitsya-zasedanie-chadyr-lungskogo-soveta https://ceadir-lunga.md/novosti/item/3040-izvestna-povestka-dnya-zasedaniya-munitsipalnogo-soveta https://ceadir-lunga.md/novosti/item/3012-izvestna-povestka-dnya-ocherednogo-zasedaniya-munitsipalnogo-soveta https://ceadir-lunga.md/novosti/item/2994-v-chadyr-lunge-sostoitsya-pervoe-zasedanie-novogo-soveta https://ceadir-lunga.md/novosti/item/2944-v-pyatnitsu-sostoitsya-vneocherednoe-zasedanie-soveta | AY5: 60-90% | AZ5: http://www.straseni.md/dispozitia-nr-261-cu-privire-la-convocarea-consiliului-municipal-straseni/ http://www.straseni.md/dispozitia-nr-264-cu-privire-la-convocarea-consiliului-municipal/ http://actelocale.gov.md/ral/act/cu-privire-la-convocarea-consiliului-municipal-174987.html http://actelocale.gov.md/ral/act/cu-privire-la-convocarea-consiliului-municipal-200218.html http://actelocale.gov.md/ral/act/cu-privire-la-convocarea-consiliului-municipal-214572.html http://actelocale.gov.md/ral/act/cu-privire-la-convocarea-consiliului-municipal-323135.html http://actelocale.gov.md/ral/act/cu-privire-la-convocarea-consiliului-municipal-376151.html | BA5: nu | BB5: nu sînt informații pe web | BC5: da | BD5: http://www.durlesti.md/ro/proiecte-de-decizii.html | BE5: 0-10% | BF5: https://primaria.causeni.org/wp-content/uploads/2019/06/cu-privire-la-convocarea-%c8%99edin%c8%9bei.pdf | BG5: da | BH5: http://primariaedinet.md/?cat=47 | BI5: nu | BJ5: nu sînt informații pe web | BK5: nu | BL5: nu sînt informații pe web | BM5: 30-60% | BN5: http://calarasi-primaria.md/2019/12/27/sedinta-extraordinara-a-consiliului-orasenesc-calarasi/ http://calarasi-primaria.md/2019/12/17/convocare-sedinta-extraordinara-a-consiliului-orasenesc-calarasi-20-decembrie-2019/ http://calarasi-primaria.md/2019/11/29/convocare-sedinta-ordinara-a-consiliului-orasenesc-calarasi-06-decembrie-2019/ | BO5: da | BP5: http://ialoveni.md/news/page/16/ | BQ5: 10-30% | BR5: http://primariafloresti.md/proiecte-de-decizii/ http://primariafloresti.md/dispozitiile-primarului/ | BS5: 0-10% | BT5: http://taraclia.md/ru/page/mstny-sovt/mstny-sovt-215/zasdaniya-sovta/vnochrdno-zasdani-sovta-09092019 | BU5: da | BV5: https://falesti.md/index.php/proiecte-de-decizii.html | BW5: 0-10% | BX5: http://primariasingerei.md/ro/page/consiliul-local/sedintele-consiliului | BY5: nu | BZ5: nu sînt informații pe web | CA5: da | CB5: http://cimislia.md/ro/page/primaria/noutatile-primariei-384?item=sedinta-extraordinara-a-consiliului-orasenesc-cimislia-18112019 http://cimislia.md/ro/page/primaria/noutatile-primariei-384?item=in-data-de-18-septembrie-2019-se-convoaca-sedinta-extraordinara-a-consiliului-orasenesc-cimislia http://cimislia.md/ro/page/primaria/noutatile-primariei-384?item=sedinta-ordinara-a-consiliului-orasenesc-cimislia-20-august-2019-ora-0900 http://cimislia.md/ro/page/primaria/noutatile-primariei-384?item=in-data-de-05-iulie-2019-ora-0900-primarul-gheorghe-raileanu-convoaca-sedinta-extraordinara-a-consiliului-orasenesc-cimislia http://cimislia.md/ro/page/primaria/noutatile-primariei-384?item=se-convoaca-consiliul-orasenesc-cimislia-in-sedinta-ordinara-23052019-ora-1400 http://cimislia.md/ro/page/primaria/noutatile-primariei-384?item=sedinta-ordinara-a-cosiliului-orasenesc-cimislia-22032019 http://cimislia.md/ro/page/primaria/noutatile-primariei-384?item=sedinta-ordinara-a-consiliului-orasenesc-cimislia-18012019 http://cimislia.md/ro/page/primaria/noutatile-primariei-384?item=se-anunta-sedinta-consiliului-orasenesc-cimislia-5476&fbclid=IwAR1BbSqHNrL7HGJHHOUlCq4gZP9aNfXJJ-UjQRp8MPTBzzNNirfHCKWlQq4 http://cimislia.md/ro/page/primaria/noutatile-primariei-384?item=sedinta-de-inaugurare-a-consiliului-orasenesc-cimislia-12-noiembrie | CC5: da | CD5: http://riscani.com/ro/page/consiliul-local/consiliul-local-2015-2019/sedintele-consiliului/ordinea-de-zi | CE5: da | CF5: http://primaria-rezina.md/dispozitiile-primarului/ | CG5: nu | CH5: nu sînt informații pe web | CI5: 30-60% | CJ5: https://www.congaz.md/ekstrennoe-zasedanie-kongazskogo-selskogo-soveta-sostoitsya-27-noyabrya/ https://www.congaz.md/ocherednoe-zasedanie-selskogo-soveta-sostoitsya-4-sentyabrya/ https://www.congaz.md/povestka-dnya-zasedaniya-kongazskogo-selskogo-soveta-15-07-2019/ https://www.congaz.md/zasedanie-kongaszkogo-selskogo-soveta-sostoitsya-25-marta-v-povestke-23-voprosa/ | CK5: nu | CL5: nu sînt informații pe web | CM5: 30-60% | CN5: http://primaria-glodeni.md/ro/page/consilieri-locali-si-domeniile-de-responsabilitate-216/sedintele-consiliului/ordinea-de-zi http://primaria-glodeni.md/ro/page/primaria/activitatea-curenta/noutatile-primariei?item=sedinta-ordinara-a-consiliului-orasenesc-glodeni-din-28062019 | CO5: 30-60% | CP5: http://costesti.md/2019/01/19/se-anunta-prima-sedinta-extraordinara-a-consiliului-local-costesti-din-acest-an-2/ http://costesti.md/2019/04/18/se-anunta-sedinta-ordinara-a-consiliului-local-costesti-4/ http://costesti.md/2019/08/13/se-anunta-sedinta-ordinara-a-consiliului-local-costesti-5/ http://costesti.md/2019/09/17/se-anunta-sedinta-extraordinara-a-consiliului-local-costesti-5/ | CQ5: nu | CR5: nu sînt informații pe web | CS5: partial/panou informativ | CT5: Conform răspunsului din chestionar | CU5: 30-60% | CV5: http://www.carpineni.md/wp-content/uploads/2019/11/Dispozi-ie-4-Cu-privire-la-convocarea-consiliului.pdf http://www.carpineni.md/wp-content/uploads/2019/11/Dispozi-ie-59-Cu-privire-la-convocarea-consiliului.pdf http://www.carpineni.md/wp-content/uploads/2019/03/Dispozi-ie-consiliu.pdf http://www.carpineni.md/dispozitie-cu-privire-la-sedinta-consiliului-local-carpineni/ http://www.carpineni.md/wp-content/uploads/2019/12/Dispozi-ie-172-cu-privire-la-convocarea-consiliului.pdf | CW5: nu | CX5: nu sînt informații pe web | CY5: 30-60% | CZ5: http://www.copceac.md/2019/12/03/rasporyazheniem-primara-ocherednoe-zasedanie-mestnogo-soveta-sozyvaetsya-6-dekabrya-v-1400-ch/ http://www.copceac.md/2019/11/15/pervoe-uchreditelnoe-zasedanie-mestnogo-soveta-naznacheno-na-18-noyabrya-v-1500-ch/ http://www.copceac.md/2019/04/09/rasporyazheniem-primara-ot-5-aprelya-2019-goda-vneocherednoe-zasedanie-mestnogo-soveta-sozyvaetsya-12-aprelya-v-1500-ch-so-sleduyushhej-povestkoj-dnya/ http://www.copceac.md/2019/02/04/rasporyazheniem-primara-zasedanie-mestnogo-soveta-sozyvaetsya-8-fevralya-v-1500/ | DA5: 30-60% | DB5: http://primariaocnita.md/dispozitii-2019/ | DC5: 60-90% | DD5: https://anenii-noi.com/index.php/cu-privire-la-convocarea-sedintei-ordinare-a-consiliului-orasenesc/ https://anenii-noi.com/index.php/dispozitie-nr-48-din-24-mai-2019-cu-privire-la-convocarea-sedintei-a-consiliului-orasenesc/ https://anenii-noi.com/wp-content/uploads/2019/06/1.pdf https://anenii-noi.com/index.php/dispozitia-primarului-cu-privire-la-convocarea-sedintei-extraordinare-a-consiliului-orasenesc/ https://anenii-noi.com/index.php/dispozitia-primarului-cu-privire-la-convocarea-sedintei-extraordinare-a-consiliului-orasenesc-4/ https://anenii-noi.com/index.php/cu-privire-la-convocarea-sedintei-extraordinare-a-consiliului-orasenesc-4/ https://anenii-noi.com/index.php/cu-privire-la-convocarea-sedintei-extraordinare-a-consiliului-orasenesc-5/ https://anenii-noi.com/wp-content/uploads/2019/11/1.pdf https://anenii-noi.com/index.php/cu-privire-la-convocarea-sedintei-extraordinare-a-consiliului-orasenesc-6/ | DE5: nu | DF5: nu este pagina web (ultima verificare 31.05.2020) | DG5: 30-60% | DH5: http://www.primariacricova.md/ro/dispozitii.html http://www.primariacricova.md/images/u/12/files/2019/09/DISPOZITIA%20CONVOCARE%20SEDINTA%20EXTRAORDINARA.pdf | DI5: nu | DJ5: nu sînt informații pe web | DK5: 0-10% | DL5: http://www.primariastefanvoda.md/?pag=news&opa=view&id=230&tip=anunt&start=&l= | DM5: nu | DN5: nu sînt informații pe web | DO5: nu | DP5: site nefuncțional (ultima verificare 31.05.2020) | DQ5: nu | DR5: Nu are pagină web (ultima verificare 31.05.2020) | DS5: nu | DT5: nu sînt informații pe web | DU5: nu | DV5: Nu are pagină web (ultima verificare 31.05.2020) | DW5: 60-90% | DX5: http://truseni.md/index.php/ro/sobraniya-soveta | DY5: nu | DZ5: nu sînt informații pe web | EA5: nu | EB5: nu sînt informații pe web | EC5: nu | ED5: Nu are pagină web (ultima verificare 31.05.2020) | EE5: 30-60% | EF5: http://talmaza.md/index.php?pag=news&id=1197&rid=542&l=ro http://talmaza.md/index.php?pag=news&id=1197&rid=469&l=ro http://talmaza.md/index.php?pag=news&id=1197&rid=437&l=ro http://talmaza.md/index.php?pag=news&id=1180&rid=551&l=ro http://talmaza.md/index.php?pag=news&id=1180&rid=554&l=ro | EG5: 10-30% | EH5: https://budesti.md/dispozitii/1660-dispoziie-nr-72-d-din-07062019.html https://budesti.md/dispozitii/1556-dispoziie-nr-25-d-din-22022019.html | EI5: 60-90% | EJ5: http://varnita.md/category/avize/page/2 http://varnita.md/dispozitie-cu-privire-la-convocarea-sedintei-ordinare-consiliului-satesc | EK5: 0-10% | EL5: http://larga.md/ro/469-%C8%99edin%C8%9Ba-a-1-a-a-noului-consiliu-format.html | EM5: da | EN5: http://www.primariatelenesti.md/articole/anunturi/ | EO5: 60-90% | EP5: https://magdacesti.md/2019/03/22/anunt-29-martie-2019-convocarea-sedintei-consiliului-satesc-magdacesti/ https://magdacesti.md/2019/07/10/16-iulie-2019-sedinta-ordinara-a-consiliului-satesc/ https://magdacesti.md/2019/09/04/10-septembrie-2019-sedinta-ordinara-a-consiliului-satesc/ https://magdacesti.md/2019/12/13/anunt-4/ | EQ5: nu | ER5: pagina web nefuncțională (ultima verificare la 2.06.2020) | ES5: nu | ET5: pagina web nefuncțională (ultima verificare la 2.06.2020) | EU5: nu | EV5: pagina web nefuncțională (ultima verificare la 2.06.2020) | EW5: 0-10% | EX5: http://zaim.md/ro/page/transparenta/finantele-publice-locale/cheltuielile-pentru-institutii-subordonate http://zaim.md/upload/actelocale/D.%20nr.3-a,2019.PDF | EY5: nu | EZ5: nu sînt informații pe web
A6: Q5 | B6: C20005 | C6: 6 | D6: Cuprind anunțurile referitor la desfăşurarea şedinţei publice data, ora, locul desfăşurării şedinţei şi ordinea de zi a acesteia ? | E6: Does the announcements related to the public session contains information about the hour, place, date, and the agenda? | F6: acc | G6: acc5 | H6: acc5k | I6: 1 | J6: da | K6: yes | L6: nu | M6: no | N6: partial | O6: partially | P6: 0-10% | Q6: 0-10% | R6: 10-30% | S6: 10-30% | T6: 30-60% | U6: 30-60% | V6: 60-90% | W6: 60-90% | X6: N/A | Y6: N/A | Z6: -------- | AA6: -------- | AB6: 1 | AC6: 0 | AD6: =AB6/2 -> 0.5 | AE6: =$AB6*(1/5) -> 0.2 | AF6: =$AB6*(2/5) -> 0.4 | AG6: =$AB6*(3/5) -> 0.6 | AH6: =$AB6*(4/5) -> 0.8 | AI6: N/A | AK6: da | AL6: https://www.chisinau.md/libt.php?l=ro&idc=412&t=/Consiliul/Activitatea-Consiliului/Sedintele-CMC&year=2019& https://www.chisinau.md/libview.php?l=ro&idc=403&id=28036&t=/Presa/Comunicate-de-presa/edinta-Consiliului-municipal-Chiinau https://www.chisinau.md/libview.php?l=ro&idc=403&id=27982&t=/Presa/Comunicate-de-presa/edinta-Consiliului-municipal-Chiinau https://www.chisinau.md/libview.php?l=ro&idc=403&id=28116&t=/Presa/Comunicate-de-presa/edinta-Consiliului-municipal-Chiinau https://www.chisinau.md/libview.php?l=ro&idc=403&id=27827&t=/Presa/Comunicate-de-presa/edinta-Consiliului-municipal-Chiinau https://www.chisinau.md/libview.php?l=ro&idc=403&id=27206&t=/Presa/Comunicate-de-presa/edinta-Consiliului-municipal-Chiinau https://www.chisinau.md/libview.php?l=ro&idc=403&id=27297&t=/Presa/Comunicate-de-presa/Continuarea-edintei-Consiliului-municipal-Chiinau https://www.chisinau.md/libview.php?l=ro&idc=403&id=27763&t=/Presa/Comunicate-de-presa/edinta-Consiliului-municipal-Chiinau https://www.chisinau.md/libview.php?l=ro&idc=403&id=26637&t=/Presa/Comunicate-de-presa/Continuarea-edintei-Consiliului-municipal-Chiinau https://www.chisinau.md/libview.php?l=ro&idc=403&id=26530&t=/Presa/Comunicate-de-presa/Convocarea-edintei-ordinare-a-Consiliului-municipal-Chiinau https://www.chisinau.md/libview.php?l=ro&idc=403&id=25476&t=/Presa/Comunicate-de-presa/Continuarea-edintei-Consiliului-municipal-Chiinau https://www.chisinau.md/libview.php?l=ro&idc=403&id=25252&t=/Presa/Comunicate-de-presa/Convocarea-edintei-extraordinare-a-Consiliului-municipal-Chiinau https://www.chisinau.md/libview.php?l=ro&idc=403&id=25032&t=/Presa/Comunicate-de-presa/Convocarea-edintei-de-indata-a-Consiliului-municipal-Chiinau | AM6: da | AN6: http://balti.md/consiliul/sedinte/ | AO6: da | AP6: http://primariacahul.md/index.php/consiliul-orasenesc/proiecte-de-decizii http://primariacahul.md/index.php/20-informatii-publice/1195-se-convoaca-sedinta-ordinara-a-consiliului-municipal-cahul-la-data-de-30-mai-2019 | AQ6: nu | AR6: nu sînt informații pe web | AS6: da | AT6: http://www.primsoroca.md/ro/dispozitiile-primarului?ArticleFileSearch%5BYear%5D=2019&ArticleFileSearch%5BMonth%5D=&ArticleFileSearch%5BDay%5D= http://www.primsoroca.md/ro/sedinte-ordinea-de-zi?ArticleFileSearch%5BYear%5D=2019&ArticleFileSearch%5BMonth%5D=&ArticleFileSearch%5BDay%5D= | AU6: da | AV6: https://www.orhei.md/index.php?pag=news&id=907&l=ro https://www.orhei.md/index.php?pag=news&id=737&l=ro | AW6: partial | AX6: https://ceadir-lunga.md/novosti/item/3035-na-sleduyushchej-nedele-sostoitsya-zasedanie-chadyr-lungskogo-soveta https://ceadir-lunga.md/novosti/item/3040-izvestna-povestka-dnya-zasedaniya-munitsipalnogo-soveta https://ceadir-lunga.md/novosti/item/3012-izvestna-povestka-dnya-ocherednogo-zasedaniya-munitsipalnogo-soveta https://ceadir-lunga.md/novosti/item/2994-v-chadyr-lunge-sostoitsya-pervoe-zasedanie-novogo-soveta https://ceadir-lunga.md/novosti/item/2944-v-pyatnitsu-sostoitsya-vneocherednoe-zasedanie-soveta | AY6: da | AZ6: http://www.straseni.md/dispozitia-nr-261-cu-privire-la-convocarea-consiliului-municipal-straseni/ http://www.straseni.md/dispozitia-nr-264-cu-privire-la-convocarea-consiliului-municipal/ http://actelocale.gov.md/ral/act/cu-privire-la-convocarea-consiliului-municipal-174987.html http://actelocale.gov.md/ral/act/cu-privire-la-convocarea-consiliului-municipal-200218.html http://actelocale.gov.md/ral/act/cu-privire-la-convocarea-consiliului-municipal-214572.html http://actelocale.gov.md/ral/act/cu-privire-la-convocarea-consiliului-municipal-323135.html http://actelocale.gov.md/ral/act/cu-privire-la-convocarea-consiliului-municipal-376151.html | BA6: nu | BB6: nu sînt informații pe web | BC6: da | BD6: http://www.durlesti.md/ro/proiecte-de-decizii.html | BE6: da | BF6: https://primaria.causeni.org/wp-content/uploads/2019/06/cu-privire-la-convocarea-%c8%99edin%c8%9bei.pdf | BG6: da | BH6: http://primariaedinet.md/?cat=48 | BI6: nu | BJ6: nu sînt informații pe web | BK6: nu | BL6: nu sînt informații pe web | BM6: da | BN6: http://calarasi-primaria.md/2019/12/27/sedinta-extraordinara-a-consiliului-orasenesc-calarasi/ http://calarasi-primaria.md/2019/12/17/convocare-sedinta-extraordinara-a-consiliului-orasenesc-calarasi-20-decembrie-2019/ http://calarasi-primaria.md/2019/11/29/convocare-sedinta-ordinara-a-consiliului-orasenesc-calarasi-06-decembrie-2019/ | BO6: da | BP6: http://ialoveni.md/news/page/16/ | BQ6: 10-30% | BR6: http://primariafloresti.md/proiecte-de-decizii/ http://primariafloresti.md/dispozitiile-primarului/ | BS6: 0-10% | BT6: http://taraclia.md/ru/page/mstny-sovt/mstny-sovt-215/zasdaniya-sovta/vnochrdno-zasdani-sovta-09092020 | BU6: da | BV6: https://falesti.md/index.php/proiecte-de-decizii.html | BW6: 30-60% | BX6: http://primariasingerei.md/ro/page/consiliul-local/sedintele-consiliului | BY6: nu | BZ6: nu sînt informații pe web | CA6: da | CB6: http://cimislia.md/ro/page/primaria/noutatile-primariei-384?item=sedinta-extraordinara-a-consiliului-orasenesc-cimislia-18112019 http://cimislia.md/ro/page/primaria/noutatile-primariei-384?item=in-data-de-18-septembrie-2019-se-convoaca-sedinta-extraordinara-a-consiliului-orasenesc-cimislia http://cimislia.md/ro/page/primaria/noutatile-primariei-384?item=sedinta-ordinara-a-consiliului-orasenesc-cimislia-20-august-2019-ora-0900 http://cimislia.md/ro/page/primaria/noutatile-primariei-384?item=in-data-de-05-iulie-2019-ora-0900-primarul-gheorghe-raileanu-convoaca-sedinta-extraordinara-a-consiliului-orasenesc-cimislia http://cimislia.md/ro/page/primaria/noutatile-primariei-384?item=se-convoaca-consiliul-orasenesc-cimislia-in-sedinta-ordinara-23052019-ora-1400 http://cimislia.md/ro/page/primaria/noutatile-primariei-384?item=sedinta-ordinara-a-cosiliului-orasenesc-cimislia-22032019 http://cimislia.md/ro/page/primaria/noutatile-primariei-384?item=sedinta-ordinara-a-consiliului-orasenesc-cimislia-18012019 http://cimislia.md/ro/page/primaria/noutatile-primariei-384?item=se-anunta-sedinta-consiliului-orasenesc-cimislia-5476&fbclid=IwAR1BbSqHNrL7HGJHHOUlCq4gZP9aNfXJJ-UjQRp8MPTBzzNNirfHCKWlQq4 http://cimislia.md/ro/page/primaria/noutatile-primariei-384?item=sedinta-de-inaugurare-a-consiliului-orasenesc-cimislia-12-noiembrie | CC6: da | CD6: http://riscani.com/ro/page/consiliul-local/consiliul-local-2015-2019/sedintele-consiliului/ordinea-de-zi | CE6: da | CF6: http://primaria-rezina.md/dispozitiile-primarului/ | CG6: nu | CH6: nu sînt informații pe web | CI6: 30-60% | CJ6: https://www.congaz.md/ekstrennoe-zasedanie-kongazskogo-selskogo-soveta-sostoitsya-27-noyabrya/ https://www.congaz.md/ocherednoe-zasedanie-selskogo-soveta-sostoitsya-4-sentyabrya/ https://www.congaz.md/povestka-dnya-zasedaniya-kongazskogo-selskogo-soveta-15-07-2019/ https://www.congaz.md/zasedanie-kongaszkogo-selskogo-soveta-sostoitsya-25-marta-v-povestke-23-voprosa/ | CK6: nu | CL6: nu sînt informații pe web | CM6: 30-60% | CN6: http://primaria-glodeni.md/ro/page/consilieri-locali-si-domeniile-de-responsabilitate-216/sedintele-consiliului/ordinea-de-zi http://primaria-glodeni.md/ro/page/primaria/activitatea-curenta/noutatile-primariei?item=sedinta-ordinara-a-consiliului-orasenesc-glodeni-din-28062019 | CO6: 30-60% | CP6: http://costesti.md/2019/01/19/se-anunta-prima-sedinta-extraordinara-a-consiliului-local-costesti-din-acest-an-2/ http://costesti.md/2019/04/18/se-anunta-sedinta-ordinara-a-consiliului-local-costesti-4/ http://costesti.md/2019/08/13/se-anunta-sedinta-ordinara-a-consiliului-local-costesti-5/ http://costesti.md/2019/09/17/se-anunta-sedinta-extraordinara-a-consiliului-local-costesti-5/ | CQ6: nu | CR6: nu sînt informații pe web | CS6: nu | CT6: Pagina web nefuncțională (ultima verificare 31.05.2020) | CU6: 30-60% | CV6: http://www.carpineni.md/wp-content/uploads/2019/11/Dispozi-ie-4-Cu-privire-la-convocarea-consiliului.pdf http://www.carpineni.md/wp-content/uploads/2019/11/Dispozi-ie-59-Cu-privire-la-convocarea-consiliului.pdf http://www.carpineni.md/wp-content/uploads/2019/03/Dispozi-ie-consiliu.pdf http://www.carpineni.md/dispozitie-cu-privire-la-sedinta-consiliului-local-carpineni/ http://www.carpineni.md/wp-content/uploads/2019/12/Dispozi-ie-172-cu-privire-la-convocarea-consiliului.pdf | CW6: nu | CX6: nu sînt informații pe web | CY6: 30-60% | CZ6: http://www.copceac.md/2019/12/03/rasporyazheniem-primara-ocherednoe-zasedanie-mestnogo-soveta-sozyvaetsya-6-dekabrya-v-1400-ch/ http://www.copceac.md/2019/11/15/pervoe-uchreditelnoe-zasedanie-mestnogo-soveta-naznacheno-na-18-noyabrya-v-1500-ch/ http://www.copceac.md/2019/04/09/rasporyazheniem-primara-ot-5-aprelya-2019-goda-vneocherednoe-zasedanie-mestnogo-soveta-sozyvaetsya-12-aprelya-v-1500-ch-so-sleduyushhej-povestkoj-dnya/ http://www.copceac.md/2019/02/04/rasporyazheniem-primara-zasedanie-mestnogo-soveta-sozyvaetsya-8-fevralya-v-1500/ | DA6: 30-60% | DB6: http://primariaocnita.md/dispozitii-2019/ | DC6: 60-90% | DD6: https://anenii-noi.com/index.php/cu-privire-la-convocarea-sedintei-ordinare-a-consiliului-orasenesc/ https://anenii-noi.com/index.php/dispozitie-nr-48-din-24-mai-2019-cu-privire-la-convocarea-sedintei-a-consiliului-orasenesc/ https://anenii-noi.com/wp-content/uploads/2019/06/1.pdf https://anenii-noi.com/index.php/dispozitia-primarului-cu-privire-la-convocarea-sedintei-extraordinare-a-consiliului-orasenesc/ https://anenii-noi.com/index.php/dispozitia-primarului-cu-privire-la-convocarea-sedintei-extraordinare-a-consiliului-orasenesc-4/ https://anenii-noi.com/index.php/cu-privire-la-convocarea-sedintei-extraordinare-a-consiliului-orasenesc-4/ https://anenii-noi.com/index.php/cu-privire-la-convocarea-sedintei-extraordinare-a-consiliului-orasenesc-5/ https://anenii-noi.com/wp-content/uploads/2019/11/1.pdf https://anenii-noi.com/index.php/cu-privire-la-convocarea-sedintei-extraordinare-a-consiliului-orasenesc-6/ | DE6: nu | DF6: nu este pagina web (ultima verificare 31.05.2020) | DG6: 30-60% | DH6: http://www.primariacricova.md/ro/dispozitii.html http://www.primariacricova.md/images/u/12/files/2019/09/DISPOZITIA%20CONVOCARE%20SEDINTA%20EXTRAORDINARA.pdf | DI6: nu | DJ6: nu sînt informații pe web | DK6: 0-10% | DL6: http://www.primariastefanvoda.md/?pag=news&opa=view&id=230&tip=anunt&start=&l= | DM6: nu | DN6: nu sînt informații pe web | DO6: nu | DP6: site nefuncțional (ultima verificare 31.05.2020) | DQ6: nu | DR6: Nu are pagină web (ultima verificare 31.05.2020) | DS6: nu | DT6: nu sînt informații pe web | DU6: nu | DV6: Nu are pagină web (ultima verificare 31.05.2020) | DW6: 60-90% | DX6: http://truseni.md/index.php/ro/sobraniya-soveta | DY6: nu | DZ6: nu sînt informații pe web | EA6: nu | EB6: nu sînt informații pe web | EC6: nu | ED6: Nu are pagină web (ultima verificare 31.05.2020) | EE6: 30-60% | EF6: http://talmaza.md/index.php?pag=news&id=1197&rid=542&l=ro http://talmaza.md/index.php?pag=news&id=1197&rid=469&l=ro http://talmaza.md/index.php?pag=news&id=1197&rid=437&l=ro http://talmaza.md/index.php?pag=news&id=1180&rid=551&l=ro http://talmaza.md/index.php?pag=news&id=1180&rid=554&l=ro | EG6: 10-30% | EH6: https://budesti.md/dispozitii/1660-dispoziie-nr-72-d-din-07062019.html https://budesti.md/dispozitii/1556-dispoziie-nr-25-d-din-22022019.html | EI6: 60-90% | EJ6: http://varnita.md/category/avize/page/2 http://varnita.md/dispozitie-cu-privire-la-convocarea-sedintei-ordinare-consiliului-satesc | EK6: 0-10% | EL6: http://larga.md/ro/469-%C8%99edin%C8%9Ba-a-1-a-a-noului-consiliu-format.html | EM6: da | EN6: http://www.primariatelenesti.md/articole/anunturi/ | EO6: 60-90% | EP6: https://magdacesti.md/2019/03/22/anunt-29-martie-2019-convocarea-sedintei-consiliului-satesc-magdacesti/ https://magdacesti.md/2019/07/10/16-iulie-2019-sedinta-ordinara-a-consiliului-satesc/ https://magdacesti.md/2019/09/04/10-septembrie-2019-sedinta-ordinara-a-consiliului-satesc/ https://magdacesti.md/2019/12/13/anunt-4/ | EQ6: nu | ER6: pagina web nefuncțională (ultima verificare la 2.06.2020) | ES6: nu | ET6: pagina web nefuncțională (ultima verificare la 2.06.2020) | EU6: nu | EV6: pagina web nefuncțională (ultima verificare la 2.06.2020) | EW6: 0-10% | EX6: http://zaim.md/ro/page/transparenta/finantele-publice-locale/cheltuielile-pentru-institutii-subordonate http://zaim.md/upload/actelocale/D.%20nr.3-a,2019.PDF | EY6: nu | EZ6: nu sînt informații pe web
A7: Q6 | B7: C20006 | C7: 7 | D7: Proiectele de decizii/dispoziţii şi materialele aferente acestora din anul 2019 au fost aduse la cunoștința publicului pînă la şedinţa autorităţii publice (cel puţin 3 zile lucrătoare înainte de data desfăşurării şedinţei)? | E7: Were the draft decisions/ provisions and relevant materials in 2019 of public hearings announced before the public authority's meeting (at least 3 working days before the date of the meeting)? | F7: acc | G7: acc6 | H7: acc6k | I7: 2 | J7: da | K7: yes | L7: nu | M7: no | N7: partial/panou informativ | O7: partially/bliboard | P7: 0-10% | Q7: 0-10% | R7: 10-30% | S7: 10-30% | T7: 30-60% | U7: 30-60% | V7: 60-90% | W7: 60-90% | X7: N/A | Y7: N/A | Z7: -------- | AA7: -------- | AB7: 2 | AC7: 0 | AD7: =AB7/2 -> 1 | AE7: =$AB7*(1/5) -> 0.4 | AF7: =$AB7*(2/5) -> 0.8 | AG7: =$AB7*(3/5) -> 1.2 | AH7: =$AB7*(4/5) -> 1.6 | AI7: N/A | AK7: 30-60% | AL7: https://www.chisinau.md/lib.php?l=ro&idc=616&t=/Consiliul/Activitatea-Consiliului/Proiecte-de-decizii/&year=2019 | AM7: da | AN7: http://balti.md/consiliul/sedinte/ | AO7: da | AP7: http://primariacahul.md/index.php/consiliul-orasenesc/proiecte-de-decizii | AQ7: nu | AR7: nu sînt informații pe web | AS7: da | AT7: http://www.primsoroca.md/ro/proiecte-de-decizii?ArticleFileSearch%5BYear%5D=2019&ArticleFileSearch%5BMonth%5D=&ArticleFileSearch%5BDay%5D=&page=1&per-page=10 | AU7: da | AV7: https://www.orhei.md/index.php?pag=news&id=762&l=ro | AW7: nu | AX7: nu sînt informații pe web | AY7: nu | AZ7: nu sînt informații pe web | BA7: 0-10% | BB7: https://primariadrochia.md/category/proiecte-de-decizii/ | BC7: da | BD7: http://www.durlesti.md/ro/proiecte-de-decizii.html | BE7: partial/panou informativ | BF7: https://primaria.causeni.org/consultare-publica/ | BG7: nu | BH7: nu sînt informații pe web | BI7: nu | BJ7: nu sînt informații pe web | BK7: nu | BL7: nu sînt informații pe web | BM7: partial/panou informativ | BN7: http://calarasi-primaria.md/2019/11/29/convocare-sedinta-ordinara-a-consiliului-orasenesc-calarasi-06-decembrie-2019/ | BO7: nu | BP7: nu sînt informații pe web | BQ7: 0-10% | BR7: http://primariafloresti.md/proiecte-de-decizii/ | BS7: nu | BT7: nu sînt informații pe web | BU7: da | BV7: https://falesti.md/index.php/proiecte-de-decizii.html | BW7: da | BX7: http://primariasingerei.md/ro/page/consiliul-local/consilieri-si-programul-de-audienta/arhiva-deciziilor-consiliului-local?year=2019&month=1 | BY7: nu | BZ7: nu sînt informații pe web | CA7: da | CB7: http://cimislia.md/ro/page/consiliul-local/consiliul-local-214/sedintele-consiliului/proiecte-de-decizii | CC7: nu | CD7: nu sînt informații pe web | CE7: nu | CF7: nu sînt informații pe web | CG7: nu | CH7: nu sînt informații pe web | CI7: nu | CJ7: nu sînt informații pe web | CK7: nu | CL7: nu sînt informații pe web | CM7: 60-90% | CN7: http://primaria-glodeni.md/ro/page/transparenta/proiecte-de-decizii-propuse-spre-consultare-cu-publicul-si-materialele-aferente | CO7: nu | CP7: nu sînt informații pe web | CQ7: partial/panou informativ | CR7: Conform răspunsului din chestionar | CS7: nu | CT7: Pagina web nefuncțională (ultima verificare 31.05.2020) | CU7: 30-60% | CV7: http://www.carpineni.md/articole/proiecte-de-documente/ | CW7: nu | CX7: nu sînt informații pe web | CY7: nu | CZ7: nu sînt informații pe web | DA7: 0-10% | DB7: Conform răspunsului din chestionar | DC7: partial/panou informativ | DD7: https://anenii-noi.com/index.php/2019/03/ | DE7: nu | DF7: nu este pagina web (ultima verificare 31.05.2020) | DG7: nu | DH7: nu sînt informații pe web | DI7: nu | DJ7: nu sînt informații pe web | DK7: 0-10% | DL7: http://www.primariastefanvoda.md/index.php?pag=proiecte&l=&start=40 | DM7: nu | DN7: nu sînt informații pe web | DO7: nu | DP7: site nefuncțional (ultima verificare 31.05.2020) | DQ7: nu | DR7: Nu are pagină web (ultima verificare 31.05.2020) | DS7: nu | DT7: nu sînt informații pe web | DU7: nu | DV7: Nu are pagină web (ultima verificare 31.05.2020) | DW7: 30-60% | DX7: http://truseni.md/index.php/ro/proiecte-de-decizii | DY7: nu | DZ7: nu sînt informații pe web | EA7: 0-10% | EB7: http://peresecina.md/proiecte-de-decizii/ | EC7: nu | ED7: Nu are pagină web (ultima verificare 31.05.2020) | EE7: nu | EF7: nu sînt informații pe web | EG7: 0-10% | EH7: https://www.budesti.md/proiecteacte/ | EI7: 60-90% | EJ7: http://varnita.md/category/trasparenta-decizionala http://varnita.md/category/avize http://varnita.md/anunt-5 http://varnita.md/category/avize/page/4 | EK7: nu | EL7: nu sînt informații pe web | EM7: 10-30% | EN7: http://www.primariatelenesti.md/articole/proiecte-de-documente/ | EO7: 60-90% | EP7: https://magdacesti.md/consiliul-local/transparenta-decizionala/proiecte-de-decizii/ | EQ7: nu | ER7: pagina web nefuncțională (ultima verificare la 2.06.2020) | ES7: nu | ET7: pagina web nefuncțională (ultima verificare la 2.06.2020) | EU7: nu | EV7: pagina web nefuncțională (ultima verificare la 2.06.2020) | EW7: 0-10% | EX7: http://zaim.md/ro/page/transparenta/consultari-publice/proiecte-de-decizii-propuse-spre-consultare-cu-publicul-si-materialele-aferente | EY7: nu | EZ7: nu sînt informații pe web
A8: Q7 | B8: C20007 | C8: 8 | D8: Există un instrument online care permite publicului să depună și să urmărească reclamațiile/cererile lor ? | E8: Is there any online tool that allows the public to follow its requests and complaints? | F8: acc | G8: acc7 | H8: acc7k | I8: 1 | J8: da | K8: yes | L8: nu | M8: no | N8: partial | O8: partially | P8: -------- | Q8: -------- | R8: -------- | S8: -------- | T8: -------- | U8: -------- | V8: -------- | W8: -------- | X8: N/A | Y8: N/A | Z8: -------- | AA8: -------- | AB8: 1 | AC8: 0 | AD8: =AB8/2 -> 0.5 | AI8: N/A | AK8: partial | AL8: https://www.chisinau.md/slidefeed.php?l=ro&idc=424&t=/Petitii/ | AM8: partial | AN8: http://balti.md/relatii-cu-publicul/petitii-si-audienta-cetatenilor/contact/ | AO8: partial | AP8: http://primariacahul.md/index.php/2015-07-28-12-11-02 | AQ8: partial | AR8: http://ungheni.md/ | AS8: partial | AT8: http://www.primsoroca.md/ro/contacte | AU8: partial | AV8: https://www.orhei.md/index.php?pag=feedback&id=561&l=ro | AW8: partial | AX8: https://ceadir-lunga.md/webportal/?q=node/34 https://ceadir-lunga.md/webportal/?q=node/34/webform-results | AY8: nu | AZ8: nu sînt informații pe web | BA8: partial | BB8: https://primariadrochia.md/scrie-primarului/ | BC8: nu | BD8: nu sînt informații pe web | BE8: nu | BF8: nu sînt informații pe web | BG8: partial | BH8: http://primariaedinet.md/?page_id=296 | BI8: partial | BJ8: https://primariahincesti.md/ | BK8: partial | BL8: https://www.vulcanestimd.com/contact | BM8: partial | BN8: http://calarasi-primaria.md/ | BO8: partial | BP8: http://ialoveni.md/write-to-mayor/ | BQ8: partial | BR8: http://primariafloresti.md/ | BS8: partial | BT8: http://taraclia.md/ro/page/contacte | BU8: nu | BV8: nu sînt informații pe web | BW8: nu | BX8: nu sînt informații pe web | BY8: nu | BZ8: nu sînt informații pe web | CA8: partial | CB8: http://cimislia.md/ro/page/cetateni-si-business/audierea-cetatenilor/depune-o-plangere | CC8: partial | CD8: http://riscani.com/ro/page/contacte http://riscani.com/ro/page/transparenta/dialogul-cu-cetatenii/adreseaza-o-intrebare-primarului | CE8: nu | CF8: nu sînt informații pe web | CG8: partial | CH8: http://www.primariabessarabka.md/ru/page/grazhdan-i-bizns/prim-grazhdan/zargistriruytsy-onlayn-na-prim http://www.primariabessarabka.md/ru/page/prozrachnosty/dialog-s-grazhdanami/zadayt-vopros-primaru | CI8: partial | CJ8: https://www.congaz.md/napisat-v-meriyu/ | CK8: nu | CL8: nu sînt informații pe web | CM8: partial | CN8: http://primaria-glodeni.md/ro/page/cetateni-si-business/audierea-cetatenilor/depune-o-plangere | CO8: nu | CP8: nu sînt informații pe web | CQ8: nu | CR8: nu sînt informații pe web | CS8: nu | CT8: Pagina web nefuncțională (ultima verificare 31.05.2020) | CU8: partial | CV8: http://www.carpineni.md/scrieti-adresa-primariei/ | CW8: nu | CX8: nu sînt informații pe web | CY8: partial | CZ8: http://webportal.copceac.md/?q=dialog | DA8: nu | DB8: nu sînt informații pe web | DC8: partial | DD8: https://anenii-noi.com/index.php/primaria/scrie-primarului/ | DE8: nu | DF8: nu este pagina web (ultima verificare 31.05.2020) | DG8: partial | DH8: http://www.primariacricova.md/ro/intrebari-pentru-primar.html | DI8: nu | DJ8: nu sînt informații pe web | DK8: partial | DL8: http://www.primariastefanvoda.md/index.php?pag=petitie&l= | DM8: nu | DN8: nu sînt informații pe web | DO8: nu | DP8: site nefuncțional (ultima verificare 31.05.2020) | DQ8: nu | DR8: Nu are pagină web (ultima verificare 31.05.2020) | DS8: nu | DT8: nu sînt informații pe web | DU8: nu | DV8: Nu are pagină web (ultima verificare 31.05.2020) | DW8: nu | DX8: nu sînt informații pe web | DY8: nu | DZ8: nu sînt informații pe web | EA8: nu | EB8: nu sînt informații pe web | EC8: nu | ED8: Nu are pagină web (ultima verificare 31.05.2020) | EE8: partial | EF8: http://talmaza.md/index.php?pag=feedback&id=896&l=ro | EG8: nu | EH8: nu sînt informații pe web | EI8: nu | EJ8: nu sînt informații pe web | EK8: partial | EL8: http://larga.md/ro/prim-ria/contacte.html | EM8: partial | EN8: http://www.primariatelenesti.md/scrieti-adresa-primariei/ | EO8: nu | EP8: nu sînt informații pe web | EQ8: nu | ER8: pagina web nefuncțională (ultima verificare la 2.06.2020) | ES8: nu | ET8: pagina web nefuncțională (ultima verificare la 2.06.2020) | EU8: nu | EV8: pagina web nefuncțională (ultima verificare la 2.06.2020) | EW8: partial | EX8: http://zaim.md/ro/page/cetateni-si-business/audierea-cetatenilor/depune-o-plangere | EY8: partial | EZ8: https://comrat.md/index.php?do=feedback
