Workbook

Sheet Monitoring_new
A1: questionID | B1: question | C1: question_eng | D1: Category | E1: Code issues | F1: Code comment | G1: max points | H1: ans1 | I1: ans1en | J1: ans2 | K1: ans2en | L1: ans3 | M1: ans3en | N1: ans4 | O1: ans4en | P1: ans5 | Q1: ans5en | R1: pts1 | S1: pts2 | T1: pts3 | U1: pts4 | V1: pts5 | W1: S.A. Tutun-CTC | X1: S.A. Tutun-CTC_comment | Y1: S.A Franzeluta | Z1: S.A Franzeluta_comment | AA1: S.A.Termoelectrica | AB1: S.A.Termoelectrica_comment | AC1: S.A. Moldetelecom | AD1: S.A. Moldetelecom_comment | AE1: I.S. Moldsuinhibrid | AF1: I.S. Moldsuinhibrid_comment | AG1: I.S. Mecagro | AH1: I.S. Mecagro_comment | AI1: I.S. Indal Proiect | AJ1: I.S. Indal Proiect_comment | AK1: I.S.CRA Reproducţia Animalelor | AL1: I.S.CRA Reproducţia Animalelor_comment | AM1: I.S. Calea Ferata | AN1: I.S. Calea Ferata_comment | AO1: I.S. Administratia de stat a drumurilor | AP1: I.S. Administratia de stat a drumurilor_comment | AQ1: I.S. Moldatsa | AR1: I.S. Moldatsa_comment | AS1: I.S. Stațiunea DE Criuleni | AT1: I.S. Stațiunea DE Criuleni_comment | AU1: I.S. Moldelectrica | AV1: I.S. Moldelectrica_comment | AW1: I.S. Centrul de elaborări economice şi producţie | AX1: I.S. Centrul de elaborări economice şi producţie_comment | AY1: I.S. VivaFlora | AZ1: I.S. VivaFlora_comment | BA1: I.S. Servicii Paza | BB1: I.S. Servicii Paza_comment | BC1: I.S. Staţia de Stat pentru Încercarea Maşinilor | BD1: I.S. Staţia de Stat pentru Încercarea Maşinilor_comment | BE1: I.S Dumbrava Vest | BF1: I.S Dumbrava Vest _comment | BG1: S.A. Drumuri Cahul | BH1: S.A. Drumuri Cahul_comment | BI1: S.A Metalferos | BJ1: S.A Metalferos_comment | BK1: S.A. „Furnizarea Energiei Electrice Nord” | BL1: S.A. „Furnizarea Energiei Electrice Nord”_comment | BM1: I.S. Posta Moldovei | BN1: I.S. Posta Moldovei_comment | BO1: S.A. Moldovagaz | BP1: S.A. Moldovagaz_comment | BQ1: S.A Energocom | BR1: S.A Energocom_comment | BS1: I.S. Garile si statiile auto | BT1: I.S. Garile si statiile auto_comment | BU1: I.S. Moldaeroservice | BV1: I.S. Moldaeroservice_comment | BW1: S.A. Gara de nord | BX1: S.A. Gara de nord_comment | BY1: I.S. Combinatul Republican de Instruire Auto | BZ1: I.S. Combinatul Republican de Instruire Auto_comment | CA1: S.A. Drumuri Ialoveni | CB1: S.A. Drumuri Ialoveni_comment | CC1: Dir. Corp Diplomatic | CD1: Dir. Corp Diplomatic_comment | CE1: I.S Manejul de Atletică Ușoară | CF1: I.S Manejul de Atletică Ușoară_comment | CG1: I.S. Combinatul Polligrafic | CH1: I.S. Combinatul Polligrafic_comment | CI1: ÎS DETAȘAMENTUL DE PAZĂ PARAMILITARĂ | CJ1: ÎS DETAȘAMENTUL DE PAZĂ PARAMILITARĂ_comment | CK1: I.S. Palatul Republicii | CL1: I.S. Palatul Republicii_comment | CM1: ÎS TIPOGRAFIA ACADEMIEI DE ȘTIINȚE | CN1: ÎS TIPOGRAFIA ACADEMIEI DE ȘTIINȚE_comment | CO1: I.S CMAC | CP1: I.S CMAC_comment | CQ1: SA SANFAR-PRIM | CR1: SA SANFAR-PRIM_comment | CS1: ÎS EDITURA ȘTIINȚA | CT1: ÎS EDITURA ȘTIINȚA_comment | CU1: SA CIE MOLDEXPO | CV1: SA CIE MOLDEXPO_comment | CW1: SA TRACOM | CX1: SA TRACOM_comment | CY1: ÎS MILEȘTII MICI | CZ1: ÎS MILEȘTII MICI_comment | DA1: ÎS NISTRU - CENTRU | DB1: ÎS NISTRU - CENTRU_comment | DC1: ÎS PORTUL FLUVIAL UNGHENI | DD1: ÎS PORTUL FLUVIAL UNGHENI_comment | DE1: ÎS INGEOCAD | DF1: ÎS INGEOCAD_comment | DG1: ÎS CONFERCAI | DH1: ÎS CONFERCAI_comment | DI1: ÎS URBANPROIECT | DJ1: ÎS URBANPROIECT_comment | DK1: ÎS RURALPROIECT | DL1: ÎS RURALPROIECT_comment | DM1: ÎS TIPOGRAFIA CENTRALĂ | DN1: ÎS TIPOGRAFIA CENTRALĂ_comment | DO1: ÎS MOLD-DIDACTICA | DP1: ÎS MOLD-DIDACTICA_comment | DQ1: ÎS DIRECȚIA PENTRU EXPLOATAREA IMOBILULUI | DR1: ÎS DIRECȚIA PENTRU EXPLOATAREA IMOBILULUI_comment | DS1: SA CARTUȘ | DT1: SA CARTUȘ_comment | DU1: ZAL EXPO BUSINESS CHIȘINĂU | DV1: ZAL EXPO BUSINESS CHIȘINĂU_comment | DW1: ÎS RADIOCOMUNICAȚII | DX1: ÎS RADIOCOMUNICAȚII_comment | DY1: ÎM APĂ CANAL BĂLȚI | DZ1: ÎM APĂ CANAL BĂLȚI_comment | EA1: ÎM APĂ CANAL STRĂȘENI | EB1: ÎM APĂ CANAL STRĂȘENI_comment | EC1: SA APĂ CANAL SOROCA | ED1: SA APĂ CANAL SOROCA_comment | EE1: SA APĂ CANAL CAHUL | EF1: SA APĂ CANAL CAHUL_comment | EG1: SA APĂ CANAL CHIȘINĂU | EH1: SA APĂ CANAL CHIȘINĂU_comment | EI1: Î.M. "EXDRUPO" | EJ1: Î.M. "EXDRUPO"_comment | EK1: Î.M. Direcţia Construcţii Capitale | EL1: Î.M. Direcţia Construcţii Capitale_comment | EM1: Î.M. Reţelele Electrice de Iluminat LUMTEH | EN1: Î.M. Reţelele Electrice de Iluminat LUMTEH_comment | EO1: Î.M. "Piaţa Centrală" | EP1: Î.M. "Piaţa Centrală"_comment | EQ1: Î.M. Regia Autosalubritate | ER1: Î.M. Regia Autosalubritate_comment | ES1: Î.M. "Asociaţia de gospodărire a spaţiilor verzi" | ET1: Î.M. "Asociaţia de gospodărire a spaţiilor verzi"_comment | EU1: Î.M. "LIFTSERVICE" | EV1: Î.M. "LIFTSERVICE"_comment | EW1: Î.M. "Parcul urban de autobuze" | EX1: Î.M. "Parcul urban de autobuze"_comment | EY1: Î.M. "Regia Transport Electric Chişinău" | EZ1: Î.M. "Regia Transport Electric Chişinău"_comment | FB1: I.S. MoldData | FC1: I.S. MoldData_comment | FD1: CS Omologarea FITO | FE1: CS Omologarea FITO_comment | FF1: I.S. CP Armata Nationala | FG1: I.S. CP Armata Nationala_comment
A2: Q1 | B2: Este publicat pe web raportul anual al întreprinderii pentru anul 2019 ? | C2: =VLOOKUP(A2,Quest_eng_2018!A:C,3,FALSE) -> Is the enterprise 2019 Annual Report published on the Web page? | D2: Economic Indicators | E2: iec1 | F2: iec1k | G2: 4 | H2: da | I2: yes | J2: nu | K2: no | L2: partial | M2: partially | N2: N/A | O2: N/A | P2: ___ | Q2: ___ | R2: 4 | S2: 0 | T2: =R2/2 -> 2 | U2: N/A | V2: ___ | W2: nu | X2: Pagina web nefuncțională ( 13 aprilie 2020) | Y2: nu | Z2: Nu sînt informații pe web (ultima dată verificat la 13.04.2020) | AA2: partial | AB2: https://www.termoelectrica.md/wp-content/uploads/2016/04/doc01498620190823134712-1.pdf | AC2: partial | AD2: https://moldtelecom.md/ro/personal/Rapoarte | AE2: nu | AF2: Nu sînt informații pe web (ultima dată verificat la 13.04.2020) | AG2: nu | AH2: Nu sînt informații pe web (ultima dată verificat la 13.04.2020) | AI2: nu | AJ2: Nu sînt informații (ultima dată verificat la 13.04.2020) | AK2: nu | AL2: Nu sînt informații (ultima dată verificat la 13.04.2020) | AM2: nu | AN2: Nu sînt informații (ultima dată verificat la 13.04.2020) | AO2: nu | AP2: Nu sînt informații (ultima dată verificat la 13.04.2020) | AQ2: nu | AR2: Nu sînt informații (ultima dată verificat la 13.04.2020) | AS2: nu | AT2: Nu sînt informații (ultima dată verificat la 13.04.2020) | AU2: nu | AV2: Nu sînt informații (ultima dată verificat la 13.04.2020) | AW2: nu | AX2: Nu sînt informații (ultima dată verificat la 13.04.2020) | AY2: nu | AZ2: Nu sînt informații (ultima dată verificat la 13.04.2020) | BA2: nu | BB2: Nu sînt informații (ultima dată verificat la 13.04.2020) | BC2: nu | BD2: Nu sînt informații (ultima dată verificat la 13.04.2020) | BE2: nu | BF2: Nu sînt informații (ultima dată verificat la 13.04.2020) | BG2: nu | BH2: Nu sînt informații (ultima dată verificat la 13.04.2020) | BI2: nu | BJ2: Nu sînt informații (ultima dată verificat la 13.04.2020) | BK2: nu | BL2: Nu sînt informații (ultima dată verificat la 13.04.2020) | BM2: nu | BN2: Nu sînt informații (ultima dată verificat la 13.04.2020) | BO2: nu | BP2: Nu sînt informații (ultima dată verificat la 13.04.2020) | BQ2: partial | BR2: http://www.energocom.md/about-us/transparenta/174-rap-trms-priv-org-apr-iun-2 | BS2: nu | BT2: Nu sînt informații (ultima dată verificat la 13.04.2020) | BU2: nu | BV2: Nu sînt informații (ultima dată verificat la 13.04.2020) | BW2: nu | BX2: Nu sînt informații (ultima dată verificat la 13.04.2020) | BY2: nu | BZ2: Nu sînt informații (ultima dată verificat la 13.04.2020) | CA2: nu | CB2: Nu sînt informații (ultima dată verificat la 13.04.2020) | CC2: nu | CD2: Nu sînt informații (ultima dată verificat la 13.04.2020) | CE2: nu | CF2: Nu sînt informații (ultima dată verificat la 13.04.2020) | CG2: nu | CH2: Nu sînt informații (ultima dată verificat la 13.04.2020) | CI2: nu | CJ2: Nu sînt informații (ultima dată verificat la 13.04.2020) | CK2: nu | CL2: Nu sînt informații (ultima dată verificat la 13.04.2020) | CM2: nu | CN2: Nu sînt informații (ultima dată verificat la 13.04.2020) | CO2: nu | CP2: Nu sînt informații (ultima dată verificat la 13.04.2020) | CQ2: nu | CR2: Nu sînt informații (ultima dată verificat la 13.04.2020) | CS2: nu | CT2: Nu sînt informații (ultima dată verificat la 13.04.2020) | CU2: nu | CV2: Nu sînt informații (ultima dată verificat la 13.04.2020) | CW2: nu | CX2: Nu sînt informații (ultima dată verificat la 13.04.2020) | CY2: nu | CZ2: Nu sînt informații (ultima dată verificat la 13.04.2020) | DA2: nu | DB2: Nu sînt informații (ultima dată verificat la 13.04.2020) | DC2: nu | DD2: Nu sînt informații (ultima dată verificat la 13.04.2020) | DE2: nu | DF2: Nu sînt informații (ultima dată verificat la 13.04.2020) | DG2: nu | DH2: Nu sînt informații (ultima dată verificat la 13.04.2020) | DI2: nu | DJ2: Nu sînt informații (ultima dată verificat la 13.04.2020) | DK2: nu | DL2: Nu sînt informații (ultima dată verificat la 13.04.2020) | DM2: nu | DN2: Nu sînt informații (ultima dată verificat la 13.04.2020) | DO2: nu | DP2: Nu sînt informații (ultima dată verificat la 13.04.2020) | DQ2: nu | DR2: Nu sînt informații (ultima dată verificat la 13.04.2020) | DS2: nu | DT2: Nu sînt informații (ultima dată verificat la 13.04.2020) | DU2: nu | DV2: Nu sînt informații (ultima dată verificat la 13.04.2020) | DW2: nu | DX2: Nu sînt informații (ultima dată verificat la 13.04.2020) | DY2: nu | DZ2: Nu sînt informații (ultima dată verificat la 13.04.2020) | EA2: nu | EB2: Nu sînt informații (ultima dată verificat la 13.04.2020) | EC2: nu | ED2: Nu sînt informații (ultima dată verificat la 13.04.2020) | EE2: nu | EF2: Nu sînt informații (ultima dată verificat la 13.04.2020) | EG2: nu | EH2: Nu sînt informații (ultima dată verificat la 13.04.2020) | EI2: nu | EJ2: Nu sînt informații (ultima dată verificat la 13.04.2020) | EK2: nu | EL2: Nu sînt informații (ultima dată verificat la 13.04.2020) | EM2: nu | EN2: Nu sînt informații (ultima dată verificat la 13.04.2020) | EO2: nu | EP2: Nu sînt informații (ultima dată verificat la 13.04.2020) | EQ2: nu | ER2: Nu sînt informații (ultima dată verificat la 13.04.2020) | ES2: nu | ET2: Nu sînt informații (ultima dată verificat la 13.04.2020) | EU2: nu | EV2: Nu sînt informații (ultima dată verificat la 13.04.2020) | EW2: nu | EX2: Nu sînt informații (ultima dată verificat la 13.04.2020) | EY2: nu | EZ2: Nu sînt informații (ultima dată verificat la 13.04.2020)
A3: Q2 | B3: Sînt disponibile pe pagina web rapoartele anuale al întreprinderii pentru cel puțin ultimii trei ani (2017 - 2019) ? | C3: =VLOOKUP(A3,Quest_eng_2018!A:C,3,FALSE) -> Are the enterprise annual reports available on the Web page, at least for the last three years (2017 - 2019)? | D3: Economic Indicators | E3: iec2 | F3: iec2k | G3: 3 | H3: da | I3: yes | J3: nu | K3: no | L3: partial | M3: partially | N3: N/A | O3: N/A | P3: ___ | Q3: ___ | R3: 3 | S3: 0 | T3: =R3/2 -> 1.5 | U3: N/A | V3: ___ | W3: nu | X3: Pagina web nefuncțională ( 13 aprilie 2020) | Y3: partial | Z3: Nu sînt informații pe web (ultima dată verificat la 13.04.2020) | AA3: partial | AB3: https://www.termoelectrica.md/ro_RO/despre/rapoarte/ | AC3: partial | AD3: https://moldtelecom.md/ro/personal/Rapoarte | AE3: nu | AF3: Nu sînt informații pe web (ultima dată verificat la 13.04.2020) | AG3: nu | AH3: Nu sînt informații pe web (ultima dată verificat la 13.04.2020) | AI3: nu | AJ3: Nu sînt informații (ultima dată verificat la 13.04.2020) | AK3: nu | AL3: Nu sînt informații (ultima dată verificat la 13.04.2020) | AM3: nu | AN3: Nu sînt informații (ultima dată verificat la 13.04.2020) | AO3: partial | AP3: https://www.asd.md/page/rapoarte | AQ3: partial | AR3: https://moldatsa.md/about/documents | AS3: nu | AT3: Nu sînt informații (ultima dată verificat la 13.04.2020) | AU3: partial | AV3: http://www.moldelectrica.md/ro/finances/financial_reports | AW3: nu | AX3: Nu sînt informații (ultima dată verificat la 13.04.2020) | AY3: nu | AZ3: Nu sînt informații (ultima dată verificat la 13.04.2020) | BA3: nu | BB3: Nu sînt informații (ultima dată verificat la 13.04.2020) | BC3: nu | BD3: Nu sînt informații (ultima dată verificat la 13.04.2020) | BE3: nu | BF3: Nu sînt informații (ultima dată verificat la 13.04.2020) | BG3: nu | BH3: Nu sînt informații (ultima dată verificat la 13.04.2020) | BI3: partial | BJ3: https://emitent-msi.market.md/ro/#1 | BK3: nu | BL3: Nu sînt informații (ultima dată verificat la 13.04.2020) | BM3: nu | BN3: Nu sînt informații (ultima dată verificat la 13.04.2020) | BO3: partial | BP3: https://www.moldovagaz.md/rom/despre-companie/rapoarte-158 | BQ3: partial | BR3: http://www.energocom.md/about-us/transparenta | BS3: nu | BT3: Nu sînt informații (ultima dată verificat la 13.04.2020) | BU3: nu | BV3: Nu sînt informații (ultima dată verificat la 13.04.2020) | BW3: nu | BX3: Nu sînt informații (ultima dată verificat la 13.04.2020) | BY3: nu | BZ3: Nu sînt informații (ultima dată verificat la 13.04.2020) | CA3: nu | CB3: Nu sînt informații (ultima dată verificat la 13.04.2020) | CC3: nu | CD3: Nu sînt informații (ultima dată verificat la 13.04.2020) | CE3: nu | CF3: Nu sînt informații (ultima dată verificat la 13.04.2020) | CG3: nu | CH3: Nu sînt informații (ultima dată verificat la 13.04.2020) | CI3: nu | CJ3: Nu sînt informații (ultima dată verificat la 13.04.2020) | CK3: nu | CL3: Nu sînt informații (ultima dată verificat la 13.04.2020) | CM3: nu | CN3: Nu sînt informații (ultima dată verificat la 13.04.2020) | CO3: partial | CP3: https://e-cmac.md/rapoarte/ | CQ3: nu | CR3: Nu sînt informații (ultima dată verificat la 13.04.2020) | CS3: partial | CT3: http://editurastiinta.md/rapoarte | CU3: nu | CV3: Nu sînt informații (ultima dată verificat la 13.04.2020) | CW3: partial | CX3: https://tracom.md/infocenters/reports/ | CY3: nu | CZ3: Nu sînt informații (ultima dată verificat la 13.04.2020) | DA3: nu | DB3: Nu sînt informații (ultima dată verificat la 13.04.2020) | DC3: nu | DD3: Nu sînt informații (ultima dată verificat la 13.04.2020) | DE3: partial | DF3: https://www.ingeocad.md/ro/home/raport-anual-2 | DG3: nu | DH3: Nu sînt informații (ultima dată verificat la 13.04.2020) | DI3: nu | DJ3: Nu sînt informații (ultima dată verificat la 13.04.2020) | DK3: nu | DL3: Nu sînt informații (ultima dată verificat la 13.04.2020) | DM3: nu | DN3: Nu sînt informații (ultima dată verificat la 13.04.2020) | DO3: nu | DP3: Nu sînt informații (ultima dată verificat la 13.04.2020) | DQ3: nu | DR3: Nu sînt informații (ultima dată verificat la 13.04.2020) | DS3: nu | DT3: Nu sînt informații (ultima dată verificat la 13.04.2020) | DU3: nu | DV3: Nu sînt informații (ultima dată verificat la 13.04.2020) | DW3: partial | DX3: https://www.radiocom.md/rapoarte-1-38 | DY3: partial | DZ3: http://balti.md/servicii-publice/intreprinderi-municipale/lista-im/ | EA3: partial | EB3: http://www.straseni.md/raport-cu-privire-la-activitatea-i-m-apa-canal-straseni-pentru-anul-2017/ http://www.straseni.md/5829-2/ | EC3: nu | ED3: Nu sînt informații (ultima dată verificat la 13.04.2020) | EE3: nu | EF3: Nu sînt informații (ultima dată verificat la 13.04.2020) | EG3: partial | EH3: https://acc.md/rapoarte/ | EI3: nu | EJ3: Nu sînt informații (ultima dată verificat la 13.04.2020) | EK3: nu | EL3: Nu sînt informații (ultima dată verificat la 13.04.2020) | EM3: nu | EN3: Nu sînt informații (ultima dată verificat la 13.04.2020) | EO3: nu | EP3: Nu sînt informații (ultima dată verificat la 13.04.2020) | EQ3: nu | ER3: Nu sînt informații (ultima dată verificat la 13.04.2020) | ES3: nu | ET3: Nu sînt informații (ultima dată verificat la 13.04.2020) | EU3: nu | EV3: Nu sînt informații (ultima dată verificat la 13.04.2020) | EW3: partial | EX3: https://www.autourban.md/indicatori/raport_activitate.pdf | EY3: nu | EZ3: Nu sînt informații (ultima dată verificat la 13.04.2020)
A4: Q3 | B4: Este publicat pe web analiza indicatorilor economico-financiari și evaluarea rezultatelor economico-financiare ale întreprinderii prin prisma evoluţiei indicatorilor principali (profitul net, venitul din vînzări şi alţi indicatori ce ţin de condiţiile de activitate concrete ale întreprinderii respective) pentru anul 2019 ? | C4: =VLOOKUP(A4,Quest_eng_2018!A:C,3,FALSE) -> Are the analysis of economic and financial indicators and the evaluation of enterprise economic and financial outcomes in the light of the main indicators trends (net profit, sales revenue and other indicators related to enterprise specific activity conditions) published on the Web page, for the year 2019? | D4: Economic Indicators | E4: iec3 | F4: iec3k | G4: 4 | H4: da | I4: yes | J4: nu | K4: no | L4: partial | M4: partially | N4: N/A | O4: N/A | P4: ___ | Q4: ___ | R4: 4 | S4: 0 | T4: =R4/2 -> 2 | U4: N/A | V4: ___ | W4: nu | X4: Pagina web nefuncțională ( 13 aprilie 2020) | Y4: nu | Z4: Nu sînt informații pe web (ultima dată verificat la 13.04.2020) | AA4: partial | AB4: https://www.termoelectrica.md/wp-content/uploads/2016/04/doc01498620190823134712-1.pdf | AC4: partial | AD4: https://moldtelecom.md/ro/personal/Rapoarte | AE4: nu | AF4: Nu sînt informații pe web (ultima dată verificat la 13.04.2020) | AG4: nu | AH4: Nu sînt informații pe web (ultima dată verificat la 13.04.2020) | AI4: nu | AJ4: Nu sînt informații (ultima dată verificat la 13.04.2020) | AK4: nu | AL4: Nu sînt informații (ultima dată verificat la 13.04.2020) | AM4: nu | AN4: Nu sînt informații (ultima dată verificat la 13.04.2020) | AO4: nu | AP4: Nu sînt informații (ultima dată verificat la 13.04.2020) | AQ4: nu | AR4: Nu sînt informații (ultima dată verificat la 13.04.2020) | AS4: nu | AT4: Nu sînt informații (ultima dată verificat la 13.04.2020) | AU4: nu | AV4: Nu sînt informații (ultima dată verificat la 13.04.2020) | AW4: nu | AX4: Nu sînt informații (ultima dată verificat la 13.04.2020) | AY4: nu | AZ4: Nu sînt informații (ultima dată verificat la 13.04.2020) | BA4: nu | BB4: Nu sînt informații (ultima dată verificat la 13.04.2020) | BC4: nu | BD4: Nu sînt informații (ultima dată verificat la 13.04.2020) | BE4: nu | BF4: Nu sînt informații (ultima dată verificat la 13.04.2020) | BG4: nu | BH4: Nu sînt informații (ultima dată verificat la 13.04.2020) | BI4: partial | BJ4: https://www.metalferos.md/bilant-contabil-pentru-s1-a2019/ | BK4: nu | BL4: Nu sînt informații (ultima dată verificat la 13.04.2020) | BM4: nu | BN4: Nu sînt informații (ultima dată verificat la 13.04.2020) | BO4: nu | BP4: Nu sînt informații (ultima dată verificat la 13.04.2020) | BQ4: partial | BR4: http://www.energocom.md/about-us/transparenta/174-rap-trms-priv-org-apr-iun-2 | BS4: nu | BT4: Nu sînt informații (ultima dată verificat la 13.04.2020) | BU4: nu | BV4: Nu sînt informații (ultima dată verificat la 13.04.2020) | BW4: nu | BX4: Nu sînt informații (ultima dată verificat la 13.04.2020) | BY4: nu | BZ4: Nu sînt informații (ultima dată verificat la 13.04.2020) | CA4: nu | CB4: Nu sînt informații (ultima dată verificat la 13.04.2020) | CC4: nu | CD4: Nu sînt informații (ultima dată verificat la 13.04.2020) | CE4: da | CF4: http://manej.md/index.php?pag=news&id=1243&rid=63&l=ro | CG4: nu | CH4: Nu sînt informații (ultima dată verificat la 13.04.2020) | CI4: nu | CJ4: Nu sînt informații (ultima dată verificat la 13.04.2020) | CK4: nu | CL4: Nu sînt informații (ultima dată verificat la 13.04.2020) | CM4: nu | CN4: Nu sînt informații (ultima dată verificat la 13.04.2020) | CO4: nu | CP4: Nu sînt informații (ultima dată verificat la 13.04.2020) | CQ4: nu | CR4: Nu sînt informații (ultima dată verificat la 13.04.2020) | CS4: nu | CT4: Nu sînt informații (ultima dată verificat la 13.04.2020) | CU4: nu | CV4: Nu sînt informații (ultima dată verificat la 13.04.2020) | CW4: nu | CX4: Nu sînt informații (ultima dată verificat la 13.04.2020) | CY4: nu | CZ4: Nu sînt informații (ultima dată verificat la 13.04.2020) | DA4: nu | DB4: Nu sînt informații (ultima dată verificat la 13.04.2020) | DC4: nu | DD4: Nu sînt informații (ultima dată verificat la 13.04.2020) | DE4: nu | DF4: Nu sînt informații (ultima dată verificat la 13.04.2020) | DG4: nu | DH4: Nu sînt informații (ultima dată verificat la 13.04.2020) | DI4: nu | DJ4: Nu sînt informații (ultima dată verificat la 13.04.2020) | DK4: nu | DL4: Nu sînt informații (ultima dată verificat la 13.04.2020) | DM4: nu | DN4: Nu sînt informații (ultima dată verificat la 13.04.2020) | DO4: nu | DP4: Nu sînt informații (ultima dată verificat la 13.04.2020) | DQ4: nu | DR4: Nu sînt informații (ultima dată verificat la 13.04.2020) | DS4: nu | DT4: Nu sînt informații (ultima dată verificat la 13.04.2020) | DU4: nu | DV4: Nu sînt informații (ultima dată verificat la 13.04.2020) | DW4: nu | DX4: Nu sînt informații (ultima dată verificat la 13.04.2020) | DY4: nu | DZ4: Nu sînt informații (ultima dată verificat la 13.04.2020) | EA4: nu | EB4: Nu sînt informații (ultima dată verificat la 13.04.2020) | EC4: nu | ED4: Nu sînt informații (ultima dată verificat la 13.04.2020) | EE4: nu | EF4: Nu sînt informații (ultima dată verificat la 13.04.2020) | EG4: nu | EH4: Nu sînt informații (ultima dată verificat la 13.04.2020) | EI4: nu | EJ4: Nu sînt informații (ultima dată verificat la 13.04.2020) | EK4: nu | EL4: Nu sînt informații (ultima dată verificat la 13.04.2020) | EM4: nu | EN4: Nu sînt informații (ultima dată verificat la 13.04.2020) | EO4: nu | EP4: Nu sînt informații (ultima dată verificat la 13.04.2020) | EQ4: nu | ER4: Nu sînt informații (ultima dată verificat la 13.04.2020) | ES4: nu | ET4: Nu sînt informații (ultima dată verificat la 13.04.2020) | EU4: nu | EV4: Nu sînt informații (ultima dată verificat la 13.04.2020) | EW4: nu | EX4: Nu sînt informații (ultima dată verificat la 13.04.2020) | EY4: nu | EZ4: Nu sînt informații (ultima dată verificat la 13.04.2020)
A5: Q4 | B5: Este publicat pe web analiza indicatorilor economico-financiari și evaluarea rezultatelor economico-financiare ale întreprinderii prin prisma evoluţiei indicatorilor principali (profitul net, venitul din vînzări şi alţi indicatori ce ţin de condiţiile de activitate concrete ale întreprinderii respective) pentru cel puțin ultimii trei ani (2017 - 2019) ? | C5: =VLOOKUP(A5,Quest_eng_2018!A:C,3,FALSE) -> Are the analysis of economic and financial indicators and the evaluation of enterprise economic and financial outcomes in the light of the main indicators trends (net profit, sales revenue and other indicators related to enterprise specific activity conditions) published on the Web page, at least for the last three years (2017 - 2019)? | D5: Economic Indicators | E5: iec4 | F5: iec4k | G5: 3 | H5: da | I5: yes | J5: nu | K5: no | L5: partial | M5: partially | N5: N/A | O5: N/A | P5: ___ | Q5: ___ | R5: 3 | S5: 0 | T5: =R5/2 -> 1.5 | U5: N/A | V5: ___ | W5: nu | X5: Pagina web nefuncțională ( 13 aprilie 2020) | Y5: partial | Z5: Nu sînt informații pe web (ultima dată verificat la 13.04.2020) | AA5: partial | AB5: https://www.termoelectrica.md/ro_RO/despre/rapoarte/ | AC5: partial | AD5: https://moldtelecom.md/ro/personal/Rapoarte | AE5: partial | AF5: http://app.gov.md/sites/default/files/document/attachments/situatii_financiare_2018_is_moldsuindhibrid.pdf | AG5: partial | AH5: http://app.gov.md/sites/default/files/document/attachments/situatii_financiare_2018_is_mecagro.pdf | AI5: partial | AJ5: http://app.gov.md/sites/default/files/document/attachments/situatii_financiare_2018_is_indalproiect.pdf | AK5: partial | AL5: http://app.gov.md/sites/default/files/document/attachments/situatii_financiare_2018_is_crara.pdf | AM5: partial | AN5: http://www.railway.md/?l=ro&h=BG0l8rJIUvD9BMYWhHS3sbtVv8yofTwAjuY6UF4d4OE= | AO5: partial | AP5: https://www.asd.md/page/rapoarte | AQ5: partial | AR5: https://moldatsa.md/about/documents | AS5: partial | AT5: http://app.gov.md/sites/default/files/document/attachments/situatii_financiare_2018_is_sde_criuleni.pdf | AU5: partial | AV5: http://www.moldelectrica.md/ro/finances/financial_reports | AW5: partial | AX5: http://app.gov.md/sites/default/files/document/attachments/situatii_financiare_2018_is_centrul_de_elaborari_economice_si_de_productie.pdf | AY5: partial | AZ5: http://app.gov.md/sites/default/files/document/attachments/situatii_financiare_2018_is_vivaflora.pdf | BA5: partial | BB5: http://www.serviciipaza.md/ro/advanced-page-type/situatie-financiare | BC5: partial | BD5: http://app.gov.md/sites/default/files/document/attachments/situatii_financiare_2018_is_statia_de_stat_pentru_incercarea_masinilor.pdf | BE5: nu | BF5: Nu sînt informații (ultima dată verificat la 13.04.2020) | BG5: partial | BH5: http://app.gov.md/sites/default/files/document/attachments/2018_-_sa_drumuri_cahul.pdf | BI5: partial | BJ5: http://app.gov.md/sites/default/files/document/attachments/situatii_financiare_sa_metalferos.pdf | BK5: partial | BL5: http://app.gov.md/sites/default/files/document/attachments/2018_-_sa_furnizarea_energiei_electrice.pdf | BM5: partial | BN5: http://posta.md/ro/rapoarte | BO5: partial | BP5: https://www.moldovagaz.md/rom/despre-companie/rapoarte-158 | BQ5: partial | BR5: http://www.energocom.md/about-us/transparenta | BS5: partial | BT5: http://app.gov.md/sites/default/files/document/attachments/situatii_financiare_2018_is_garile_si_statiile_auto.pdf | BU5: partial | BV5: https://moldaeroservice.md/ro/annual-reports/ | BW5: nu | BX5: Nu sînt informații (ultima dată verificat la 13.04.2020) | BY5: partial | BZ5: http://app.gov.md/sites/default/files/document/attachments/situatii_financiare_2018_is_combinatul_republican_de_instruire_auto.pdf | CA5: nu | CB5: Nu sînt informații (ultima dată verificat la 13.04.2020) | CC5: partial | CD5: http://app.gov.md/sites/default/files/document/attachments/situatii_financiare_2018_is_directia_pentru_corpul_diplomatic.pdf | CE5: da | CF5: http://manej.md/index.php?pag=news&id=1243&l=ro | CG5: partial | CH5: http://app.gov.md/sites/default/files/document/attachments/raport_audit_2019__0.pdf | CI5: partial | CJ5: http://www.dpp.md/ro/rapoarte.html | CK5: nu | CL5: Nu sînt informații (ultima dată verificat la 13.04.2020) | CM5: partial | CN5: http://app.gov.md/sites/default/files/document/attachments/situatii_financiare_2018_is_tipografia_asm.pdf | CO5: partial | CP5: https://e-cmac.md/rapoarte/ | CQ5: nu | CR5: Nu sînt informații (ultima dată verificat la 13.04.2020) | CS5: partial | CT5: http://editurastiinta.md/rapoarte http://app.gov.md/sites/default/files/document/attachments/situatii_financiare_2018_is_editorial_poligrafica_stiinta.pdf | CU5: nu | CV5: Nu sînt informații (ultima dată verificat la 13.04.2020) | CW5: partial | CX5: https://tracom.md/infocenters/reports/ | CY5: partial | CZ5: http://app.gov.md/sites/default/files/document/attachments/situatii_financiare_2018_is_combinatul_de_vinuri_milestii_mici.pdf | DA5: partial | DB5: http://app.gov.md/sites/default/files/document/attachments/situatii_financiare_2018_is_nistru_centru.pdf | DC5: partial | DD5: http://app.gov.md/sites/default/files/document/attachments/situatii_financiare_2018_is_portul_fluvial_ungheni_0.pdf | DE5: partial | DF5: https://www.ingeocad.md/ro/home/raport-anual-2 | DG5: nu | DH5: Nu sînt informații (ultima dată verificat la 13.04.2020) | DI5: partial | DJ5: http://app.gov.md/sites/default/files/document/attachments/situatii_financiare_2018_is_institutul_de_proiectare_pentru_organizarea_teritoriului.pdf | DK5: partial | DL5: http://app.gov.md/sites/default/files/document/attachments/situatii_financiare_2018_is_ruralproiect.pdf | DM5: partial | DN5: http://app.gov.md/sites/default/files/document/attachments/situatii_financiare_2018_is_tipografia_centrala.pdf | DO5: partial | DP5: https://mold-didactica.com.md/despre-noi/ | DQ5: partial | DR5: http://app.gov.md/sites/default/files/document/attachments/situatii_financiare_2018_is_directia_pentru_exploatarea_imobilului.pdf | DS5: partial | DT5: http://app.gov.md/sites/default/files/document/attachments/situatii_financiare_2018_is_cartus.pdf | DU5: nu | DV5: Nu sînt informații (ultima dată verificat la 13.04.2020) | DW5: partial | DX5: https://www.radiocom.md/rapoarte-1-38 | DY5: partial | DZ5: https://apa-balti.md/?cat=67&lang=ro | EA5: partial | EB5: http://www.straseni.md/raport-cu-privire-la-activitatea-i-m-apa-canal-straseni-pentru-anul-2017/ http://www.straseni.md/5829-2/ | EC5: nu | ED5: Nu sînt informații (ultima dată verificat la 13.04.2020) | EE5: nu | EF5: Nu sînt informații (ultima dată verificat la 13.04.2020) | EG5: partial | EH5: https://acc.md/rapoarte/ | EI5: nu | EJ5: Nu sînt informații (ultima dată verificat la 13.04.2020) | EK5: nu | EL5: Nu sînt informații (ultima dată verificat la 13.04.2020) | EM5: nu | EN5: Nu sînt informații (ultima dată verificat la 13.04.2020) | EO5: nu | EP5: Nu sînt informații (ultima dată verificat la 13.04.2020) | EQ5: nu | ER5: Nu sînt informații (ultima dată verificat la 13.04.2020) | ES5: nu | ET5: Nu sînt informații (ultima dată verificat la 13.04.2020) | EU5: nu | EV5: Nu sînt informații (ultima dată verificat la 13.04.2020) | EW5: partial | EX5: https://www.autourban.md/indicatori/raport_activitate.pdf | EY5: partial | EZ5: http://app.gov.md/sites/default/files/document/attachments/raportul_de_audit_pentru_anul_2018_berd_0.pdf
A6: Q5 | B6: Sînt publicate pe web rezultatele controalelor şi auditurilor economico-financiare (denumirea entităţii care a verificat/auditat întreprinderea; menţiuni despre existenţa/lipsa abaterilor; măsurile luate pentru implementarea recomandărilor) în 2019? | C6: =VLOOKUP(A6,Quest_eng_2018!A:C,3,FALSE) -> Are the outcomes of inspections/controls and economic-financial audits conducted in 2019 (name of the entity that verified/inspected/audited the enterprise; mentions about the existing/lack of irregularities; the actions undertaken to implement the recommendations) published on the Web page? | D6: Economic Indicators | E6: iec5 | F6: iec5k | G6: 2 | H6: da | I6: yes | J6: nu | K6: no | L6: partial | M6: partially | N6: N/A | O6: N/A | P6: ___ | Q6: ___ | R6: 2 | S6: 0 | T6: =R6/2 -> 1 | U6: N/A | V6: ___ | W6: nu | X6: Pagina web nefuncțională ( 13 aprilie 2020) | Y6: nu | Z6: Nu sînt informații pe web (ultima dată verificat la 13.04.2020) | AA6: nu | AB6: Nu sînt informații pe web (ultima dată verificat la 13.04.2020) | AC6: nu | AD6: Nu sînt informații pe web (ultima dată verificat la 13.04.2020) | AE6: nu | AF6: Nu sînt informații pe web (ultima dată verificat la 13.04.2020) | AG6: nu | AH6: Nu sînt informații pe web (ultima dată verificat la 13.04.2020) | AI6: nu | AJ6: Nu sînt informații (ultima dată verificat la 13.04.2020) | AK6: nu | AL6: Nu sînt informații (ultima dată verificat la 13.04.2020) | AM6: nu | AN6: Nu sînt informații (ultima dată verificat la 13.04.2020) | AO6: nu | AP6: Nu sînt informații (ultima dată verificat la 13.04.2020) | AQ6: nu | AR6: Nu sînt informații (ultima dată verificat la 13.04.2020) | AS6: nu | AT6: Nu sînt informații (ultima dată verificat la 13.04.2020) | AU6: nu | AV6: Nu sînt informații (ultima dată verificat la 13.04.2020) | AW6: nu | AX6: Nu sînt informații (ultima dată verificat la 13.04.2020) | AY6: nu | AZ6: Nu sînt informații (ultima dată verificat la 13.04.2020) | BA6: nu | BB6: Nu sînt informații (ultima dată verificat la 13.04.2020) | BC6: nu | BD6: Nu sînt informații (ultima dată verificat la 13.04.2020) | BE6: nu | BF6: Nu sînt informații (ultima dată verificat la 13.04.2020) | BG6: nu | BH6: Nu sînt informații (ultima dată verificat la 13.04.2020) | BI6: nu | BJ6: Nu sînt informații (ultima dată verificat la 13.04.2020) | BK6: nu | BL6: Nu sînt informații (ultima dată verificat la 13.04.2020) | BM6: nu | BN6: Nu sînt informații (ultima dată verificat la 13.04.2020) | BO6: nu | BP6: Nu sînt informații (ultima dată verificat la 13.04.2020) | BQ6: nu | BR6: Nu sînt informații (ultima dată verificat la 13.04.2020) | BS6: nu | BT6: Nu sînt informații (ultima dată verificat la 13.04.2020) | BU6: nu | BV6: Nu sînt informații (ultima dată verificat la 13.04.2020) | BW6: nu | BX6: Nu sînt informații (ultima dată verificat la 13.04.2020) | BY6: nu | BZ6: Nu sînt informații (ultima dată verificat la 13.04.2020) | CA6: nu | CB6: Nu sînt informații (ultima dată verificat la 13.04.2020) | CC6: nu | CD6: Nu sînt informații (ultima dată verificat la 13.04.2020) | CE6: nu | CF6: Nu sînt informații (ultima dată verificat la 13.04.2020) | CG6: nu | CH6: Nu sînt informații (ultima dată verificat la 13.04.2020) | CI6: nu | CJ6: Nu sînt informații (ultima dată verificat la 13.04.2020) | CK6: nu | CL6: Nu sînt informații (ultima dată verificat la 13.04.2020) | CM6: nu | CN6: Nu sînt informații (ultima dată verificat la 13.04.2020) | CO6: nu | CP6: Nu sînt informații (ultima dată verificat la 13.04.2020) | CQ6: nu | CR6: Nu sînt informații (ultima dată verificat la 13.04.2020) | CS6: nu | CT6: Nu sînt informații (ultima dată verificat la 13.04.2020) | CU6: nu | CV6: Nu sînt informații (ultima dată verificat la 13.04.2020) | CW6: nu | CX6: Nu sînt informații (ultima dată verificat la 13.04.2020) | CY6: nu | CZ6: Nu sînt informații (ultima dată verificat la 13.04.2020) | DA6: nu | DB6: Nu sînt informații (ultima dată verificat la 13.04.2020) | DC6: nu | DD6: Nu sînt informații (ultima dată verificat la 13.04.2020) | DE6: nu | DF6: Nu sînt informații (ultima dată verificat la 13.04.2020) | DG6: nu | DH6: Nu sînt informații (ultima dată verificat la 13.04.2020) | DI6: nu | DJ6: Nu sînt informații (ultima dată verificat la 13.04.2020) | DK6: nu | DL6: Nu sînt informații (ultima dată verificat la 13.04.2020) | DM6: nu | DN6: Nu sînt informații (ultima dată verificat la 13.04.2020) | DO6: nu | DP6: Nu sînt informații (ultima dată verificat la 13.04.2020) | DQ6: nu | DR6: Nu sînt informații (ultima dată verificat la 13.04.2020) | DS6: nu | DT6: Nu sînt informații (ultima dată verificat la 13.04.2020) | DU6: nu | DV6: Nu sînt informații (ultima dată verificat la 13.04.2020) | DW6: nu | DX6: Nu sînt informații (ultima dată verificat la 13.04.2020) | DY6: nu | DZ6: Nu sînt informații (ultima dată verificat la 13.04.2020) | EA6: nu | EB6: Nu sînt informații (ultima dată verificat la 13.04.2020) | EC6: nu | ED6: Nu sînt informații (ultima dată verificat la 13.04.2020) | EE6: nu | EF6: Nu sînt informații (ultima dată verificat la 13.04.2020) | EG6: nu | EH6: Nu sînt informații (ultima dată verificat la 13.04.2020) | EI6: n/a | EJ6: Nu sînt informații (ultima dată verificat la 13.04.2020) | EK6: nu | EL6: Nu sînt informații (ultima dată verificat la 13.04.2020) | EM6: nu | EN6: Nu sînt informații (ultima dată verificat la 13.04.2020) | EO6: nu | EP6: Nu sînt informații (ultima dată verificat la 13.04.2020) | EQ6: nu | ER6: Nu sînt informații (ultima dată verificat la 13.04.2020) | ES6: nu | ET6: Nu sînt informații (ultima dată verificat la 13.04.2020) | EU6: nu | EV6: Nu sînt informații (ultima dată verificat la 13.04.2020) | EW6: nu | EX6: Nu sînt informații (ultima dată verificat la 13.04.2020) | EY6: nu | EZ6: Nu sînt informații (ultima dată verificat la 13.04.2020)
A7: Q6 | B7: Sînt publicate pe pagina web informații privind capitalul social al întreprinderii ? | C7: =VLOOKUP(A7,Quest_eng_2018!A:C,3,FALSE) -> Is there any information on enterprise share capital published on the Web page? | D7: Economic Indicators | E7: iec6 | F7: iec6k | G7: 1 | H7: da | I7: yes | J7: nu | K7: no | L7: partial | M7: partially | N7: N/A | O7: N/A | P7: ___ | Q7: ___ | R7: 1 | S7: 0 | T7: =R7/2 -> 0.5 | U7: N/A | V7: ___ | W7: nu | X7: Pagina web nefuncțională ( 13 aprilie 2020) | Y7: da | Z7: http://www.franzeluta.info/files/raportul-financiar-anul-2019-1.pdf | AA7: da | AB7: https://www.termoelectrica.md/wp-content/uploads/2016/04/doc01498620190823134712-1.pdf | AC7: da | AD7: https://moldtelecom.md/ro/personal/Rapoarte | AE7: partial | AF7: Informații neactualizate http://app.gov.md/sites/default/files/document/attachments/is_moldsuinhibrid_statut.pdf | AG7: partial | AH7: Informații neactualizate http://app.gov.md/sites/default/files/document/attachments/is_mecagro_statutul.pdf | AI7: partial | AJ7: Informații neactualizate http://app.gov.md/sites/default/files/document/attachments/is_indalproiect_statut.pdf | AK7: partial | AL7: Informații neactualizate http://app.gov.md/sites/default/files/document/attachments/is_crara_statut.pdf | AM7: partial | AN7: Informații neactualizate http://www.railway.md/?l=ro&h=BG0l8rJIUvBvKZqveZm6Q1PTFpW1M9II | AO7: partial | AP7: Informații neactualizate http://app.gov.md/sites/default/files/document/attachments/statutul_is_administratia_de_stat_a_drumurilor.pdf https://www.asd.md/page/rapoarte | AQ7: partial | AR7: Informații neactualizate https://cdn01.moldatsa.md/moldatsaprod/0235cd4d69b91773a7705c9b76c5abf2.pdf | AS7: partial | AT7: Informații neactualizate http://app.gov.md/sites/default/files/document/attachments/statutul_is_sde_criuleni.pdf | AU7: partial | AV7: Informații neactualizate http://www.moldelectrica.md/ro/about/statute | AW7: partial | AX7: Informații neactualizate http://app.gov.md/sites/default/files/document/attachments/statutul_is_centrul_de_elaborari_economice_si_de_productie.pdf | AY7: partial | AZ7: Informații neactualizate http://app.gov.md/sites/default/files/document/attachments/statutul_is_vivaflora.pdf | BA7: partial | BB7: Informații neactualizate http://www.serviciipaza.md/sites/default/files/press-release/statutul_intreprinderii_2017_.pdf | BC7: partial | BD7: Informații neactualizate http://app.gov.md/sites/default/files/document/attachments/situatii_financiare_2018_is_statia_de_stat_pentru_incercarea_masinilor.pdf | BE7: partial | BF7: Informații neactualizate http://app.gov.md/sites/default/files/document/attachments/statutul_is_dumbrava_vest.pdf | BG7: partial | BH7: Informație neactualizată http://app.gov.md/sites/default/files/document/attachments/2018_-_sa_drumuri_cahul.pdf | BI7: da | BJ7: https://www.metalferos.md/despre-noi/ | BK7: partial | BL7: Informații neactualizate http://app.gov.md/sites/default/files/document/attachments/2018_-_sa_furnizarea_energiei_electrice.pdf | BM7: partial | BN7: Informații neactualizate http://posta.md/files/Files/Legislatie/Statutul_IS_Posta_Moldovei.pdf | BO7: partial | BP7: Informații neactualizate https://www.moldovagaz.md/pic/uploaded/docs/financial_statistics_2018.pdf | BQ7: da | BR7: http://www.energocom.md/about-us/transparenta/174-rap-trms-priv-org-apr-iun-2 http://www.energocom.md/about-us/transparenta/159-statutul | BS7: partial | BT7: Informație neactualizată http://app.gov.md/sites/default/files/document/attachments/statutul_is_garile_si_statiile_auto.pdf | BU7: partial | BV7: Informație neactualizată https://moldaeroservice.md/wp-content/uploads/2019/04/Statutul.pdf https://moldaeroservice.md/wp-content/uploads/2019/04/Situatii-financiare-2018.pdf | BW7: nu | BX7: Nu sînt informații (ultima dată verificat la 13.04.2020) | BY7: partial | BZ7: Informație neactualizată http://app.gov.md/sites/default/files/document/attachments/situatii_financiare_2018_is_combinatul_republican_de_instruire_auto.pdf | CA7: partial | CB7: Informații neactualizate http://app.gov.md/ro/content/societatea-pe-actiuni-drumuri-ialoveni | CC7: partial | CD7: Informații neactualizate http://app.gov.md/sites/default/files/document/attachments/is_directia_servicii_pentru_corpul_diplomatic_statut.pdf | CE7: da | CF7: http://manej.md/media/files/files/darea_de_seama_patrimoniu_public_01_01_2019_8210195.pdf http://manej.md/index.php?pag=news&id=1238&rid=34&l=ro | CG7: partial | CH7: Informație neactualizată http://app.gov.md/sites/default/files/document/attachments/raport_audit_2019__0.pdf | CI7: partial | CJ7: Informație neactualizată http://www.dpp.md/upfiles/Statutul%20Intreprinderii%20de%20Stat%20Detasamentul%20de%20Paza%20Paramilitara.PDF | CK7: nu | CL7: Nu sînt informații (ultima dată verificat la 13.04.2020) | CM7: da | CN7: http://app.gov.md/ro/content/complex-patrimonial-unic-intreprinderea-de-stat-tipografia-academiei-de-stiinte-moldovei | CO7: partial | CP7: Informații neactualizate http://e-cmac.md/wp-content/uploads/2019/06/Statutul-IS-CMAC-2.pdf http://e-cmac.md/wp-content/uploads/2019/04/Situatiile-financiare-CMAC-2018.pdf | CQ7: nu | CR7: Nu sînt informații (ultima dată verificat la 13.04.2020) | CS7: partial | CT7: Informație neactualizată http://editurastiinta.md/statutul-intreprinderii-de-stat-editorial-poligrafice-stiinta-i-s-e-p-stiinta-1 | CU7: nu | CV7: Nu sînt informații (ultima dată verificat la 13.04.2020) | CW7: partial | CX7: Informații neactualizate https://tracom.md/wp-content/uploads/2019/04/rsf_2018.pdf | CY7: partial | CZ7: Informații neactualizate http://app.gov.md/sites/default/files/document/attachments/statutul_is_combinatul_de_vinuri_milestii_mici.pdf http://app.gov.md/sites/default/files/document/attachments/situatii_financiare_2018_is_combinatul_de_vinuri_milestii_mici.pdf | DA7: partial | DB7: Informații neactualizate http://app.gov.md/sites/default/files/document/attachments/is_sga_nistru_centru.pdf http://app.gov.md/sites/default/files/document/attachments/situatii_financiare_2018_is_nistru_centru.pdf | DC7: partial | DD7: Informație neactualizată http://app.gov.md/sites/default/files/document/attachments/is_portul_fluvial_ungheni_statut.pdf http://app.gov.md/sites/default/files/document/attachments/situatii_financiare_2018_is_portul_fluvial_ungheni_0.pdf | DE7: partial | DF7: Informații neactualizate https://www.ingeocad.md/images/zagruzki/Statut.PDF https://www.ingeocad.md/images/zagruzki/statut_completare.PDF https://www.ingeocad.md/images/situatii_financiare_2018.pdf | DG7: nu | DH7: Nu sînt informații (ultima dată verificat la 13.04.2020) | DI7: partial | DJ7: Informații neactualizate http://app.gov.md/sites/default/files/document/attachments/situatii_financiare_2018_is_institutul_de_proiectare_pentru_organizarea_teritoriului.pdf http://app.gov.md/sites/default/files/document/attachments/is_urbanproiect_statut.pdf | DK7: partial | DL7: Informații neactualizate http://app.gov.md/sites/default/files/document/attachments/is_ruralproiect_statut.pdf http://app.gov.md/sites/default/files/document/attachments/situatii_financiare_2018_is_ruralproiect.pdf | DM7: da | DN7: http://app.gov.md/ro/content/complex-patrimonial-unic-intreprinderea-de-stat-firma-editorial-poligrafica-tipografia | DO7: partial | DP7: Informații neactualizate https://mold-didactica.com.md/wordpress/wp-uploads/Situatiile-financiare-2018.pdf | DQ7: partial | DR7: Informații neactualizate http://app.gov.md/sites/default/files/document/attachments/is_directia_pentu_exploatarea_imobilului_statutul.pdf http://app.gov.md/sites/default/files/document/attachments/situatii_financiare_2018_is_directia_pentru_exploatarea_imobilului.pdf | DS7: partial | DT7: Informații neactualizate http://app.gov.md/sites/default/files/document/attachments/is_cartus_statut.pdf | DU7: nu | DV7: Nu sînt informații (ultima dată verificat la 13.04.2020) | DW7: partial | DX7: Informații neactualizate https://www.radiocom.md/storage/upload/reports/16/7832d83a166dab3f11c662f5e4131523.pdf http://app.gov.md/sites/default/files/document/attachments/is_radiocomunicatii_statut.pdf | DY7: partial | DZ7: Informații neactualizate https://apa-balti.md/?cat=67&lang=ro | EA7: da | EB7: http://www.straseni.md/wp-content/uploads/2019/12/STATUTUL-M-Ap-Canal-22.pdf | EC7: nu | ED7: Nu sînt informații (ultima dată verificat la 13.04.2020) | EE7: da | EF7: http://www.apacanalcahul.md/ro/AboutUs/CertificationLicensing/ | EG7: partial | EH7: Informații neactualizate https://acc.md/rapoarte/ | EI7: nu | EJ7: Nu sînt informații (ultima dată verificat la 13.04.2020) | EK7: nu | EL7: Nu sînt informații (ultima dată verificat la 13.04.2020) | EM7: nu | EN7: Nu sînt informații (ultima dată verificat la 13.04.2020) | EO7: nu | EP7: Nu sînt informații (ultima dată verificat la 13.04.2020) | EQ7: nu | ER7: Nu sînt informații (ultima dată verificat la 13.04.2020) | ES7: nu | ET7: Nu sînt informații (ultima dată verificat la 13.04.2020) | EU7: nu | EV7: Nu sînt informații (ultima dată verificat la 13.04.2020) | EW7: nu | EX7: Nu sînt informații (ultima dată verificat la 13.04.2020) | EY7: partial | EZ7: Informații neactualizate http://app.gov.md/sites/default/files/document/attachments/raportul_de_audit_pentru_anul_2018_berd_0.pdf
A8: Q7 | B8: Sînt disponibile pe pagina web informații privind împrumuturile / creditele obținute de întreprindere în 2019 ? | C8: =VLOOKUP(A8,Quest_eng_2018!A:C,3,FALSE) -> Is there any information on loans/credits contracted by the enterprise in 2019 available on the Web page? | D8: Economic Indicators | E8: iec7 | F8: iec7k | G8: 2 | H8: da | I8: yes | J8: nu | K8: no | L8: partial | M8: partially | N8: N/A | O8: N/A | P8: ___ | Q8: ___ | R8: 2 | S8: 0 | T8: =R8/2 -> 1 | U8: N/A | V8: ___ | W8: nu | X8: Pagina web nefuncțională ( 13 aprilie 2020) | Y8: nu | Z8: Nu sînt informații pe web (ultima dată verificat la 13.04.2020) | AA8: partial | AB8: https://www.termoelectrica.md/wp-content/uploads/2016/04/doc01498620190823134712-1.pdf | AC8: nu | AD8: Nu sînt informații pe web (ultima dată verificat la 13.04.2020) | AE8: nu | AF8: Nu sînt informații pe web (ultima dată verificat la 13.04.2020) | AG8: nu | AH8: Nu sînt informații pe web (ultima dată verificat la 13.04.2020) | AI8: nu | AJ8: Nu sînt informații (ultima dată verificat la 13.04.2020) | AK8: nu | AL8: Nu sînt informații (ultima dată verificat la 13.04.2020) | AM8: nu | AN8: Nu sînt informații (ultima dată verificat la 13.04.2020) | AO8: nu | AP8: Nu sînt informații (ultima dată verificat la 13.04.2020) | AQ8: nu | AR8: Nu sînt informații (ultima dată verificat la 13.04.2020) | AS8: nu | AT8: Nu sînt informații (ultima dată verificat la 13.04.2020) | AU8: nu | AV8: Nu sînt informații (ultima dată verificat la 13.04.2020) | AW8: nu | AX8: Nu sînt informații (ultima dată verificat la 13.04.2020) | AY8: nu | AZ8: Nu sînt informații (ultima dată verificat la 13.04.2020) | BA8: nu | BB8: Nu sînt informații (ultima dată verificat la 13.04.2020) | BC8: nu | BD8: Nu sînt informații (ultima dată verificat la 13.04.2020) | BE8: nu | BF8: Nu sînt informații (ultima dată verificat la 13.04.2020) | BG8: nu | BH8: Nu sînt informații (ultima dată verificat la 13.04.2020) | BI8: nu | BJ8: Nu sînt informații (ultima dată verificat la 13.04.2020) | BK8: nu | BL8: Nu sînt informații (ultima dată verificat la 13.04.2020) | BM8: nu | BN8: Nu sînt informații (ultima dată verificat la 13.04.2020) | BO8: nu | BP8: Nu sînt informații (ultima dată verificat la 13.04.2020) | BQ8: nu | BR8: Nu sînt informații (ultima dată verificat la 13.04.2020) | BS8: nu | BT8: Nu sînt informații (ultima dată verificat la 13.04.2020) | BU8: nu | BV8: Nu sînt informații (ultima dată verificat la 13.04.2020) | BW8: nu | BX8: Nu sînt informații (ultima dată verificat la 13.04.2020) | BY8: nu | BZ8: Nu sînt informații (ultima dată verificat la 13.04.2020) | CA8: nu | CB8: Nu sînt informații (ultima dată verificat la 13.04.2020) | CC8: nu | CD8: Nu sînt informații (ultima dată verificat la 13.04.2020) | CE8: da | CF8: http://manej.md/media/files/files/situatii_financiare_2019_2367974.pdf | CG8: nu | CH8: Nu sînt informații (ultima dată verificat la 13.04.2020) | CI8: nu | CJ8: Nu sînt informații (ultima dată verificat la 13.04.2020) | CK8: nu | CL8: Nu sînt informații (ultima dată verificat la 13.04.2020) | CM8: nu | CN8: Nu sînt informații (ultima dată verificat la 13.04.2020) | CO8: nu | CP8: Nu sînt informații (ultima dată verificat la 13.04.2020) | CQ8: nu | CR8: Nu sînt informații (ultima dată verificat la 13.04.2020) | CS8: nu | CT8: Nu sînt informații (ultima dată verificat la 13.04.2020) | CU8: nu | CV8: Nu sînt informații (ultima dată verificat la 13.04.2020) | CW8: nu | CX8: Nu sînt informații (ultima dată verificat la 13.04.2020) | CY8: nu | CZ8: Nu sînt informații (ultima dată verificat la 13.04.2020) | DA8: nu | DB8: Nu sînt informații (ultima dată verificat la 13.04.2020) | DC8: nu | DD8: Nu sînt informații (ultima dată verificat la 13.04.2020) | DE8: nu | DF8: Nu sînt informații (ultima dată verificat la 13.04.2020) | DG8: nu | DH8: Nu sînt informații (ultima dată verificat la 13.04.2020) | DI8: nu | DJ8: Nu sînt informații (ultima dată verificat la 13.04.2020) | DK8: nu | DL8: Nu sînt informații (ultima dată verificat la 13.04.2020) | DM8: nu | DN8: Nu sînt informații (ultima dată verificat la 13.04.2020) | DO8: nu | DP8: Nu sînt informații (ultima dată verificat la 13.04.2020) | DQ8: nu | DR8: Nu sînt informații (ultima dată verificat la 13.04.2020) | DS8: nu | DT8: Nu sînt informații (ultima dată verificat la 13.04.2020) | DU8: nu | DV8: Nu sînt informații (ultima dată verificat la 13.04.2020) | DW8: nu | DX8: Nu sînt informații (ultima dată verificat la 13.04.2020) | DY8: nu | DZ8: Nu sînt informații (ultima dată verificat la 13.04.2020) | EA8: nu | EB8: Nu sînt informații (ultima dată verificat la 13.04.2020) | EC8: nu | ED8: Nu sînt informații (ultima dată verificat la 13.04.2020) | EE8: nu | EF8: Nu sînt informații (ultima dată verificat la 13.04.2020) | EG8: nu | EH8: Nu sînt informații (ultima dată verificat la 13.04.2020) | EI8: nu | EJ8: Nu sînt informații (ultima dată verificat la 13.04.2020) | EK8: nu | EL8: Nu sînt informații (ultima dată verificat la 13.04.2020) | EM8: nu | EN8: Nu sînt informații (ultima dată verificat la 13.04.2020) | EO8: nu | EP8: Nu sînt informații (ultima dată verificat la 13.04.2020) | EQ8: nu | ER8: Nu sînt informații (ultima dată verificat la 13.04.2020) | ES8: nu | ET8: Nu sînt informații (ultima dată verificat la 13.04.2020) | EU8: nu | EV8: Nu sînt informații (ultima dată verificat la 13.04.2020) | EW8: nu | EX8: Nu sînt informații (ultima dată verificat la 13.04.2020) | EY8: nu | EZ8: Nu sînt informații (ultima dată verificat la 13.04.2020)
A9: Q8 | B9: Dispune întreprinderea de pagină web ? | C9: =VLOOKUP(A9,Quest_eng_2018!A:C,3,FALSE) -> Does the enterprise have a Web page? | D9: Transparency and access to information | E9: tai1 | F9: tai1k | G9: 3 | H9: da | I9: yes | J9: nu | K9: no | L9: partial | M9: partially | N9: N/A | O9: N/A | P9: ___ | Q9: ___ | R9: 3 | S9: 0 | T9: =R9/2 -> 1.5 | U9: N/A | V9: ___ | W9: nu | X9: Pagina web nefuncțională ( 13 aprilie 2020) | Y9: da | Z9: http://www.franzeluta.info/ | AA9: da | AB9: https://www.termoelectrica.md/ro_RO/ | AC9: da | AD9: https://moldtelecom.md/ | AE9: da | AF9: http://moldsuinhibrid.moldagro.md/about_us | AG9: da | AH9: http://www.mecagro.md/ro/ | AI9: nu | AJ9: Nu sînt informații (ultima dată verificat la 13.04.2020) | AK9: nu | AL9: Nu sînt informații (ultima dată verificat la 13.04.2020) | AM9: da | AN9: http://www.railway.md/ | AO9: da | AP9: https://www.asd.md/ | AQ9: da | AR9: https://moldatsa.md/ | AS9: nu | AT9: Nu sînt informații (ultima dată verificat la 13.04.2020) | AU9: da | AV9: http://www.moldelectrica.md/ro/ | AW9: nu | AX9: Nu sînt informații (ultima dată verificat la 13.04.2020) | AY9: nu | AZ9: Nu sînt informații (ultima dată verificat la 13.04.2020) | BA9: da | BB9: http://www.serviciipaza.md/ro | BC9: nu | BD9: Nu sînt informații (ultima dată verificat la 13.04.2020) | BE9: nu | BF9: Nu sînt informații (ultima dată verificat la 13.04.2020) | BG9: nu | BH9: Nu sînt informații (ultima dată verificat la 13.04.2020) | BI9: da | BJ9: https://www.metalferos.md/ | BK9: da | BL9: https://fee-nord.md/ | BM9: da | BN9: http://www.posta.md/ro | BO9: da | BP9: https://www.moldovagaz.md | BQ9: da | BR9: http://www.energocom.md/ | BS9: da | BT9: https://autogara.md/ | BU9: da | BV9: https://moldaeroservice.md/ro/ | BW9: da | BX9: http://garanord.md/ | BY9: da | BZ9: http://www.cria.md/ro/ | CA9: nu | CB9: Nu sînt informații (ultima dată verificat la 13.04.2020) | CC9: nu | CD9: Nu sînt informații (ultima dată verificat la 13.04.2020) | CE9: da | CF9: http://manej.md/index.php?l=ro | CG9: nu | CH9: Nu sînt informații (ultima dată verificat la 13.04.2020) | CI9: da | CJ9: http://www.dpp.md/ | CK9: da | CL9: https://palatulrepublicii.md/ | CM9: nu | CN9: Nu sînt informații (ultima dată verificat la 13.04.2020) | CO9: da | CP9: http://e-cmac.md/ | CQ9: da | CR9: http://www.sanfarmprim.md/index.php?l=ro | CS9: da | CT9: http://editurastiinta.md/despre-noi | CU9: da | CV9: http://moldexpo.md/ | CW9: da | CX9: https://tracom.md/ | CY9: da | CZ9: https://www.milestii-mici.md/ro/ | DA9: nu | DB9: Nu sînt informații (ultima dată verificat la 13.04.2020) | DC9: nu | DD9: Nu sînt informații (ultima dată verificat la 13.04.2020) | DE9: da | DF9: https://www.ingeocad.md/ro/ | DG9: nu | DH9: Nu sînt informații (ultima dată verificat la 13.04.2020) | DI9: da | DJ9: http://www.urbanproiect.md/indexrom.html | DK9: nu | DL9: Nu sînt informații (ultima dată verificat la 13.04.2020) | DM9: nu | DN9: Nu sînt informații (ultima dată verificat la 13.04.2020) | DO9: da | DP9: https://mold-didactica.com.md/ | DQ9: nu | DR9: Nu sînt informații (ultima dată verificat la 13.04.2020) | DS9: nu | DT9: Nu sînt informații (ultima dată verificat la 13.04.2020) | DU9: da | DV9: http://moldova-freezone.md/ro/ | DW9: da | DX9: https://www.radiocom.md/ | DY9: da | DZ9: https://apa-balti.md/?lang=ro | EA9: nu | EB9: Nu sînt informații (ultima dată verificat la 13.04.2020) | EC9: nu | ED9: Nu sînt informații (ultima dată verificat la 13.04.2020) | EE9: da | EF9: http://www.apacanalcahul.md/ | EG9: da | EH9: https://acc.md/ | EI9: da | EJ9: http://exdrupo.md/ | EK9: da | EL9: http://www.dcc.md/ | EM9: nu | EN9: Nu sînt informații (ultima dată verificat la 13.04.2020) | EO9: nu | EP9: Nu sînt informații (ultima dată verificat la 13.04.2020) | EQ9: da | ER9: http://autosalubritate.md/ | ES9: nu | ET9: Nu sînt informații (ultima dată verificat la 13.04.2020) | EU9: da | EV9: http://www.liftservice.md/newsMD.html | EW9: da | EX9: https://www.autourban.md/ | EY9: da | EZ9: https://www.rtec.md/
