Workbook

Sheet Monitoring_eng
A1: questionID_2019 | B1: questionID | C1: question | D1: Vinnytsia region | E1: Vinnytsia region_comment | F1: Volyn region | G1: Volyn region_comment | H1: Dnipropetrovsk region | I1: Dnipropetrovsk region_comment | J1: Zhytomyr region | K1: Zhytomyr region_comment | L1: Zakarpattia region | M1: Zakarpattia region_comment | N1: Zaporizhzhia region | O1: Zaporizhzhia region_comment | P1: Ivano-Frankivsk region | Q1: Ivano-Frankivsk region_comment | R1: Kyiv region | S1: Kyiv region_comment | T1: Kirovohrad region | U1: Kirovohrad region_comment | V1: Lviv region | W1: Lviv region_comment | X1: Mykolaiv region | Y1: Mykolaiv region_comment | Z1: Odesa region | AA1: Odesa region_comment | AB1: Poltava region | AC1: Poltava region_comment | AD1: Rivne region | AE1: Rivne region_comment | AF1: Sumy region | AG1: Sumy region_comment | AH1: Ternopil region | AI1: Ternopil region_comment | AJ1: Kharkiv region | AK1: Kharkiv region_comment | AL1: Kherson region | AM1: Kherson region_comment | AN1: Khmelnytskyi region | AO1: Khmelnytskyi region_comment | AP1: Cherkasy region | AQ1: Cherkasy region_comment | AR1: Chernivtsi region | AS1: Chernivtsi region_comment | AT1: Chernihiv region | AU1: Chernihiv region_comment
A2: R19001 | B2: Q1 | C2: Is there an online platform for communication between citizens and the Regional Council available on the Regional Council website for filing complaints, suggestions and appeals, as well as requests for information? | D2: yes | E2: https://vinrada.gov.ua/deputatska_priymalna.htm https://vinrada.gov.ua/povidomlennya-pro-korupcijne-pravoporushennya.htm | F2: yes | G2: http://volynrada.gov.ua/zapit-na-otrimannya-publichnoyi-informaciyi http://volynrada.gov.ua/node/59183 | H2: yes | I2: https://oblrada.dp.gov.ua/zvernennia-hromadian/ | J2: yes | K2: https://zt.gov.ua/index.php/%D0%B7%D0%B0%D0%BF%D0%B8%D1%82%D0%B0%D0%BD%D0%BD%D1%8F-%D0%B4%D0%BE-%D0%BA%D0%B5%D1%80%D1%96%D0%B2%D0%BD%D0%B8%D1%86%D1%82%D0%B2%D0%B0.html | L2: yes | M2: https://zakarpat-rada.gov.ua/elektronna-pryjmalnya/ | N2: yes | O2: http://zor.gov.ua/content/zvernennya-gromadyan | P2: yes | Q2: https://e-dem.in.ua/ivano-frankivsk-or | R2: yes | S2: https://petition.kor.gov.ua/ | T2: yes | U2: https://oblrada.kr.ua/elektronna-prijmalnya- | V2: no | X2: yes | Y2: https://www.mk-oblrada.gov.ua/vzaemodiya-z-gromadskistyu | Z2: yes | AA2: http://oblrada.odessa.gov.ua/zvernennya-do-golovy-oblrady/ | AB2: yes | AC2: http://oblrada-pl.gov.ua/index.php?option=com_content&view=article&id=3613&Itemid=173 | AD2: yes | AE2: http://oblrada.rv.ua/sklad_struktura/electronic_address.php ; http://oblrada.rv.ua/sklad_struktura/electronic_form.php | AF2: yes | AG2: http://online.sorada.gov.ua/Account/LogOn?returnUrl=http%3A%2F%2Fonline.sorada.gov.ua%3A9006%2FRada%2FAccountUser%2FIndex | AH2: yes | AI2: http://te-rada.org/profile/?ref=appeal | AJ2: no | AL2: yes | AM2: http://khor.gov.ua/zvernennya-gromadyan/ | AN2: yes | AO2: http://km-oblrada.gov.ua/contacts/ | AP2: yes | AR2: yes | AS2: http://oblrada.cv.ua/online_reception/ | AT2: yes | AU2: https://chor.gov.ua/zv-yazki-z-gromadskistyu/elektronna-priymalnya
A3: R19002 | B3: Q2 | C3: Do the responds to citizens' appeals, suggestions, and complaints are available on the respective online platform for public observation? | D3: no | F3: no | H3: yes | I3: https://oblrada.dp.gov.ua/electronni-petisii/ | J3: no | L3: no | N3: no | P3: no | R3: yes | S3: https://petition.kor.gov.ua/ | T3: no | V3: no | X3: no | Z3: no | AB3: no | AD3: no | AF3: no | AH3: no | AJ3: no | AL3: no | AN3: no | AP3: no | AR3: no | AT3: no
A4: R19003 | B4: Q3 | C4: Is there a possibility to track the progress of appeals, complaints, and suggestions on the respective online platform? | D4: no | F4: yes | G4: http://volynada.gov.ua/node/26153 | H4: yes | I4: https://oblrada.dp.gov.ua/electronni-petisii/ | J4: no | L4: no | N4: no | P4: no | R4: yes | S4: https://petition.kor.gov.ua/ | T4: no | V4: no | X4: no | Z4: no | AB4: no | AD4: no | AF4: no | AH4: no | AJ4: no | AL4: no | AN4: no | AP4: yes | AQ4: https://www.oblradack.gov.ua/zvernennia-gromadian | AR4: no | AT4: no
A5: R19004 | B5: Q4 | C5: Does the Regional Council provide the response to requests for information within the statutory deadlines (official request of ICPS)? | D5: yes | E5: response received in time | F5: yes | G5: response received in time | H5: no | J5: no | L5: no | N5: yes | O5: response received in time | P5: yes | Q5: response received in time | R5: yes | S5: response received in time | T5: no | V5: yes | W5: response received in time | X5: no | Z5: yes | AA5: response received in time | AB5: no | AD5: yes | AE5: response received in time | AF5: no | AH5: yes | AI5: response received in time | AJ5: yes | AK5: response received in time | AL5: no | AN5: yes | AO5: response received in time | AP5: yes | AQ5: response received in time | AR5: yes | AS5: response received in time | AT5: no
A6: R19005 | B6: Q5 | C6: Does the Regional Council provide the response to requests for information in full (official request of ICPS)? | D6: yes | E6: response received in full | F6: yes | G6: response received in full | H6: no | J6: no | L6: no | N6: yes | O6: response received in full | P6: yes | Q6: response received in full | R6: yes | S6: response received in full | T6: no | V6: yes | W6: response received in full | X6: no | Z6: yes | AA6: response received in full | AB6: no | AD6: yes | AE6: response received in full | AF6: no | AH6: yes | AI6: response received in full | AJ6: yes | AK6: response received in full | AL6: no | AN6: yes | AO6: response received in full | AP6: yes | AQ6: response received in full | AR6: yes | AS6: response received in full | AT6: no
A7: R19006 | B7: Q6 | C7: Does the Regional Council provide the response to requests for information within the statutory deadlines (Secret shopper’s request)? | D7: yes | E7: response received in time | F7: yes | G7: response received in time | H7: no | J7: no | L7: no | N7: yes | O7: response received in time | P7: yes | Q7: response received in time | R7: yes | S7: response received in time | T7: no | V7: yes | W7: response received in time | X7: no | Z7: yes | AA7: response received in time | AB7: no | AD7: yes | AE7: response received in time | AF7: no | AH7: yes | AI7: response received in time | AJ7: yes | AK7: response received in time | AL7: no | AN7: yes | AO7: response received in time | AP7: yes | AQ7: response received in time | AR7: yes | AS7: response received in time | AT7: no
A8: R19007 | B8: Q7 | C8: Does the Regional Council provide the response to requests for information in full (Secret shopper’s request)? | D8: yes | E8: response received in full | F8: yes | G8: response received in full | H8: no | J8: yes | L8: no | N8: yes | O8: response received in full | P8: yes | Q8: response received in full | R8: yes | S8: response received in full | T8: no | V8: no | X8: no | Z8: yes | AA8: response received in full | AB8: no | AD8: yes | AE8: response received in full | AF8: no | AH8: yes | AI8: response received in full | AJ8: no | AL8: no | AN8: yes | AO8: response received in full | AP8: yes | AQ8: response received in full | AR8: no | AT8: no
A9: R19008 | B9: Q8 | C9: Is the information about the head of the Regional Council, Regional Council deputies (including CVs or biographical information, contact information, time and place of reception of citizens) published on the Regional Council website? | D9: yes | E9: https://vinrada.gov.ua/golova_ta_zastupniki_golovi_oblasnoi_radi.htm ; https://vinrada.gov.ua/rada_spisok_deputativ.htm | F9: yes | G9: http://volynrada.gov.ua/leadership; http://volynrada.gov.ua/deputies_council | H9: yes | I9: https://oblrada.dp.gov.ua/oblasna-rada/kerivnitstvo/пригунов-гліб-олександрович/ | J9: yes | K9: https://zt.gov.ua/index.php/oblasna-rada/struktura-ta-personi/kerivnitstvo/133-gor.html | L9: yes | M9: https://zakarpat-rada.gov.ua/oblasna-rada/kerivnytstvo-rady/holova-rady/ | N9: yes | O9: http://zor.gov.ua/management; http://zor.gov.ua/deputat/all; http://zor.gov.ua/content/grafik-pryyomu-deputativ | P9: yes | Q9: http://www.orada.if.ua/deputies/сич-олександер-максимович/; http://www.orada.if.ua/обласна-рада/депутати/ | R9: yes | S9: https://kor.gov.ua/sklad_rady/kerivnytstvo.html https://kor.gov.ua/sklad_rady/fraktsii_ta_ deputatskyi_korpus/deputatskyi_korpus.html | T9: yes | U9: https://oblrada.kr.ua/golova-oblasnoi-radi | V9: yes | W9: https://mail.lvivoblrada.gov.ua/the-structure/deputati https://mail.lvivoblrada.gov.ua/the-structure/kerivnictvo-lvivskoji-oblasnoji-radi | X9: yes | Y9: https://www.mk-oblrada.gov.ua/deputatskyy-korpus | Z9: yes | AA9: http://oblrada.odessa.gov.ua/zvernennya-gromadyan/grafik-osobystogo-pryjomu/ | AB9: yes | AC9: http://oblrada-pl.gov.ua/index.php?option=com_content&view=article&id=46&Itemid=34 | AD9: yes | AE9: http://oblrada.rv.ua/sklad_struktura/kerivnictvo.php http://oblrada.rv.ua/sklad_struktura/priom.php?SECTION_ID=48&ELEMENT_ID=1909 http://oblrada.rv.ua/sklad_struktura/deputat.php http://oblrada.rv.ua/sklad_struktura/priom.php?SECTION_ID=48&ELEMENT_ID=1913 | AF9: yes | AG9: https://sorada.gov.ua/pro-oblasnu-radu/kerivnytstvo-oblasnoji-rady.html | AH9: yes | AI9: http://te-rada.org/info/?id=2; http://te-rada.org/user/#&type=3 | AJ9: yes | AK9: http://www.oblrada.kharkov.ua/ua/deputies | AL9: yes | AM9: http://khor.gov.ua/storinka-golovy-hersonskoyi-oblasnoyi-rady/ | AN9: yes | AO9: http://km-oblrada.gov.ua/management-regional-council/ | AP9: yes | AQ9: https://www.oblradack.gov.ua/deputati-oblasnoi-radi-vii-sklikannya | AR9: yes | AS9: http://oblrada.cv.ua/structure/ http://oblrada.cv.ua/activity/admission_shedule/ | AT9: yes | AU9: https://chor.gov.ua/2012-07-25-11-44-50; https://chor.gov.ua/oblasna-rada/deputati.
A10: R19009 | B10: Q9 | C10: Is the information on the list and contact details of the Regional Council standing committees, as well as names of Council standing committees’ members published on the Regional Council website? | D10: yes | E10: https://vinrada.gov.ua/spisok_deputativ_po_komisiyah.htm | F10: yes | G10: http://volynrada.gov.ua/standing_committees | H10: yes | I10: https://oblrada.dp.gov.ua/category/komissions/ | J10: yes | K10: https://zt.gov.ua/index.php/oblasna-rada/struktura-ta-personi/postijni-komisiji.html | L10: yes | M10: https://zakarpat-rada.gov.ua/oblasna-rada/postijni-komisiji/ | N10: yes | O10: http://zor.gov.ua/postiyni_komisii | P10: yes | Q10: http://www.orada.if.ua/депутатський-склад-за-комісіями/ | R10: yes | S10: https://kor.gov.ua/sklad_rady/komisii.html | T10: yes | U10: https://oblrada.kr.ua/postijni-komisii-kirovogradskoi-oblasnoi-radi | V10: yes | W10: https://mail.lvivoblrada.gov.ua/the-structure/postiini-deputatski-komisiji-1 https://mail.lvivoblrada.gov.ua/the-structure/deputatski-frakciji-ta-grupi-1 | X10: yes | Y10: https://www.mk-oblrada.gov.ua/sklad-postiynyh-komisiy | Z10: yes | AA10: http://oblrada.odessa.gov.ua/pro-oblasnu-radu/deputatskyj-korpus/postijni-komisiyi/ | AB10: yes | AC10: http://oblrada-pl.gov.ua/index.php?option=com_content&view=article&id=3613&Itemid=173 | AD10: yes | AE10: http://oblrada.rv.ua/sklad_struktura/komisii.php | AF10: yes | AG10: https://sorada.gov.ua/pro-oblasnu-radu/34-about-sumy-oblast-council/15701-spysok-deputativ-sumskoji-oblasnoji-rady-somogo-sklykannja.html | AH10: yes | AI10: http://te-rada.org/user/#&type=4 | AJ10: yes | AK10: http://www.oblrada.kharkov.ua/ua/deputies/commission | AL10: yes | AM10: http://khor.gov.ua/postijni-komisiyi-oblasnoyi-rady/ | AN10: yes | AO10: http://km-oblrada.gov.ua/members-of-the-seventh-convocation/ | AP10: yes | AQ10: https://www.oblradack.gov.ua/sklad-postynyh-komisij | AR10: yes | AS10: http://oblrada.cv.ua/structure/commissions/ | AT10: yes | AU10: https://chor.gov.ua/oblasna-rada/postijni-komisiji
A11: R19010 | B11: Q10 | C11: Is the information on the contact details of the Regional Council executive body and names of its members published on the Regional Council website? | D11: yes | E11: http://www.vinrada.gov.ua/zagalniy_spisok_pracivnikiv.htm | F11: yes | G11: http://volynrada.gov.ua/aparat | H11: yes | I11: https://oblrada.dp.gov.ua/category/oblasna-rada/vikon-aparat/ | J11: yes | K11: https://zt.gov.ua/index.php/oblasna-rada/struktura-ta-personi/vikonavchij-aparat.html | L11: yes | M11: https://zakarpat-rada.gov.ua/oblasna-rada/vykonavchyj-aparat/ | N11: yes | O11: http://zor.gov.ua/viddili | P11: yes | Q11: "Regional Council - Executive Office" section | R11: yes | S11: https://kor.gov.ua/sklad_rady/vykonavchyi _aparat.html | T11: yes | U11: https://oblrada.kr.ua/vikonavchij-aparat | V11: yes | W11: https://mail.lvivoblrada.gov.ua/the-structure/struktura-aparatu | X11: yes | Y11: https://www.mk-oblrada.gov.ua/vykonavchyy-aparat | Z11: yes | AA11: http://oblrada.odessa.gov.ua/pro-oblasnu-radu/aparat-oblasnoyi-rady/struktura-aparatu/ | AB11: yes | AD11: yes | AE11: http://oblrada.rv.ua/sklad_struktura/vikonavchiy_aparat/ | AF11: yes | AG11: https://sorada.gov.ua/pro-oblasnu-radu/34-about-sumy-oblast-council.html | AH11: yes | AI11: http://te-rada.org/?id=64 | AJ11: yes | AK11: http://www.oblrada.kharkov.ua/ua/board-structure/executive-body | AL11: yes | AM11: http://khor.gov.ua/radnyky-golovy-hersonskoyi-oblasnoyi-rady-na-gromadskyh-zasadah/ | AN11: yes | AO11: http://km-oblrada.gov.ua/postijni-komisi%D1%97/vii-sklikannya/ | AP11: yes | AQ11: https://www.oblradack.gov.ua/aparat-radi-telefonniy-dovdnik-0 | AR11: yes | AS11: http://oblrada.cv.ua/structure/machineries/ | AT11: yes | AU11: https://chor.gov.ua/oblasna-rada/vikonavchiy-aparat/spisok-pratsivnikiv
A12: R19011 | B12: Q11 | C12: Is the information on convening the session published on the Regional Council website no later than 10 days prior to the session in user-friendly access (e.g. in a separate section)? | D12: yes | E12: http://www.vinrada.gov.ua/grafik-provedennya-zasidan-postijnih-komisij.htm | F12: yes | G12: http://volynrada.gov.ua/actualna-informacia/24-zhovtnya-chergova-sesiya-oblasnoyi-radi | H12: no | J12: yes | K12: http://zt.gov.ua/ | L12: yes | M12: https://zakarpat-rada.gov.ua/category/rozporyadzhennya/ | N12: yes | O12: http://zor.gov.ua "Events and Publications" section | P12: yes | Q12: http://orada.if.ua/news/ | R12: yes | S12: https://kor.gov.ua/pres-tsentr/podii.html | T12: yes | U12: http://www.oblrada.kirovograd.ua/ "Announcements", "Important" section | V12: yes | W12: https://mail.lvivoblrada.gov.ua/plenary-sessions/poryadok-dennii-1 https://mail.lvivoblrada.gov.ua/news/u-vivtorok-29-zhovtnya-vidbudetsya-ii-plenarne-zasidannya-hh-chergovoji-sesiji-oblasnoji-radi | X12: yes | Y12: Published on the main webpage http://mk-oblrada.gov.ua/ | Z12: yes | AA12: http://oblrada.odessa.gov.uadokumenty/rozporyadzhennya/ | AB12: yes | AC12: http://oblrada-pl.gov.ua/index.php?option=com_content&view=article&id=10469&Itemid=37 | AD12: yes | AE12: "Announcements of events" section on http://www.oblrada.rv.ua/ | AF12: yes | AG12: https://sorada.gov.ua/novyny-mistsevyh-rad/37-plan-zahodiv.html | AH12: yes | AI12: http://te-rada.org/list/?t=4&s=rada | AJ12: yes | AK12: http://www.oblrada.kharkov.ua/ua/press-center/anonsy/anonsy-all/22800-plan-osnovnikh-zakhodiv-kharkivskoji-oblasnoji-radi-ta-jiji-vikonavchogo-aparatu-z-28-zhovtnya-po-03-listopada-2019-roku | AL12: yes | AM12: https://drive.google.com/ | AN12: yes | AO12: http://km-oblrada.gov.ua/wp-content/uploads/2019/10/Rozpor-pro-sklik-29-sesii.pdf | AP12: yes | AQ12: https://www.oblradack.gov.ua/ https://www.oblradack.gov.ua/rozporyadzhennya-pro-sklikannya-sesy-oblasnoyi-radi https://www.oblradack.gov.ua/rozporyadzhennya-pro-sklikannya-sesy-oblasnoyi-radi | AR12: yes | AS12: http://oblrada.cv.ua/news/ | AT12: yes | AU12: https://chor.gov.ua/nasha-diyalnist/anonsi/item/8148-uvaha-sklykaietsia-visimnadtsiata-sesiia-oblasnoi-rady-somoho-skl ; https://chor.gov.ua/nasha-diyalnist/anonsi/item/8525-uvaha-sklykaietsia-visimnadtsiata-sesiia-oblasnoi-rady-somoho-s
A13: R19012 | B13: Q12 | C13: Are the preparatory materials to all sessions (including agenda, draft documents for approval) published on the Regional Council website at least two days before the meeting? | D13: yes | E13: http://www.vinrada.gov.ua/proekti_rishen.htm | F13: yes | G13: http://volynrada.gov.ua/projects | H13: no | J13: no | L13: yes | M13: https://zakarpat-rada.gov.ua/category/proekty-rishennya/ | N13: yes | O13: http://zor.gov.ua/content/proekty-rishen-do-rozglyadu-na-sesiyi ; http://zor.gov.ua/content/arhiv-proektiv-rishen | P13: yes | Q13: http://www.orada.if.ua/проєкти-рішень/ | R13: yes | S13: https://kor.gov.ua/robota_rady/proekty_rishen.html | T13: no | V13: yes | W13: https://www.lvivoblrada.gov.ua/plenary-sessions/poryadok-dennii-1 https://www.lvivoblrada.gov.ua/plenary-sessions/proekti-rishen/proekti-rishen-pidgotovlenni-dlya-rozglyadu https://www.lvivoblrada.gov.ua/plenary-sessions/proekti-rishen-iniciativa/iniciativa-deputata-grupi-deputativ https://www.lvivoblrada.gov.ua/plenary-sessions/proekti-rishen-iniciativa/iniciativa-vikonavchih-organiv-vladi https://www.lvivoblrada.gov.ua/plenary-sessions/proekti-rishen-iniciativa/iniciativa-pidrozdiliv-oblasnoji-radi | X13: no | Z13: yes | AA13: http://oblrada.odessa.gov.ua/dokumenty/proekty-rishen-2/ | AB13: yes | AC13: http://oblrada-pl.gov.ua/index.php?option=com_content&view=article&id=10469&Itemid=37 | AD13: yes | AE13: http://oblrada.rv.ua/documents/proekty_rishen_oblasnoyi_rady/ | AF13: no | AH13: yes | AI13: According to the test version of the portal | AJ13: yes | AK13: http://www.ts.lica.com.ua/?type=0&base=77&menu=377376&id=2538 | AL13: yes | AM13: http://khor.gov.ua/proekty-rishen/ | AN13: yes | AO13: http://km-oblrada.gov.ua/proekti-rishen/ | AP13: yes | AQ13: https://www.oblradack.gov.ua/poryadki-denn-zasdan-postynih-komsy-proekt | AR13: no | AT13: yes | AU13: https://chor.gov.ua/normativni-dokumenti/proekti-regulyatornih-aktiv-ta-rishen
A14: R19013 | B14: Q13 | C14: Are the materials as well as minutes of the meetings and the results of roll-call votes of the Regional Council sessions published on the Regional Council website? | D14: yes | E14: http://www.vinrada.gov.ua/protokoli-ta-visnovki-21.htm | F14: yes | G14: http://volynrada.gov.ua/session http://volynrada.gov.ua/protocoltext http://volynrada.gov.ua/golos http://volynrada.gov.ua/all-solutions?calling=6&committees=All | H14: yes | I14: https://oblrada.dp.gov.ua/plenarn%d1%96-zas%d1%96dannja/protokoli-ses%d1%96j/ | J14: yes | K14: https://zt.gov.ua/index.php/27-%D1%81%D0%B5%D1%81%D1%96%D1%8F-08-10-2019/%D0%BF%D1%80%D0%BE%D1%82%D0%BE%D0%BA%D0%BE%D0%BB-%D1%81%D0%B5%D1%81%D1%96%D1%97.html | L14: yes | M14: https://zakarpat-rada.gov.ua/normatyvni-dokumenty/rishennya-rady/vii-sklykannya/16-sesiya-26-09-2019/ | N14: yes | O14: http://zor.gov.ua/content/trydcyat-druga-sesiya-somogo-sklykannya | P14: yes | Q14: http://www.orada.if.ua/протоколи-сесій/, http://www.orada.if.ua/результати-поіменних голосувань/ | R14: yes | S14: https://kor.gov.ua/robota_rady/rezultaty _holosuvannia.html | T14: yes | U14: https://oblrada.kr.ua/protokoli-plenarnih-zasidan | V14: yes | W14: https://mail.lvivoblrada.gov.ua/plenary-sessions/rezultati-golosuvannya https://mail.lvivoblrada.gov.ua/plenary-sessions/protokoli-sesii | X14: yes | Y14: https://www.mk-oblrada.gov.ua/protokoly-plenarnyh-zasidan | Z14: yes | AA14: http://oblrada.odessa.gov.ua/dokumenty/protokoly/; http://oblrada.odessa.gov.ua/dokumenty/rezultaty-golosuvannya/ | AB14: yes | AC14: http://oblrada-pl.gov.ua/index.php?option=com_content&view=category&id=86&Itemid=201 | AD14: yes | AE14: http://oblrada.rv.ua/documents/protokoly_zasidan_rady/index.php?SECTION_ID=170&PAGEN_1=2 http://oblrada.rv.ua/documents/rezultati_poimennogo_golosuvannya/ | AF14: yes | AG14: https://sorada.gov.ua/dokumenty-oblrady.html | AH14: yes | AI14: According to the test version of the portal | AJ14: yes | AK14: http://www.ts.lica.com.ua/?type=0&base=77&menu=373666&id=1489 | AL14: yes | AM14: http://khor.gov.ua/rezultaty-rozglyadu-pytan-poryadku-dennogo-hersonskoyi-oblasnoyi-rady-vii-sklykannya/ | AN14: yes | AO14: http://km-oblrada.gov.ua/vii-sklikannya/ | AP14: yes | AQ14: https://www.oblradack.gov.ua/protokoli-zasdan-postynih-komsy | AR14: yes | AS14: http://oblrada.cv.ua/document/list/section/99/ | AT14: yes | AU14: https://chor.gov.ua/normativni-dokumenti/protokoli-sesij/itemlist/category/234-7-sklikannya ; https://chor.gov.ua/normativni-dokumenti/rishennya/item/8284-rezultaty-poimennoho-holosuvannia ; https://chor.gov.ua/normativni-dokumenti/rishennya/item/8605-rezultaty-poimennoho-holosuvannia
A15: R19014 | B15: Q14 | C15: Are materials as well as audio/video recording of the meetings published on the Regional Council? | D15: yes | E15: http://www.vinrada.gov.ua/audio-ta-videozapis-10.htm | F15: yes | G15: http://volynrada.gov.ua/protocol http://volynrada.gov.ua/all_video https://www.youtube.com/channel/UCzXdX9qa3ZqSSILGMlwezQA | H15: yes | I15: https://oblrada.dp.gov.ua/videogallery/ http://212.3.96.115/protocol https://oblrada.dp.gov.ua/plenarnі-zasіdannja/rezultati-poіmennogo-golosuvannja/ | J15: yes | K15: https://zt.gov.ua/index.php/27-%D1%81%D0%B5%D1%81%D1%96%D1%8F-08-10-2019/%D0%B5%D0%BB%D0%B5%D0%BA%D1%82%D1%80%D0%BE%D0%BD%D0%BD%D0%B8%D0%B9-%D0%BF%D1%80%D0%BE%D1%82%D0%BE%D0%BA%D0%BE%D0%BB-%D0%BF%D0%BE%D1%96%D0%BC%D0%B5%D0%BD%D0%BD%D0%BE%D0%B3%D0%BE-%D0%B3%D0%BE%D0%BB%D0%BE%D1%81%D1%83%D0%B2%D0%B0%D0%BD%D0%BD%D1%8F.html https://zt.gov.ua/index.php/27-%D1%81%D0%B5%D1%81%D1%96%D1%8F-08-10-2019/%D0%BF%D1%80%D0%BE%D1%82%D0%BE%D0%BA%D0%BE%D0%BB-%D1%81%D0%B5%D1%81%D1%96%D1%97.html | L15: no | N15: yes | O15: http://zor.gov.ua/content/videotranslyaciya-32-yi-chergovoyi-sesiyi-zaporizkoyi-oblasnoyi-rady | P15: no | R15: no | T15: yes | U15: https://oblrada.kr.ua/sesijna-diyalnist | V15: yes | W15: http://archieve.oblrada.lviv.ua/index.php?option=com_content&view=article&id=159&Itemid=91 | X15: yes | Y15: https://www.mk-oblrada.gov.ua/pishennya-oblasnoi-rady?group_id=187 | Z15: yes | AA15: http://oblrada.odessa.gov.ua/dokumenty/stenogramy/ | AB15: no | AD15: yes | AE15: http://oblrada.rv.ua/documents/protokoly_zasidan_rady/index.php?SECTION_ID=170&PAGEN_1=2 | AF15: yes | AG15: https://sorada.gov.ua/dokumenty-oblrady/5-sklykannja.html https://sorada.gov.ua/dokumenty-oblrady/6-sklykannja.html https://sorada.gov.ua/dokumenty-oblrady/7-sklykannja.html | AH15: yes | AI15: http://te-rada.org/meeting/ | AJ15: partially | AK15: http://www.ts.lica.com.ua/?type=0&base=77&menu=377252&id=2522; http://www.oblrada.kharkov.ua/ua/press-center/video/332-plenarni-zasidannia-kharkivskoi-oblasnoi-rady | AL15: yes | AM15: http://khor.gov.ua/rezultaty-rozglyadu-pytan-poryadku-dennogo-hersonskoyi-oblasnoyi-rady-vii-sklykannya/ | AN15: yes | AO15: http://km-oblrada.gov.ua/videotranslyaciya-zasidan-sesij-oblasnoi-radi/ | AP15: no | AR15: yes | AS15: http://oblrada.cv.ua/video/ http://oblrada.cv.ua/photoreports/ | AT15: no
A16: R19015 | B16: Q15 | C16: Are materials of the Regional Council standing committees published on the Regional Council website (including transcripts, audio/video recording of the meetings, minutes of the meetings and the results of roll-call votes)? | D16: partially | E16: http://www.vinrada.gov.ua/protokoli-ta-visnovki-21.htm | F16: yes | G16: http://volynrada.gov.ua/all_video https://www.youtube.com/channel/UCzXdX9qa3ZqSSILGMlwezQA http://volynrada.gov.ua/standing_committees/postiina-komisiya-z-pitan-osviti-nauki-informatsiinogo-prostoru-kulturi-ta-movi-0 | H16: yes | I16: https://oblrada.dp.gov.ua/category/komissions/komis-soc-econom/ | J16: yes | K16: https://zt.gov.ua/index.php/oblasna-rada/struktura-ta-personi/postijni-komisiji/185-postijna-komisiya-z-pitan-byudzhetu-i-komunalnoji-vlasnosti.html https://zt.gov.ua/index.php/oblasna-rada/struktura-ta-personi/postijni-komisiji.html | L16: yes | M16: https://zakarpat-rada.gov.ua/normatyvni-dokumenty/publichna-informatsija/dostup-do-publichnoji-informatsiji/protokoly-zasidan/protokoly-komisij/ | N16: yes | O16: http://zor.gov.ua/content/protokoly-postiynyh-komisiy-7-sklykannya ; http://zor.gov.ua/node/1520/ | P16: yes | Q16: http://www.orada.if.ua/протоколи-засідань-постійних-комісі/ | R16: yes | S16: https://kor.gov.ua/robota_rady/zasidannia_komisii.html | T16: yes | U16: https://oblrada.kr.ua/videozapisi-zasidan | V16: yes | W16: https://mail.lvivoblrada.gov.ua/activity/postiini-komisiji-oblasnoji-radi/protokoli-postiinih-komisii | X16: yes | Y16: https://www.mk-oblrada.gov.ua/dokumenty-postiynyh-komisiy | Z16: yes | AA16: http://oblrada.odessa.gov.ua/pro-oblasnu-radu/deputatskyj-korpus/postijni-komisiyi/ | AB16: yes | AC16: http://oblrada-pl.gov.ua/index.php?option=com_content&view=category&id=88:vii-sklikannja&Itemid=130&layout=default | AD16: yes | AE16: http://oblrada.rv.ua/documents/rekomendats/index.php?SECTION_ID=100 | AF16: yes | AG16: https://sorada.gov.ua/dokumenty-oblrady/protokoly/protocols-commissions.html | AH16: yes | AI16: http://te-rada.org/document/ | AJ16: partially | AK16: http://www.oblrada.kharkov.ua/ua/public-information/protocols-of-standing-committees | AL16: yes | AM16: http://khor.gov.ua/protokoly-zasidan-postijnyh-komisij-hersonskoyi-oblasnoyi-rady-vii-sklykannya-ta-vysnovky-i-rekomendatsiyi/ | AN16: yes | AO16: http://km-oblrada.gov.ua/postijni-komisi%d1%97/vii-sklikannya/protokoli-postijnix-komisij/ | AP16: yes | AQ16: https://www.oblradack.gov.ua/protokoli-zasdan-postynih-komsy | AR16: yes | AS16: http://oblrada.cv.ua/photoreports/ | AT16: yes | AU16: https://chor.gov.ua/protokoli-ta-rekomendatsiji-postijnikh-komisij
A17: R19016 | B17: Q16 | C17: Are the Regional Council decisions published on the Regional Council website? | D17: yes | E17: http://www.vinrada.gov.ua/rishennya-5.htm | F17: yes | G17: http://volynrada.gov.ua/session | H17: yes | I17: https://oblrada.dp.gov.ua/category/news/ https://oblrada.dp.gov.ua/category/documents/проекти-рішень/proeki-rishen/ | J17: no | L17: yes | M17: https://zakarpat-rada.gov.ua/normatyvni-dokumenty/rishennya-rady/ | N17: yes | O17: http://zor.gov.ua/sessii_ta_rishenya_radi | P17: yes | Q17: http://www.orada.if.ua/рішення-обласної-ради/ | R17: yes | S17: https://kor.gov.ua/robota_rady/rishennia.html | T17: no | V17: yes | W17: http://www.oblrada.lviv.ua/%D1%80%D1%96%D1%88%D0%B5%D0%BD%D0%BD%D1%8F_vii_%D1%81%D0%BA%D0%BB%D0%B8%D0%BA%D0%B0%D0%BD%D0%BD%D1%8F_428categ.html | X17: no | Z17: yes | AA17: http://oblrada.odessa.gov.ua/dokumenty/rishennya/ | AB17: yes | AC17: http://oblrada-pl.gov.ua/index.php?option=com_content&view=article&id=11457:rozpochalosja-druge-plenarne-zasidannja-dvadtsjat-somoyi-sesiyi-oblasnoyi-radi&catid=1:latest-news&Itemid=50 | AD17: yes | AE17: http://oblrada.rv.ua/documents/rekomendats/index.php?SECTION_ID=100 | AF17: no | AH17: yes | AI17: http://te-rada.org/document/ | AJ17: no | AL17: yes | AM17: http://khor.gov.ua/rishennia-sesij-khersonskoi-oblasnoi-rady/ | AN17: yes | AO17: http://km-oblrada.gov.ua/rishennya-sesiy/ | AP17: yes | AQ17: https://www.oblradack.gov.ua/ostanni-rishennya-sesyi | AR17: no | AT17: yes | AU17: https://chor.gov.ua/normativni-dokumenti/rishennya/itemlist/category/231-7-sklikannya
A18: R19017 | B18: Q17 | C18: Are the regular reports on the work of the head of the Regional Council published on the Regional Council website (at least annually)? | D18: yes | E18: http://www.vinrada.gov.ua/dodatok-do-proektu-rishennya-pro-zvit-golovi-oblasnoi-radi-olijnika-ad-video.htm | F18: yes | G18: http://volynrada.gov.ua/session/23/2-1 http://volynrada.gov.ua/session/19/2-0 http://volynrada.gov.ua/session/10/3-0 | H18: no | I18: https://oblrada.dp.gov.ua/oblasna-rada/kerivnitstvo/пригунов-гліб-олександрович/ | J18: yes | K18: https://zt.gov.ua/index.php/news/13553-%D0%B2%D0%BE%D0%BB%D0%BE%D0%B4%D0%B8%D0%BC%D0%B8%D1%80-%D1%88%D0%B8%D1%80%D0%BC%D0%B0-%D0%B2%D1%96%D0%B4%D0%B7%D0%B2%D1%96%D1%82%D1%83%D0%B2%D0%B0%D0%B2-%D0%B7%D0%B0-%D0%B2%D0%B8%D0%BA%D0%BE%D0%BD%D0%B0%D0%BD%D1%83-%D1%80%D0%BE%D0%B1%D0%BE%D1%82%D1%83-%D1%83-2018-%D1%80%D0%BE%D1%86%D1%96.html | L18: yes | M18: https://zakarpat-rada.gov.ua/normatyvni-dokumenty/rishennya-rady/vii-sklykannya/13-sesiya-13-12-2018/ | N18: yes | O18: http://zor.gov.ua/sites/default/files/rishennya/07_22_28.zip | P18: yes | Q18: http://www.orada.if.ua/обласна-рада/звіти-голови/ | R18: yes | S18: https://kor.gov.ua/pres-tsentr/novyny.html | T18: yes | U18: https://oblrada.kr.ua/uploads/tiny/documents/rizne/Zvit_golovu_za_2018.pdf | V18: yes | W18: https://mail.lvivoblrada.gov.ua/activity/deputatska-diyalnist/zvit-deputata-pro-provedenu-robotu | X18: yes | Y18: https://www.mk-oblrada.gov.ua/search-result.php | Z18: yes | AA18: http://oblrada.odessa.gov.ua/pro-oblasnu-radu/deputatskyj-korpus/zvity/ | AB18: yes | AC18: http://oblrada-pl.gov.ua/index.php?option=com_content&view=article&id=10687&Itemid=226 | AD18: yes | AE18: http://oblrada.rv.ua/sklad_struktura/kerivnictvo.php?SECTION_ID=27&ELEMENT_ID=15961 | AF18: yes | AG18: https://docs.google.com/viewer?url=https://sorada.gov.ua/dokumenty-oblrady/7-sklykannja/category/170-19-session-7-skl.html?download=6549%3A19-session-267-skl | AH18: yes | AI18: According to the test version of the portal | AJ18: yes | AK18: http://www.oblrada.kharkov.ua/ua/board-structure/direction/602-chernov-serhiy-ivanovych | AL18: no | AN18: yes | AO18: http://km-oblrada.gov.ua/zvit-golovi-oblasnoi-radi-zagorodnog/?hilite=%27%D0%97%D0%B2%D1%96%D1%82%27 | AP18: yes | AQ18: https://www.oblradack.gov.ua/ostanni-rishennya-sesyi | AR18: yes | AS18: http://oblrada.cv.ua/document/list/section/29/ | AT18: yes | AU18: https://chor.gov.ua/nasha-diyalnist/publikatsiji/item/6184-detsentralizatsiia-vlady-ta-reformuvannia-orhaniv-mistsevoho-samo ; https://chor.gov.ua/nasha-diyalnist/publikatsiji/item/7940-cherez-strukturne-reformuvannia-ta-detsentralizatsiiu-vlady-do-ek ; https://chor.gov.ua/2012-07-25-11-44-50
A19: R19018 | B19: Q18 | C19: Are the reports on the processing of requests for public information published periodically (at least annually) on the Regional Council website? | D19: yes | E19: https://vinrada.gov.ua/zviti-za-2019-r.htm | F19: yes | G19: http://volynrada.gov.ua/node/26153 | H19: yes | I19: https://oblrada.dp.gov.ua/publichna-informatsia/ | J19: yes | K19: https://zt.gov.ua/index.php/ofitsijni-dokumenti/dostup-do-publichnoji-informatsiji/2012-09-24-21-09-36.html | L19: no | N19: yes | O19: http://zor.gov.ua/content/dostup-do-publichnoyi-informaciyi | P19: yes | Q19: http://www.orada.if.ua/%D0%B7%D0%B2%D1%96%D1%82-%D0%BF%D1%80%D0%BE-%D0%B2%D0%B8%D0%BA%D0%BE%D0%BD%D0%B0%D0%BD%D0%BD%D1%8F%D0%B8%D1%82%D1%96%D0%B2/ | R19: yes | S19: https://kor.gov.ua/pres-tsentr/novyny.html | T19: yes | U19: https://oblrada.kr.ua/zvit-pro-rozglyad-zapitiv-pro-dostup-do-publichnoi-informatsii | V19: yes | W19: https://mail.lvivoblrada.gov.ua/the-public-information/zviti-1 | X19: yes | Y19: https://www.mk-oblrada.gov.ua/zvity-pro-robotu-iz-zapytamy-na-informatsiyu | Z19: yes | AA19: http://oblrada.odessa.gov.ua/zvernennya-gromadyan/statyctychni-dani/ | AB19: yes | AC19: http://oblrada-pl.gov.ua/index.php?option=com_content&view=category&layout=blog&id=96&Itemid=217 | AD19: yes | AE19: http://oblrada.rv.ua/documents/public_information.php | AF19: no | AH19: yes | AI19: http://te-rada.org/list/?t=25&s=rada | AJ19: no | AL19: no | AN19: yes | AO19: http://km-oblrada.gov.ua/zviti-shhodo-zadovolennya-zapitiv-na-inf/ | AP19: yes | AQ19: https://www.oblradack.gov.ua/rozdl-zvti | AR19: yes | AS19: http://oblrada.cv.ua/document/pub_info/ | AT19: yes | AU19: https://chor.gov.ua/zv-yazki-z-gromadskistyu/item/113-zviti
A20: R19019 | B20: Q19 | C20: Is the information on the approved socio-economic and cultural development programs, target programs, as well as reports on their implementation published on the Regional Council website? | D20: yes | E20: http://www.vinrada.gov.ua/perelik_dovgostrokovih_program.htm http://www.vinrada.gov.ua/zvit_pro_vikonannya_zahodiv_oblasnih_program.htm | F20: yes | G20: http://volynrada.gov.ua/node/29409 http://volynrada.gov.ua/programs | H20: yes | I20: http://212.3.96.115/region-programmes | J20: yes | K20: https://zt.gov.ua/index.php/ofitsijni-dokumenti/%D0%BE%D0%B1%D0%BB%D0%B0%D1%81%D0%BD%D1%96-%D0%BF%D1%80%D0%BE%D0%B3%D1%80%D0%B0%D0%BC%D0%B8/%D0%BF%D0%B5%D1%80%D0%B5%D0%BB%D1%96%D0%BA-%D0%BE%D0%B1%D0%BB%D0%B0%D1%81%D0%BD%D0%B8%D1%85-%D0%BF%D1%80%D0%BE%D0%B3%D1%80%D0%B0%D0%BC.html https://zt.gov.ua/index.php/ofitsijni-dokumenti/%D0%BE%D0%B1%D0%BB%D0%B0%D1%81%D0%BD%D1%96-%D0%BF%D1%80%D0%BE%D0%B3%D1%80%D0%B0%D0%BC%D0%B8/%D1%85%D1%96%D0%B4-%D0%B2%D0%B8%D0%BA%D0%BE%D0%BD%D0%B0%D0%BD%D0%BD%D1%8F-%D0%BE%D0%B1%D0%BB%D0%B0%D1%81%D0%BD%D0%B8%D1%85-%D0%BF%D1%80%D0%BE%D0%B3%D1%80%D0%B0%D0%BC.html | L20: yes | M20: https://zakarpat-rada.gov.ua/normatyvni-dokumenty/rishennya-rady/ | N20: yes | O20: http://zor.gov.ua/content/perelik-naboriv-danyh-shcho-pidlyagayut-oprylyudnennyu-u-formi-vidkrytyh-danyh | P20: yes | Q20: http://www.orada.if.ua/wp-content/uploads/2019/04/perelik_program_2019.pdf | R20: yes | S20: https://kor.gov.ua/pres-tsentr/novyny.html | T20: yes | U20: https://oblrada.kr.ua/diyuchi-oblasni-programi | V20: yes | W20: https://mail.lvivoblrada.gov.ua/oblasni-programi/programi-2019-roku | X20: yes | Y20: https://www.mk-oblrada.gov.ua/oblasni-programy | Z20: yes | AA20: http://oblrada.odessa.gov.ua/odeska-oblast/strategichni-ta-programni-dokumenty-oblasti/perelik-diyuchyh-regionalnyh-tsilovyh-ta-kompleksnyh-program-odeskoyi-oblasti/ | AB20: yes | AC20: http://oblrada-pl.gov.ua/index.php?option=com_content&view=article&id=11398:oleksandr-bilenkij-liderstvo-tse-intuyitivnij-ruh-vpered-z-velikimi-viklikami-do-sebe&catid=1:latest-news&Itemid=50 | AD20: yes | AE20: http://oblrada.rv.ua/documents/oblprogram/oblprogram.php http://oblrada.rv.ua/documents/oblprogram/zvit.php | AF20: yes | AG20: https://sorada.gov.ua/dokumenty-oblrady/proekty-rishen/category/68-proekty-rishen.html | AH20: yes | AI20: http://te-rada.org/?id=300 | AJ20: no | AL20: yes | AM20: http://khor.gov.ua/vidkryti-dani/ | AN20: yes | AO20: http://km-oblrada.gov.ua/programi-regionalnogo-rozvitku/ | AP20: yes | AQ20: https://www.oblradack.gov.ua/oblasn-programi https://www.oblradack.gov.ua/materiali-chergovoyi-sesyi-oblasnoyi-radi https://www.oblradack.gov.ua/ostanni-rishennya-sesyi | AR20: yes | AS20: http://oblrada.cv.ua/passport/8 | AT20: yes | AU20: https://chor.gov.ua/oblasni-programi/item/6525-chynni-oblasni-prohramy-zizminamy
A21: R19020 | B21: Q20 | C21: Is the basic information about the region published on the Regional Council website (administrative-territorial structure, culture, nature, etc.)? | D21: yes | E21: https://vinrada.gov.ua/pasport_oblasti.htm | F21: yes | G21: http://volynrada.gov.ua/general-information | H21: yes | I21: https://oblrada.dp.gov.ua/region/passport-oblasti/ | J21: yes | K21: http://zt.gov.ua/index.php/zhitomirshchina/pro-nash-kraj/vizitivka-oblasti.html | L21: yes | M21: https://zakarpat-rada.gov.ua/zakarpattya/ | N21: yes | O21: http://zor.gov.ua/zap-krai | P21: no | R21: yes | S21: https://kor.gov.ua/kyivska_oblast/pro_oblast.html | T21: yes | U21: https://oblrada.kr.ua/administrativno-teritorialnij-ustrij | V21: yes | W21: http://www.oblrada.lviv.ua/%D0%BF%D0%B0%D1%81%D0%BF%D0%BE%D1%80%D1%82_%D0%BB%D1%8C%D0%B2%D1%96%D0%B2%D1%81%D1%8C%D0%BA%D0%BE%D1%97_%D0%BE%D0%B1%D0%BB%D0%B0%D1%81%D1%82%D1%96_394cms.htm | X21: yes | Y21: https://www.mk-oblrada.gov.ua/pro-oblast | Z21: yes | AA21: http://oblrada.odessa.gov.ua/odeska-oblast/pasport-oblasti/; http://oblrada.odessa.gov.ua/odeska-oblast/administratyvno-terytorialnij-ustrij/ | AB21: yes | AC21: http://oblrada-pl.gov.ua/index.php?option=com_content&view=category&id=43&Itemid=79 | AD21: yes | AE21: http://oblrada.rv.ua/mistseve_samovryaduvannya/pasport_oblasti/ http://oblrada.rv.ua/mistseve_samovryaduvannya/admin_ustrij.php | AF21: yes | AG21: https://sorada.gov.ua/pro-sumsku-oblast.html | AH21: yes | AI21: http://te-rada.org/?id=45 | AJ21: yes | AK21: http://www.oblrada.kharkov.ua/ua/kharkiv-region | AL21: no | AM21: uk.wikipedia.org/wiki/Херсонська_область | AN21: yes | AO21: http://km-oblrada.gov.ua/xmelnicka-oblast/ | AP21: yes | AQ21: https://www.oblradack.gov.ua/geografichne-pologennja https://www.oblradack.gov.ua/istoria https://www.oblradack.gov.ua/symvolika https://www.oblradack.gov.ua/naselennja https://www.oblradack.gov.ua/administratyvno-teretorialnij-ustrij https://www.oblradack.gov.ua/istorychni-ta-kulturni-obekty | AR21: yes | AS21: http://oblrada.cv.ua/passport/ | AT21: yes | AU21: https://chor.gov.ua/nash-kray/administrativno-teritorialniy-ustriy ; https://chor.gov.ua/nash-kray/istoriya ; https://chor.gov.ua/nash-kray/vidatni-osobistosti
A22: R19021 | B22: Q21 | C22: Is the procedure for the public access to the Regional Council sessions published in the user-friendly access on the Regional Council website? | D22: yes | E22: https://vinrada.gov.ua/poryadok-dostupu-do-sesijnoi-zali.htm | F22: yes | G22: http://volynrada.gov.ua/node/44694 | H22: yes | I22: https://oblrada.dp.gov.ua/oficiyni-documenti/reglament/ | J22: yes | K22: https://zt.gov.ua/index.php/news/13546-%D1%80%D0%BE%D0%B7%E2%80%99%D1%8F%D1%81%D0%BD%D0%B5%D0%BD%D0%BD%D1%8F-%D1%89%D0%BE%D0%B4%D0%BE-%D0%BF%D1%80%D0%B8%D1%81%D1%83%D1%82%D0%BD%D0%BE%D1%81%D1%82%D1%96-%D0%BF%D1%80%D0%B5%D0%B4%D1%81%D1%82%D0%B0%D0%B2%D0%BD%D0%B8%D0%BA%D1%96%D0%B2-%D0%B3%D1%80%D0%BE%D0%BC%D0%B0%D0%B4%D1%81%D1%8C%D0%BA%D0%BE%D1%81%D1%82%D1%96-%D0%BD%D0%B0-%D1%81%D0%B5%D1%81%D1%96%D1%8F%D1%85-%D0%BE%D0%B1%D0%BB%D0%B0%D1%81%D0%BD%D0%BE%D1%97-%D1%80%D0%B0%D0%B4%D0%B8.html | L22: yes | M22: https://zakarpat-rada.gov.ua/category/rozporyadzhennya/page/3/ | N22: no | P22: yes | R22: yes | S22: https://kor.gov.ua/pres-tsentr/akredytatsiia _predstavnykiv_zmi.html | T22: no | V22: no | X22: no | Z22: yes | AA22: http://oblrada.odessa.gov.ua/wp-content/uploads/Pravyla-propusknogo-rezhymu-2017-.pdf | AB22: no | AD22: yes | AE22: http://www.oblrada.rv.ua/documents/dostup_gromadyan.php http://oblrada.rv.ua/sklad_struktura/komisii.php | AF22: yes | AG22: https://sorada.gov.ua/pro-oblasnu-radu/reglament-roboty-oblasnoji-rady.html | AH22: yes | AI22: According to the test version of the portal | AJ22: yes | AK22: http://www.oblrada.kharkov.ua/ua/about-rada/regulations | AL22: yes | AM22: http://khor.gov.ua/zapyt-na-uchast-u-plenarnomu-zasidanni/ | AN22: yes | AO22: http://km-oblrada.gov.ua/dostup-do-publichnoi-informacii/ | AP22: yes | AQ22: https://www.oblradack.gov.ua/reglament-oblasnoyi-radi | AR22: no | AT22: yes | AU22: https://chor.gov.ua/normativni-dokumenti/reglament; https://chor.gov.ua/nasha-diyalnist/anonsi/item/7582-nahaduiemo-pro-poriadok-dostupu-osib-do-plenarnykh-zasidan-cherni
A23: R19022 | B23: Q22 | C23: Is there an instrument allowing the public to submit, track and sign electronic petitions to the Regional Council on the Regional Council website? | D23: yes | E23: https://vinrada.gov.ua/elektronni-peticii.htm | F23: yes | G23: https://e-dem.in.ua/volyn-or | H23: yes | I23: https://oblrada.dp.gov.ua/electronni-petisii/ | J23: yes | K23: https://e-dem.in.ua/zhytomyr-or | L23: no | N23: yes | O23: http://petition.zor.gov.ua | P23: yes | Q23: https://e-dem.in.ua/ivano-frankivsk-or | R23: yes | S23: https://petition.kor.gov.ua/ | T23: yes | U23: https://oblrada.kr.ua/elektronna-petitsiya | V23: yes | W23: https://e-dem.in.ua/lviv-or | X23: yes | Y23: https://e-dem.in.ua/mykolayiv-or | Z23: no | AB23: no | AD23: yes | AE23: http://oblrada.rv.ua/petition/ | AF23: yes | AG23: http://online.sorada.gov.ua/Account/LogOn?returnUrl=http%3A%2F%2Fonline.sorada.gov.ua%3A9006%2FRada%2FAccountUser%2FIndex | AH23: yes | AI23: http://petition.te-rada.org/petition | AJ23: yes | AK23: http://www.oblrada.kharkov.ua/petitions/ | AL23: yes | AM23: http://petition.khor.gov.ua/ | AN23: yes | AO23: http://km-oblrada.gov.ua/petici%d1%97/ | AP23: yes | AQ23: https://pt.oblradack.gov.ua/ | AR23: no | AT23: yes | AU23: https://e-dem.in.ua/chernihiv-or/
A24: R19023 | B24: Q23 | C24: Are the conditions for providing grants and funding of business projects from the regional budget to the regional residents published on the Regional Council website? | D24: yes | E24: https://vinrada.gov.ua/ogoloshennya-86.htm | F24: yes | G24: http://volynrada.gov.ua/actualna-informacia/konkurs-mistsevikh-initsiativ | H24: no | J24: no | L24: no | N24: no | P24: yes | Q24: http://www.orada.if.ua/конкурс-проектів-та-програм-місцевог/ | R24: yes | S24: https://kor.gov.ua/pres-tsentr/novyny.html | T24: no | V24: no | X24: no | Z24: yes | AA24: http://oblrada.odessa.gov.ua/pro-oblasnu-radu/do-vidoma-gromady/ | AB24: no | AD24: yes | AE24: http://oblrada.rv.ua/documents/provisions.php | AF24: yes | AG24: https://sorada.gov.ua/grants.html | AH24: no | AI24: Is not under the authority of the regional council | AJ24: yes | AK24: http://oblrada.kharkov.ua/ua/contests-grants/grants | AL24: yes | AM24: http://khor.gov.ua/oblasnyj-konkurs-proektiv-rozvytku/ | AN24: yes | AO24: https://microprojects.km-oblrada.gov.ua/ | AP24: no | AQ24: Is not under the authority of the regional council | AR24: no | AT24: yes | AU24: https://chor.gov.ua/oblasnij-konkurs-zhurnalistskikh-robit
A25: R19024 | B25: Q24 | C25: Is the information on the given grants and business projects financed from the regional budget published on the Regional Council website? | D25: yes | E25: https://vinrada.gov.ua/peremozhci-6.htm | F25: yes | G25: http://www.volynrada.gov.ua/news/reiting-proektiv-mistsevikh-initsiativ-konkursu-volinskoyi-oblasnoyi-radi | H25: no | J25: no | L25: no | N25: no | P25: no | R25: yes | S25: https://kor.gov.ua/pres-tsentr/novyny.html | T25: no | V25: no | X25: no | Z25: no | AB25: yes | AC25: http://oblrada-pl.gov.ua/grant/grant010618.pdf | AD25: yes | AE25: http://oblrada.rv.ua/documents/oblprogram/zvit.php | AF25: yes | AG25: https://sorada.gov.ua/grants.html | AH25: no | AI25: Is not under the authority of the regional council | AJ25: yes | AK25: http://www.oblrada.kharkov.ua/ua/contests-grants | AL25: no | AN25: yes | AO25: https://microprojects.km-oblrada.gov.ua/ | AP25: no | AQ25: Is not under the authority of the regional council | AR25: no | AT25: yes | AU25: https://chor.gov.ua/oblasnij-konkurs-zhurnalistskikh-robit
A26: R19025 | B26: Q25 | C26: Is the information on the completed and ongoing projects with foreign funding, implemented in the region (grant projects, international technical assistance projects), including reports on their implementation published on the Regional Council website? | D26: no | F26: yes | G26: http://volynrada.gov.ua/design | H26: no | J26: no | L26: yes | M26: https://zakarpat-rada.gov.ua/category/news/ | N26: no | P26: no | R26: yes | S26: https://kor.gov.ua/pres-tsentr/novyny.html | T26: no | V26: no | X26: no | Z26: yes | AA26: http://oblrada.odessa.gov.ua/pro-oblasnu-radu/napryamky-diyalnosti/mizhnarodna-diyalnist-ta-prykordonne-spivrobitnytstvo/ | AB26: no | AD26: yes | AE26: http://oblrada.rv.ua/documents/oblprogram/zvit.php | AF26: yes | AG26: https://sorada.gov.ua/grants.html | AH26: no | AI26: Is not under the authority of the regional council | AJ26: yes | AK26: http://www.oblrada.kharkov.ua/ua/contests-grants/grants | AL26: no | AN26: yes | AP26: no | AQ26: Is not under the authority of the regional council | AR26: no | AT26: no
A27: R19026 | B27: Q26 | C27: Is the information on the open educational and cultural competitions for participation of youth and citizens published on the Regional Council website? | D27: yes | E27: https://vinrada.gov.ua/rishennya-17.htm | F27: yes | G27: http://volynrada.gov.ua/awards/polozhennya-pro-oblasni-premiyi-za-zaslugi-u-sferi-nauki-i-osviti http://volynrada.gov.ua/awards/polozhennya-pro-poryadok-provedennya-konkursu-oblasnoyi-radi-sered-oblasnikh-raionnikh-miskik | H27: no | J27: yes | K27: https://zt.gov.ua/index.php/news/14300-%D0%B6%D0%B8%D1%82%D0%BE%D0%BC%D0%B8%D1%80-%D0%B2%D1%96%D0%B4%D0%B7%D0%BD%D0%B0%D1%87%D0%B0%D1%82%D0%B8%D0%BC%D0%B5-%D0%B4%D0%B5%D0%BD%D1%8C-%D0%B7%D0%B0%D1%85%D0%B8%D1%81%D0%BD%D0%B8%D0%BA%D0%B0-%D1%83%D0%BA%D1%80%D0%B0%D1%97%D0%BD%D0%B8.html | L27: yes | M27: https://zakarpat-rada.gov.ua/category/news/ | N27: yes | O27: http://www.zor.gov.ua/content/zaporizka-oblasna-rada-dlya-studentiv | P27: yes | Q27: http://www.orada.if.ua/конкурс-ініціатив-місцевих-карпатсь/ | R27: yes | S27: https://kor.gov.ua/pres-tsentr/novyny.html | T27: yes | U27: https://www.oblrada.kr.ua/importance/ogoloshuetsya-konkurs-na-zdobuttya-oblasnoi-literaturnoi-premii-imeni-evgena-malanyuka | V27: no | X27: no | Z27: yes | AA27: http://oblrada.odessa.gov.ua/pro-oblasnu-radu/konkursy-ta-nagorody/ | AB27: yes | AC27: http://oblrada-pl.gov.ua/index.php?option=com_content&view=article&id=10234&Itemid=218 | AD27: yes | AE27: http://oblrada.rv.ua/documents/oblprogram/oblprogram.php | AF27: yes | AG27: https://sorada.gov.ua/grants.html | AH27: no | AI27: http://te-rada.org/?id=300 Is not under the authority of the regional council | AJ27: yes | AK27: http://www.oblrada.kharkov.ua/ua/contests-grants | AL27: yes | AM27: http://khor.gov.ua/oblasnyj-konkurs-proektiv-gromadskyh-organizatsij/ | AN27: yes | AO27: http://km-oblrada.gov.ua/premii-oblasnoi-radi/ | AP27: no | AQ27: Is not under the authority of the regional council | AR27: no | AT27: yes | AU27: https://chor.gov.ua/nasha-diyalnist/anonsi/item/8707-uvaha-rozpochalasia-robota-po-pidhotovtsi-konkursu-festyvaliu-dyt ; https://chor.gov.ua/nasha-diyalnist/anonsi/item/8439-studentiv-vyshiv-chernihivshchyny-zaproshuiut-vsiaty-uchast-u-vse
A28: R19027 | B28: Q27 | C28: Is there a separate section in English on the Regional Council website, where the foreigners may find postal contact details, phone numbers of the Regional Council management in specific fields and the head of the Regional Council? | D28: yes | E28: http://www.vinrada.gov.ua/aktualno-205.htm | F28: no | H28: no | J28: no | L28: no | N28: yes | P28: yes | Q28: http://www.orada.if.ua/en/regional-council/contacts/ | R28: no | T28: no | V28: no | X28: no | Z28: no | AB28: no | AD28: yes | AE28: http://www.oblrada.rv.ua/sklad_struktura/vikonavchiy_aparat/ http://www.oblrada.rv.ua/mistseve_samovryaduvannya/pasport_oblasti/index.php?SECTION_ID=92&ELEMENT_ID=10016 | AF28: no | AH28: yes | AI28: According to the test version of the portal | AJ28: yes | AK28: http://www.oblrada.kharkov.ua/en/ | AL28: no | AN28: yes | AP28: no | AR28: no | AT28: yes | AU28: https://chor.gov.ua/oblasna-rada/kontakti
A29: R19028 | B29: Q28 | C29: Is the Regional Council procurement plan for the current period published on the Regional Council website? | D29: yes | E29: https://vinrada.gov.ua/richnij-plan-zakupivel-na-2019-rik.htm | F29: yes | G29: http://volynrada.gov.ua/procurement | H29: yes | I29: https://oblrada.dp.gov.ua/category/diyalnist/richni-plani-zakupivel/ | J29: no | L29: yes | M29: https://zakarpat-rada.gov.ua/derzhavni-zakupivli/ | N29: yes | O29: http://zor.gov.ua/content/derzhavni-zakupivli | P29: no | R29: yes | S29: https://kor.gov.ua/robota_rady/informatsiia.html | T29: yes | U29: https://www.oblrada.kr.ua/konkursni-torgi | V29: yes | W29: https://prozorro.gov.ua/tender/search?edrpou=25255072&edrpou=22340506 | X29: no | Z29: yes | AA29: http://oblrada.odessa.gov.ua/pro-oblasnu-radu/derzhavni-zakupivli/odeska-oblasna-rada/ | AB29: yes | AC29: http://oblrada-pl.gov.ua/ses/dz/2019.pdf | AD29: yes | AE29: http://oblrada.rv.ua/komunalna_vlasnist/konkursni_torgy/oblrada/index.php?SECTION_ID=165&ELEMENT_ID=14681&back_url_admin=%2Fbitrix%2Fadmin%2Fiblock_element_admin.php%3FIBLOCK_ID%3D2%26type%3Ddocuments%26lang%3Dua%26find_section_section%3D165 | AF29: yes | AG29: https://sorada.gov.ua/derzhavni-zakupivli.html | AH29: yes | AI29: http://te-rada.org/list/?t=35&s=rada | AJ29: yes | AK29: http://www.oblrada.kharkov.ua/ua/component/content/article/316-richnyi-plan-zakupivel/20918-richnij-plan-zakupivel-na-2019-rik?Itemid=1319 | AL29: no | AN29: yes | AO29: http://km-oblrada.gov.ua/derzhavni-zakupivli-orenda/ | AP29: no | AR29: no | AT29: no
A30: R19029 | B30: Q29 | C30: Are the procurement plans for 2014, 2015, 2016 published on the Regional Council website? | D30: yes | E30: https://vinrada.gov.ua/2018-rik-2.htm | F30: yes | G30: http://volynrada.gov.ua/procurement | H30: yes | I30: https://oblrada.dp.gov.ua/category/diyalnist/richni-plani-zakupivel/ | J30: yes | K30: https://zt.gov.ua/index.php/upravlinnya-majnom/%D0%B4%D0%B5%D1%80%D0%B6%D0%B0%D0%B2%D0%BD%D1%96-%D0%B7%D0%B0%D0%BA%D1%83%D0%BF%D1%96%D0%B2%D0%BB%D1%96/%D1%80%D1%96%D1%87%D0%BD%D0%B8%D0%B9-%D0%BF%D0%BB%D0%B0%D0%BD-%D0%B7%D0%B0%D0%BA%D1%83%D0%BF%D1%96%D0%B2%D0%BB%D1%96.html%D0%BF%D0%BB%D0%B0%D0%BD-%D0%B7%D0%B0%D0%BA%D1%83%D0%BF%D1%96%D0%B2%D0%BB%D1%96.html | L30: yes | M30: https://zakarpat-rada.gov.ua/derzhavni-zakupivli/ | N30: no | P30: no | R30: yes | S30: https://kor.gov.ua/robota_rady/informatsiia.html | T30: yes | U30: https://prozorro.gov.ua/plan/search?query=22223982&dateplan[plan_tender]=01.01.2019%E2%80%9431.12.2019 | V30: no | X30: yes | Y30: https://prozorro.gov.ua/tender/search?query=25696652 | Z30: yes | AA30: http://oblrada.odessa.gov.ua/pro-oblasnu-radu/derzhavni-zakupivli/odeska-oblasna-rada/ | AB30: yes | AC30: http://oblrada-pl.gov.ua/index.php?option=com_content&view=category&layout=blog&id=37&Itemid=65 | AD30: yes | AE30: http://oblrada.rv.ua/komunalna_vlasnist/konkursni_torgy/oblrada/ | AF30: yes | AG30: https://sorada.gov.ua/derzhavni-zakupivli.html | AH30: yes | AI30: yes - after 2016, no - 2014-2015 | AJ30: yes | AK30: http://www.oblrada.kharkov.ua/ua/public-information/management-of-municipal-property/events-and-announcements | AL30: no | AN30: yes | AO30: ProZorro | AP30: no | AR30: yes | AS30: http://oblrada.cv.ua/activity/purchases/ | AT30: yes | AU30: https://chor.gov.ua/oblasna-rada/derzhavni-zakupivli
A31: R19030 | B31: Q30 | C31: Is there a separate section on the Regional Council website containing publication of information on the Regional Council procurements, including notifications on the planned Regional Council procurements? | D31: yes | E31: https://vinrada.gov.ua/richnij-plan-zakupivel-na-2019-rik.htm | F31: yes | G31: http://volynrada.gov.ua/procurement | H31: no | J31: yes | K31: https://zt.gov.ua/index.php/upravlinnya-majnom/%D0%B4%D0%B5%D1%80%D0%B6%D0%B0%D0%B2%D0%BD%D1%96-%D0%B7%D0%B0%D0%BA%D1%83%D0%BF%D1%96%D0%B2%D0%BB%D1%96/%D1%80%D1%96%D1%87%D0%BD%D0%B8%D0%B9-%D0%BF%D0%BB%D0%B0%D0%BD-%D0%B7%D0%B0%D0%BA%D1%83%D0%BF%D1%96%D0%B2%D0%BB%D1%96.html?limitstart=0 | L31: yes | M31: https://zakarpat-rada.gov.ua/derzhavni-zakupivli/ | N31: no | O31: http://zor.gov.ua/content/derzhavni-zakupivli | P31: no | R31: yes | S31: https://kor.gov.ua/robota_rady/informatsiia.html | T31: yes | U31: https://www.oblrada.kr.ua/konkursni-torgi | V31: yes | W31: https://prozorro.gov.ua/tender/search?edrpou=25255072&edrpou=22340506 | X31: yes | Y31: https://www.mk-oblrada.gov.ua/publichni-zakupivli-475cms.htm | Z31: yes | AA31: http://oblrada.odessa.gov.ua/pro-oblasnu-radu/derzhavni-zakupivli/odeska-oblasna-rada/ | AB31: yes | AC31: http://oblrada-pl.gov.ua/index.php?option=com_content&view=category&layout=blog&id=37&Itemid=65 | AD31: yes | AE31: http://oblrada.rv.ua/komunalna_vlasnist/konkursni_torgy/oblrada/index.php?SECTION_ID=165&ELEMENT_ID=14681 | AF31: yes | AG31: https://sorada.gov.ua/derzhavni-zakupivli.html | AH31: yes | AI31: According to the test version of the portal | AJ31: yes | AK31: http://www.oblrada.kharkov.ua/ua/public-information/vidkryti-dani/richnyi-plan-zakupivel | AL31: no | AN31: yes | AO31: http://km-oblrada.gov.ua/derzhavni-zakupivli-orenda/plan-provedennya-zakupivel-tovariv-robit-poslug-za-byudzhetni-koshti/ | AP31: no | AR31: no | AT31: no
A32: R19031 | B32: Q31 | C32: Is the information on the completed Regional Council procurements published in the respective section (type of procurement, date, price, candidates, their proposals, minutes of meetings of the Commission)? | D32: yes | E32: https://vinrada.gov.ua/2019-rik-2.htm | F32: no | H32: yes | I32: https://oblrada.dp.gov.ua/category/diyalnist/richni-plani-zakupivel/ | J32: no | L32: yes | M32: https://zakarpat-rada.gov.ua/derzhavni-zakupivli/ | N32: yes | O32: http://zor.gov.ua https://www.dzo.com.ua/companies/18061 | P32: no | R32: no | T32: yes | U32: https://www.oblrada.kr.ua/konkursni-torgi | V32: yes | W32: https://prozorro.gov.ua/tender/search?edrpou=25255072&edrpou=22340506 | X32: yes | Y32: https://prozorro.gov.ua/tender/search?query=25696652 | Z32: yes | AA32: http://oblrada.odessa.gov.ua/pro-oblasnu-radu/derzhavni-zakupivli/odeska-oblasna-rada/ | AB32: no | AD32: yes | AE32: http://oblrada.rv.ua/komunalna_vlasnist/konkursni_torgy/oblrada/index.php?SECTION_ID=165&ELEMENT_ID=14681 | AF32: yes | AG32: https://sorada.gov.ua/derzhavni-zakupivli.html | AH32: no | AJ32: partially | AK32: http://www.oblrada.kharkov.ua/ua/public-information/vidkryti-dani/richnyi-plan-zakupivel | AL32: no | AN32: yes | AO32: http://km-oblrada.gov.ua/derzhavni-zakupivli-orenda/ | AP32: no | AR32: no | AT32: no
A33: R19032 | B33: Q32 | C33: Are all the contracts and the amendments thereto published on the Regional Council website on a regular basis (providing hyperlinks between contracts invoices and amendments to contracts for easy access to all the documents relating to the respective contract)? | D33: yes | E33: https://vinrada.gov.ua/zakupivli-na-prozorro.htm | F33: no | H33: yes | I33: https://oblrada.dp.gov.ua/category/diyalnist/richni-plani-zakupivel/ | J33: no | L33: yes | M33: https://zakarpat-rada.gov.ua/derzhavni-zakupivli/ | N33: yes | O33: http://zor.gov.ua/content/perelik-naboriv-danyh-shcho-pidlyagayut-oprylyudnennyu-u-formi-vidkrytyh-danyh | P33: no | R33: no | T33: yes | U33: https://www.oblrada.kr.ua/konkursni-torgi | V33: yes | W33: https://prozorro.gov.ua/tender/search?edrpou=25255072&edrpou=22340506 | X33: no | Z33: yes | AA33: http://oblrada.odessa.gov.ua/pro-oblasnu-radu/derzhavni-zakupivli/odeska-oblasna-rada/ | AB33: yes | AC33: http://oblrada-pl.gov.ua/index.php?option=com_content&view=category&layout=blog&id=37&Itemid=65 | AD33: yes | AE33: http://oblrada.rv.ua/komunalna_vlasnist/konkursni_torgy/oblrada/index.php?SECTION_ID=165&ELEMENT_ID=14681 | AF33: no | AH33: no | AJ33: no | AL33: no | AN33: yes | AP33: no | AR33: no | AT33: no
A34: R19033 | B34: Q33 | C34: Is there a possibility to track on the Regional Council website in a real-time mode the information on procurements carried out through the e-procurement system with the respective hyperlinks to the current offers? | D34: yes | E34: https://www.dzo.eonTua/tenders/current?filter%5Bobiect%5D=title&filter%5Bsearch%5D=&filter%5Boperator%5D=and&filter%5Bidentifierssearch%5D=&filter%5Bidentifiers%5D=00022438&filter%5Bclassification%5D=&filter%5Btendervalueamount%5D%5Bstart%5D=&filter%5Btendervalueamount%5D%5Bend%5D=&filter%5Bdate%5D%5Bstart%5D=&filter%5Bdate%5D%5Bend%5D=&filter%5Border%5D=:patedesc&formname=filter | F34: no | H34: no | J34: no | L34: no | N34: yes | O34: http://zor.gov.ua https://www.dzo.com.ua/companies/18061 | P34: no | R34: no | T34: yes | U34: https://www.oblrada.kr.ua/konkursni-torgi | V34: yes | W34: https://prozorro.gov.ua/tender/search?edrpou=25255072&edrpou=22340506 | X34: yes | Y34: https://prozorro.gov.ua/tender/search?query=25696652 | Z34: yes | AA34: http://oblrada.odessa.gov.ua/pro-oblasnu-radu/derzhavni-zakupivli/odeska-oblasna-rada/ | AB34: yes | AC34: http://oblrada-pl.gov.ua/index.php?option=com_content&view=category&layout=blog&id=37&Itemid=65 | AD34: yes | AE34: http://oblrada.rv.ua/komunalna_vlasnist/konkursni_torgy/oblrada/index.php?SECTION_ID=165&ELEMENT_ID=14681 | AF34: no | AH34: no | AJ34: no | AL34: no | AN34: yes | AO34: http://km-oblrada.gov.ua/vidkriti-dani/ | AP34: no | AR34: no | AT34: no
A35: R19034 | B35: Q34 | C35: Does the Regional Council publish on its website the list of agencies, institutions, enterprises joint property of territorial communities of villages, towns and cities in the region? | D35: yes | E35: https://vinrada.gov.ua/reestr-dovidnik-pidpriemstv-ustanov-%C2%A0organizacij-obektiv-spilnoi-vlasnosti-teritorialnih-gromad-sil-selisch-mist-oblasti.htm | F35: yes | G35: http://volynrada.gov.ua/communal/list | H35: yes | I35: https://oblrada.dp.gov.ua/diyalnist/zakladi-utanovi/perelik-okp/%d0%be%d0%b1%d0%bb%d0%b0%d1%81%d0%bd%d1%96-%d0%ba%d0%be%d0%bc%d0%bc%d1%83%d0%bd%d0%b0%d0%bb%d1%8c%d0%bd%d1%96-%d0%bf%d1%96%d0%b4%d0%bf%d1%80%d0%b8%d1%94%d0%bc%d1%81%d1%82%d0%b2%d0%b0-%d0%b7/ | J35: no | L35: yes | M35: http://usvth.uz.ua/ | N35: yes | O35: http://zor.gov.ua/komunalna-vlasnist ; http://zor.gov.ua/content/perelik-naboriv-danyh-shcho-pidlyagayut-oprylyudnennyu-u-formi-vidkrytyh-danyh | P35: yes | Q35: http://www.orada.if.ua/документи/документи-управління-обєктами/переліки-майна/ | R35: yes | S35: https://kor.gov.ua/kyivska_oblast/pidporiadkovani_pidpryiemstva/komunalni_pidpryiemstva.html | T35: yes | U35: https://oblrada.kr.ua/informatsijna-baza | V35: yes | W35: http://www.oblrada.lviv.ua/%D0%BF%D1%96%D0%B4%D0%BF%D1%80%D0%B8%D1%94%D0%BC%D1%81%D1%82%D0%B2%D0%B0_%D0%BA%D0%BE%D0%BC%D1%83%D0%BD%D0%B0%D0%BB%D1%8C%D0%BD%D0%BE%D1%97_%D0%B2%D0%BB%D0%B0%D1%81%D0%BD%D0%BE%D1%81%D1%82%D1%96_%D0%BB%D0%BE%D1%80_405cms.htm | X35: yes | Y35: https://www.mk-oblrada.gov.ua/zaklady-ustanovy-ta-organizatsii | Z35: yes | AA35: http://property.odessa.gov.ua/perelik-obyektiv/ | AB35: yes | AC35: http://oblrada-pl.gov.ua/index.php?option=com_content&view=article&id=875&Itemid=139 | AD35: yes | AE35: http://oblrada.rv.ua/komunalna_vlasnist/perilik_oblasnyh_komunalnyh_zakladiv_pidpryjemstv_ustanov/ | AF35: yes | AG35: http://mayno.sm.gov.ua/node/13 | AH35: yes | AI35: http://te-rada.org/?id=70 | AJ35: yes | AK35: http://www.oblrada.kharkov.ua/ua/public-information/zaklady-osvity-shcho-perebuvaiut-u-spilnii-vlasnosti-hromad-oblasti | AL35: yes | AM35: http://khor.gov.ua/komunalni-ustanovy-ta-pidpryyemstva/ | AN35: yes | AP35: yes | AQ35: https://www.oblradack.gov.ua/upravlnnya-maynom-oblasnoyi-komunalnoyi-vlasnost-vikonavchogo-aparatu-oblasnoyi-radi. https://www.oblradack.gov.ua/5374-xh-sesia-oblasnoii-radi-vi-sklikannia | AR35: yes | AS35: http://oblrada.cv.ua/activity/communal/ | AT35: yes | AU35: https://chor.gov.ua/normativni-dokumenti/rishennya/item/6297-pro-zatverdzhennia-perelikiv-ob-iektiv-spilnoi-vlasnosti-terytori
