Workbook

Sheet Monitoring_eng
A1: questionID | B1: question | C1: Bakhmut | D1: Bakhmut_comment | E1: Berdychiv | F1: Berdychiv_comment | G1: Berdiansk | H1: Berdiansk_comment | I1: Bila Tserkva | J1: Bila Tserkva_comment | K1: Brovary | L1: Brovary_comment | M1: Vinnytsia | N1: Vinnytsia_comment | O1: Dnipro | P1: Dnipro_comment | Q1: Drohobych | R1: Drohobych_comment | S1: Zhytomyr | T1: Zhytomyr_comment | U1: Zaporizhzhia | V1: Zaporizhzhia_comment | W1: Ivano-Frankivsk | X1: Ivano-Frankivsk_comment | Y1: Izmail | Z1: Izmail_comment | AA1: Kamianets-Podilskyi | AB1: Kamianets-Podilskyi_comment | AC1: Kamianske | AD1: Kamianske_comment | AE1: Kyiv | AF1: Kyiv_comment | AG1: Kovel | AH1: Kovel_comment | AI1: Konotop | AJ1: Konotop_comment | AK1: Kostiantynivka | AL1: Kostiantynivka_comment | AM1: Kramatorsk | AN1: Kramatorsk_comment | AO1: Kremenchuk | AP1: Kremenchuk_comment | AQ1: Kryvyi Rih | AR1: Kryvyi Rih_comment | AS1: Kropyvnytskyi | AT1: Kropyvnytskyi_comment | AU1: Lysychansk | AV1: Lysychansk_comment | AW1: Lutsk | AX1: Lutsk_comment | AY1: Lviv | AZ1: Lviv_comment | BA1: Mariupol | BB1: Mariupol_comment | BC1: Melitopol | BD1: Melitopol_comment | BE1: Mykolaiv | BF1: Mykolaiv_comment | BG1: Mukacheve | BH1: Mukacheve_comment | BI1: Nizhyn | BJ1: Nizhyn_comment | BK1: Nikopol | BL1: Nikopol_comment | BM1: Novomoskovsk | BN1: Novomoskovsk_comment | BO1: Odesa | BP1: Odesa_comment | BQ1: Oleksandriia | BR1: Oleksandriia_comment | BS1: Pavlohrad | BT1: Pavlohrad_comment | BU1: Poltava | BV1: Poltava_comment | BW1: Rivne | BX1: Rivne_comment | BY1: Sievierodonetsk | BZ1: Sievierodonetsk_comment | CA1: Sloviansk | CB1: Sloviansk_comment | CC1: Sumy | CD1: Sumy_comment | CE1: Ternopil | CF1: Ternopil_comment | CG1: Uzhhorod | CH1: Uzhhorod_comment | CI1: Uman | CJ1: Uman_comment | CK1: Kharkiv | CL1: Kharkiv_comment | CM1: Kherson | CN1: Kherson_comment | CO1: Khmelnytskyi | CP1: Khmelnytskyi_comment | CQ1: Cherkasy | CR1: Cherkasy_comment | CS1: Chernivtsi | CT1: Chernivtsi_comment | CU1: Chernihiv | CV1: Chernihiv_comment | CW1: Shostka | CX1: Shostka_comment
A2: Q1 | B2: Is there an online platform for communication between citizens and the City Council available on the City Council website for filing complaints, suggestions and appeals, as well as requests for information? | C2: yes | D2: http://artemrada.gov.ua/8587 | E2: yes | F2: http://www.berdychiv.com.ua/index.php?do=feedback | G2: yes | H2: https://bmr.gov.ua/index.php?id=521 http://petition.bmr.gov.ua https://bmr.gov.ua/index.php?id=800000253 https://bmr.gov.ua/index.php?id=800000267 | I2: yes | J2: "For citizens" - "Electronic application" | K2: yes | L2: http://brovary-rada.gov.ua/content/centr-nadannya-administrativnih-poslug.html | M2: yes | N2: https://www.vmr.gov.ua/Lists/Officials/Default.aspx https://1560.vmr.gov.ua/default.aspx; | O2: yes | P2: http://dmr.dp.ua/dniprorada/ | Q2: yes | R2: http://drohobych-rada.gov.ua/servisy/ | S2: no | U2: yes | V2: http://ep.zp.gov.ua/uk/ https://1580.zp.gov.ua/ https://zp.gov.ua/uk/page/contact-form | W2: yes | X2: http://www.emvk.if.ua/, http://www.emvk.if.ua/stan , http://www.mvk.if.ua/advisor http://petition.mvk.if.ua/ | Y2: yes | Z2: http://izmail-rada.gov.ua/component/content/article/164-2011-01-31-07-52-55/2448-2012-08-14-05-12-27 | AA2: yes | AB2: http://kam-pod.gov.ua/gromadianam/zapitannia-do-vladi | AC2: yes | AD2: http://ez.kam.gov.ua/ | AE2: yes | AF2: https://kyivcity.gov.ua/publichna_informatsiya_257928/podati_zapit_onlayn_257949.html https://1551.gov.ua/ zvernen@kmda.gov.ua https://kmr.gov.ua/uk/content/korysna-informaciya; zapyt@kmr.gov.ua 202-71-14, 202-70-03 | AG2: yes | AH2: http://kovelrada.gov.ua/appeals_citizens.html | AI2: yes | AJ2: https://docs.google.com/forms/d/1Cb5t84396zF9PXD9wvw5 uLj_xTDafPJ91I0WCMYaqnQ | AK2: yes | AL2: http://konstrada.gov.ua/zvernennya-gromadyan | AM2: yes | AN2: http://www.krm.gov.ua/zapit/view/135 http://www.krm.gov.ua/zapit/view/29 | AO2: yes | AP2: https://petition.kremen.gov.ua/ | AQ2: yes | AR2: http://kr.gov.ua/ua/consultationform/ http://krmisto.gov.ua/ua/komcentr/register/komcentr.html | AS2: yes | AT2: http://www.kr-rada.gov.ua/contacts_g/ http://kr-rada.gov.ua/contacts/ | AU2: yes | AV2: Unified system of electronic petitions "Appeals" complaint@lis.gov.ua | AW2: yes | AX2: https://www.lutskrada.gov.ua/public-information/request https://www.lutskrada.gov.ua/pages/elektronne-zvernennia | AY2: yes | AZ2: https://city-adm.lviv.ua/services/application | BA2: yes | BB2: https://drive.google.com/open?id=1kA-Ystqzv3wQ4vIFGkkWsCODFN4NMjaf | BC2: yes | BD2: http://petition.mlt.gov.ua/index.php/uk/elektronni-petitsiii-ta-zvernennya | BE2: yes | BF2: https://mkrada.gov.ua/ | BG2: no | BI2: yes | BJ2: http://nizhynrada.gov.ua/article/1529/-msto.html | BK2: yes | BL2: http://nikopol-mrada.dp.gov.ua/servisi/pytannia-meru | BM2: no | BO2: yes | BP2: https://1535.odessa.ua/ https://www.omr.gov.ua/ua/city/departments/gorzdrav/appeal/ | BQ2: yes | BR2: http://olexrada.gov.ua/zapmg | BS2: partially | BT2: https://pavlogradmrada.dp.gov.ua/napisat-pismo-mehru | BU2: yes | BV2: http://www.rada-poltava.gov.ua/petition/ | BW2: yes | BX2: www.city-adm.rv.ua http://medrivne.com.ua | BY2: yes | BZ2: http://sed-rada.org.ua/zvorotniy-zvyazok | CA2: yes | CB2: http://ez.slavrada.gov.ua/ | CC2: partially | CD2: https://smr.gov.ua/uk/elektronne-zvernennia/8179-elektronne-zvernennya.html https://smr.gov.ua/uk/dokumenti/dostup-do-publichnoji-informatsiji/2180-pro-dostup-do-publichnoji-informatsiji-u-sumskij-miskij-radi.html | CE2: partially | CF2: http://rada.te.ua/pytannia-vidpovidi/ ternopil_rada@ukr.net | CG2: yes | CH2: https://rada-uzhgorod.gov.ua/zvernennya-gromadyan/ https://opencity.in.ua/issuelist#r=UA2110100000 https://rada-uzhgorod.gov.ua/dostup-do-publichnoyi-informatsiyi/ https://rada-uzhgorod.gov.ua/zvernennya-gromadyan/ https://opencity.in.ua/issuelist#r=UA2110100000 https://rada-uzhgorod.gov.ua/dostup-do-publichnoyi-informatsiyi/ https://rada-uzhgorod.gov.ua/zvernennya-gromadyan/ https://opencity.in.ua/issuelist#r=UA2110100000 https://rada-uzhgorod.gov.ua/dostup-do-publichnoyi-informatsiyi/ https://rada-uzhgorod.gov.ua/zvernennya-gromadyan/ https://opencity.in.ua/issuelist#r=UA2110100000 https://rada-uzhgorod.gov.ua/dostup-do-publichnoyi-informatsiyi/ | CI2: yes | CJ2: http://uman-rada.gov.ua/index.php/elektronna-hromadska-pryimalnia | CK2: yes | CL2: http://www.citv.kharkov.ua/uk/gorodskava-vlast/gorodskoi-golova/obratnava-svyaz/vopros-gorodskomu-golove.html http://www.citv.kharkov.ua/ukypublichnava-infonnacziva.html http://cdr.citynet.kharkov.ua/webdocprof | CM2: yes | CN2: http://mvk.kherson.ua/zvernenya | CO2: yes | CP2: https://khm.gov.ua/uk/content/elektronni-zvernennya | CQ2: yes | CR2: http://chmr.gov.ua/ua/text.php?s=4&s1=34 | CS2: yes | CT2: http://zvernennya.chernivtsy.eu/ | CU2: yes | CV2: http://e-dem.in.ua/chernihiv https://igov.org.ua/service/659/general | CW2: yes | CX2: http://shostka-smartcity.com/
A3: Q2 | B3: Do the responds to citizens' appeals, suggestions, and complaints are available on the respective online platform for public observation? | C3: no | E3: no | G3: no | I3: no | K3: yes | L3: drive.google.com/file/d/1f_9cYojWa7Yn-zeMI Pwyaqc_dAqTIuz/view | M3: yes | N3: https://www.vmr.gov.ua/Lists/CitizenAddressResponses/Default.aspx http://maps2.vmr.gov.ua/ | O3: no | Q3: no | S3: no | U3: no | W3: no | Y3: yes | Z3: http://izmail-rada.gov.ua/component/content/article/164-2011-01-31-07-52-55/2448-2012-08-14-05-12-27 | AA3: yes | AB3: http://kam-pod.gov.ua/gromadianam/zapitannia-do-vladi | AC3: no | AE3: yes | AF3: https://old.kyivcity.gov.ua/public-info/ | AG3: no | AI3: no | AK3: no | AM3: no | AO3: no | AQ3: yes | AR3: http://krmisto.gov.ua/ua/komcentr/publics.html | AS3: no | AU3: yes | AV3: http://lis.gov.ua/2011-03-25-08-36-56/2011-06-10-10-24-37.html | AW3: yes | AX3: https://www.lutskrada.gov.ua/search?q=%D0%B2%D1%96%D0%B4%D0%BF%D0%BE%D0%B2%D1%96%D0%B4%D1%8C+%D0%BD%D0%B0+%D1%81%D0%BA%D0%B0%D1%80%D0%B3%D0%B8 | AY3: no | BA3: no | BC3: no | BE3: no | BG3: no | BI3: yes | BJ3: https://e-dem.in.ua/nizhyn/petition/consider/all | BK3: yes | BL3: http://nikopol-mrada.dp.gov.ua/servisi/vidpovidi | BM3: no | BO3: yes | BP3: https://1535.odessa.ua https://1535.odessa.ua/petition/i-MjgxMTQ3/ | BQ3: no | BS3: yes | BT3: https://pavlogradmrada.dp.gov.ua/category/otvety-mehra-zhitelyam-goroda | BU3: no | BW3: no | BY3: no | CA3: no | CC3: no | CE3: partially | CF3: http://rada.te.ua/pytannia-vidpovidi/ | CG3: partially | CH3: https://opencity.in.ua/issuelist#r=UA2110100000 | CI3: no | CK3: no | CM3: no | CO3: yes | CP3: https://opencity.in.ua/issuelist#r=UA6810100000 | CQ3: no | CS3: yes | CT3: http://zvernennya.chernivtsy.eu/ | CU3: yes | CV3: https://igov.org.ua/service/659/general | CW3: no
A4: Q3 | B4: Are the responds to citizens' appeals, suggestions, and complaints sent/published on the respective online platform within ten working days? | C4: no | E4: yes | G4: no | I4: no | K4: no | M4: yes | N4: http://maps2.vmr.gov.ua/ | O4: no | Q4: no | S4: yes | T4: http://zt-rada.gov.ua | U4: no | W4: no | X4: http://www.emvk.if.ua/stan | Y4: partially | Z4: http://izmail-rada.gov.ua/component/content/article/164-2011-01-31-07-52-55/2448-2012-08-14-05-12-27 | AA4: yes | AB4: http://kam-pod.gov.ua/gromadianam/zapitannia-do-vladi http://kam-pod.gov.ua/gromadianam/zapitannia-do-vladi http://kam-pod.gov.ua/gromadianam/zapitannia-do-vladi | AC4: yes | AE4: yes | AF4: https://old.kyivcity.gov.ua/public-info/ | AG4: yes | AI4: no | AK4: no | AM4: no | AO4: no | AQ4: yes | AR4: http://krmisto.gov.ua/ua/komcentr/publics.html | AS4: no | AU4: no | AW4: no | AY4: no | BA4: no | BC4: no | BE4: no | BG4: no | BI4: yes | BJ4: https://e-dem.in.ua/nizhyn/petition/consider/all | BK4: yes | BL4: http://nikopol-mrada.dp.gov.ua/servisi/vidpovidi | BM4: no | BO4: yes | BP4: https://1535.odessa.ua/petition/i-Mjg0MTg3/ | BQ4: no | BS4: no | BU4: no | BW4: no | BY4: no | CA4: no | CC4: no | CE4: yes | CF4: https://tmrada.gov.ua/municipal-data-map/form-elektronnogo-zvernennya/ | CG4: partially | CH4: https://rada-uzhgorod.gov.ua/uploads/sites/2/2017/05/ZAKON-UKRAYIN1Pro-zvernen.gromad.zi-zminamy.pdf http://old.rada-uzhgorod.gov.ua/download/v/R_455_vidkrute_misto_12.11.14.pdf | CI4: yes | CK4: no | CM4: no | CO4: yes | CQ4: yes | CR4: http://chmr.gov.ua/ua/sections.php?s=40 | CS4: yes | CU4: yes | CV4: https://igov.org.ua/service/659/general | CW4: yes | CX4: http://shostka-smartcity.com/
A5: Q4 | B5: Is there a possibility to track the progress of appeals, complaints, and suggestions on the respective online platform through the indication of information on acceptance for consideration, employee responsible for processing, as well as the term of consideration? | C5: no | E5: no | G5: no | I5: no | K5: no | M5: yes | N5: http://www.vmr.gov.ua | O5: no | P5: https://hotline.dniprorada.gov.ua/ | Q5: yes | R5: http://drohobych-rada.gov.ua/gromada/elektronni-petytsiyi-gromadyan/ http://drohobych-rada.gov.ua/elektronne-zvernennya/ | S5: no | U5: no | W5: yes | X5: http://www.emvk.if.ua/stan | Y5: no | AA5: yes | AB5: http://kam-pod.gov.ua/gromadianam/zapitannia-do-vladi | AC5: yes | AD5: https://e-dem.in.ua/dniprodzerzhynsk | AE5: no | AG5: no | AI5: no | AK5: no | AM5: no | AO5: no | AQ5: yes | AR5: http://krmisto.gov.ua/ua/komcentr/publics.html | AS5: no | AU5: no | AW5: no | AX5: http://lutskrada.gov.ua/elektronni-petyciyi-1 | AY5: yes | AZ5: https://city-adm.lviv.ua/services/results | BA5: no | BC5: no | BE5: no | BG5: no | BI5: no | BK5: no | BM5: no | BO5: yes | BP5: https://1535.odessa.ua/petition/i-MjgxMTQ3/ | BQ5: no | BS5: no | BU5: yes | BW5: no | BY5: no | CA5: yes | CB5: http://ez.slavrada.gov.ua/stan | CC5: no | CE5: no | CG5: partially | CH5: Only on "Open City" portal | CI5: yes | CK5: no | CM5: no | CO5: yes | CP5: https://e-dem.tools/6810100000 https://opencity.in.ua/issuelist#r=UA6810100000 | CQ5: no | CS5: yes | CT5: On the platform "Open City" | CU5: no | CV5: https://igov.org.ua/service/659/general | CW5: no
A6: Q5 | B6: Does the municipality provide the responce to requests for information within the statutory deadlines (within five days from the date of receipt of request)? (filling in the questionnaire) | C6: yes | D6: response received in time | E6: yes | F6: response received in time | G6: yes | H6: response received in time | I6: no | K6: yes | L6: response received in time | M6: yes | N6: response received in time | O6: yes | P6: response received in time | Q6: no | S6: yes | T6: response received in time | U6: yes | V6: response received in time | W6: yes | X6: response received in time | Y6: no | AA6: yes | AB6: response received in time | AC6: yes | AD6: response received in time | AE6: yes | AF6: response received in time | AG6: yes | AH6: response received in time | AI6: yes | AJ6: response received in time | AK6: no | AM6: yes | AN6: response received in time | AO6: no | AQ6: yes | AR6: response received in time | AS6: yes | AT6: response received in time | AU6: yes | AV6: response received in time | AW6: yes | AX6: response received in time | AY6: yes | AZ6: response received in time | BA6: yes | BB6: response received in time | BC6: no | BE6: yes | BF6: response received in time | BG6: yes | BH6: response received in time | BI6: yes | BJ6: response received in time | BK6: yes | BL6: response received in time | BM6: yes | BN6: response received in time | BO6: yes | BP6: response received in time | BQ6: yes | BR6: response received in time | BS6: no | BU6: yes | BV6: response received in time | BW6: yes | BX6: response received in time | BY6: yes | BZ6: response received in time | CA6: yes | CB6: response received in time | CC6: yes | CD6: response received in time | CE6: no | CG6: yes | CH6: response received in time | CI6: yes | CJ6: response received in time | CK6: no | CM6: yes | CN6: response received in time | CO6: yes | CP6: response received in time | CQ6: yes | CR6: response received in time | CS6: yes | CT6: response received in time | CU6: yes | CV6: response received in time | CW6: yes | CX6: response received in time
A7: Q6 | B7: Does the municipality provide the responce to requests for information in full? (filling in the questionnaire) | C7: yes | D7: response received in full | E7: yes | F7: response received in full | G7: yes | H7: response received in full | I7: no | K7: yes | L7: response received in full | M7: yes | N7: response received in time | O7: yes | P7: response received in time | Q7: no | S7: yes | T7: response received in time | U7: yes | V7: response received in time | W7: yes | X7: response received in full | Y7: no | AA7: yes | AB7: response received in full | AC7: yes | AD7: response received in full | AE7: yes | AF7: response received in full | AG7: yes | AH7: response received in full | AI7: yes | AJ7: response received in full | AK7: no | AM7: yes | AN7: response received in full | AO7: no | AQ7: yes | AR7: response received in full | AS7: yes | AT7: response received in full | AU7: yes | AV7: response received in full | AW7: yes | AX7: response received in full | AY7: yes | AZ7: response received in full | BA7: yes | BB7: response received in full | BC7: no | BE7: yes | BF7: response received in full | BG7: yes | BH7: response received in full | BI7: yes | BJ7: response received in full | BK7: yes | BL7: response received in full | BM7: yes | BN7: response received in full | BO7: yes | BP7: response received in full | BQ7: yes | BR7: response received in full | BS7: no | BU7: yes | BV7: response received in full | BW7: yes | BX7: response received in full | BY7: yes | BZ7: response received in full | CA7: yes | CB7: response received in full | CC7: yes | CD7: response received in full | CE7: no | CG7: yes | CH7: response received in full | CI7: yes | CJ7: response received in full | CK7: no | CM7: yes | CN7: response received in full | CO7: yes | CP7: response received in full | CQ7: yes | CR7: response received in full | CS7: yes | CT7: response received in full | CU7: yes | CV7: response received in full | CW7: yes | CX7: response received in full
A8: Q7 | B8: Does the municipality provide the responce to requests for information within the statutory deadlines (within five days from the date of receipt of request)? (response to the 'Secret shopper’s request') | C8: yes | D8: response received in time | E8: yes | F8: response received in time | G8: yes | H8: response received in time | I8: no | K8: yes | L8: response received in time | M8: yes | N8: response received in time | O8: yes | P8: response received in time | Q8: no | S8: yes | T8: response received in time | U8: yes | V8: response received in time | W8: yes | X8: response received in time | Y8: yes | Z8: response received in time | AA8: yes | AB8: response received in time | AC8: yes | AD8: response received in time | AE8: yes | AF8: response received in time | AG8: yes | AH8: response received in time | AI8: yes | AJ8: response received in time | AK8: yes | AL8: response received in time | AM8: yes | AN8: response received in time | AO8: no | AQ8: yes | AR8: response received in time | AS8: yes | AT8: response received in time | AU8: yes | AV8: response received in time | AW8: yes | AX8: response received in time | AY8: yes | AZ8: response received in time | BA8: yes | BB8: response received in time | BC8: no | BE8: yes | BF8: response received in time | BG8: yes | BH8: response received in time | BI8: yes | BJ8: response received in time | BK8: yes | BL8: response received in time | BM8: yes | BN8: response received in time | BO8: yes | BP8: response received in time | BQ8: yes | BR8: response received in time | BS8: no | BU8: yes | BV8: response received in time | BW8: yes | BX8: response received in time | BY8: yes | BZ8: response received in time | CA8: yes | CB8: response received in time | CC8: yes | CD8: response received in time | CE8: no | CG8: yes | CH8: response received in time | CI8: yes | CJ8: response received in time | CK8: no | CM8: yes | CN8: response received in time | CO8: yes | CP8: response received in time | CQ8: yes | CR8: response received in time | CS8: yes | CT8: response received in time | CU8: yes | CV8: response received in time | CW8: yes | CX8: response received in time
A9: Q8 | B9: Does the municipality provide the responce to requests for information in full? (response to the 'Secret shopper’s request') | C9: yes | D9: response received in full | E9: yes | F9: response received in full | G9: yes | H9: response received in full | I9: no | K9: yes | L9: response received in full | M9: yes | N9: response received in time | O9: yes | P9: response received in time | Q9: no | S9: yes | T9: response received in time | U9: yes | V9: response received in time | W9: yes | X9: response received in time | Y9: yes | Z9: response received in time | AA9: yes | AB9: response received in full | AC9: yes | AD9: response received in full | AE9: yes | AF9: response received in full | AG9: yes | AH9: response received in full | AI9: yes | AJ9: response received in full | AK9: yes | AL9: response received in full | AM9: yes | AN9: response received in full | AO9: no | AQ9: yes | AR9: response received in time | AS9: yes | AT9: response received in full | AU9: yes | AV9: response received in full | AW9: yes | AX9: response received in full | AY9: yes | AZ9: response received in full | BA9: yes | BB9: response received in full | BC9: no | BE9: yes | BF9: response received in full | BG9: yes | BH9: response received in full | BI9: yes | BJ9: response received in full | BK9: yes | BL9: response received in full | BM9: yes | BN9: response received in full | BO9: yes | BP9: response received in full | BQ9: yes | BR9: response received in full | BS9: no | BU9: yes | BV9: response received in full | BW9: yes | BX9: response received in full | BY9: yes | BZ9: response received in full | CA9: yes | CB9: response received in full | CC9: yes | CD9: response received in full | CE9: no | CG9: yes | CH9: response received in full | CI9: yes | CJ9: response received in full | CK9: no | CM9: yes | CN9: response received in full | CO9: yes | CP9: response received in full | CQ9: yes | CR9: response received in full | CS9: yes | CT9: response received in full | CU9: yes | CV9: response received in full | CW9: yes | CX9: response received in full
A10: Q9 | B10: Are the reports on the processing of requests for public information published periodically (at least annually) on the City Council website? | C10: yes | D10: http://artemrada.gov.ua/2083 | E10: yes | F10: http://www.berdychiv.com.ua/zvti.html | G10: yes | H10: http://bmr.gov.ua/index.php?id=800000514 | I10: yes | J10: http://bc-rada.gov.ua/sites/default/files/2017/160701_zvit_pi.zip | K10: yes | L10: http://brovary-rada.gov.ua/content/dostup-do-publichnoi-informacii1.html | M10: yes | N10: https://www.vmr.gov.ua/TransparentCity/SitePages/AppealsRequestsInfo.aspx | O10: yes | P10: https://dniprorada.gov.ua/uk/page/zviti-pro-zapiti-na-publichnu-informaciyu | Q10: partially | R10: http://drohobych-rada.gov.ua | S10: yes | T10: http://zt-rada.gov.ua/?3506[0]=29 | U10: yes | V10: https://zp.gov.ua/uk/page/zviti-pro-zadovolennya-zapitiv-na-publichnu-informaciyu | W10: yes | X10: http://www.mvk.if.ua/pinfzv | Y10: no | AA10: yes | AB10: http://kam-pod.gov.ua/documents/dostup-do-publ-informatsii/zviti-ta-poshireni-vidpovidi | AC10: yes | AD10: http://kam.gov.ua/dostup_do_publichnoi_informatsii/zviti | AE10: yes | AF10: http://kmr.gov.ua/uk/content/zvity | AG10: yes | AH10: http://www.kovelrada.gov.ua/zviti_cshodo_zadovolennya_zapitiv_na_publichnu_informaciyu.html | AI10: yes | AJ10: http://rada.konotop.org/2011-07-19-10-56-08/2011-07-20-07-20-37 | AK10: no | AM10: no | AO10: no | AQ10: no | AS10: no | AU10: yes | AV10: http://lis.gov.ua/2013-08-07-05-49-53/2013-08-09-08-37-38.html | AW10: yes | AX10: https://www.lutskrada.gov.ua/pages/zvity-pro-nadkhodzhennia-zapytivinformatsii/zviti | AY10: yes | AZ10: https://city-adm.lviv.ua/reports | BA10: yes | BB10: http://marsovet.org.ua/articles/show/article/3433 | BC10: yes | BD10: http://mlt.gov.ua/index.php?option=com_content&task=view&id=4370&Itemid=296 | BE10: yes | BF10: http://mkrada.gov.ua/content/zviti.html | BG10: yes | BH10: https://mukachevo-rada.gov.ua/index.php/vidkryte-misto/dostup-do-publichnoi-informatsii | BI10: no | BK10: yes | BL10: http://www.nikopol-mrada.dp.gov.ua/zvit-po-informatsiynim-zapitam | BM10: yes | BN10: http://novomoskovsk-rada.gov.ua/static/richni-zviti-shchodo-dostupu-do-publichnoyi-informaciyi | BO10: yes | BP10: http://omr.gov.ua/ru/essential/67023 | BQ10: no | BS10: yes | BT10: http://pavlogradmrada.dp.gov.ua/category/vikonkom-2/zapiti-na-publichnu-informaciyu | BU10: yes | BV10: http://www.rada-poltava.gov.ua/documents/public_reports/ | BW10: no | BY10: yes | BZ10: http://sed-rada.org.ua/zviti-shchodo-zadovolennya-zapitiv-na-publichnu-informaciyu/zvit | CA10: yes | CB10: http://www.slavrada.gov.ua/?view=public_info | CC10: yes | CD10: https://smr.gov.ua/uk/misto/2017-03-14-08-10-17/2188-zviti-pro-zapiti-na-publichnu-informatsiyu.html | CE10: no | CG10: yes | CH10: http://rada-uzhgorod.gov.ua/rada_docs_taxonomy/zvity-pro-zapyty-na-informatsiyu/ | CI10: no | CK10: no | CM10: yes | CN10: http://www.city.kherson.ua/c/publichna-informaciya | CO10: yes | CP10: http://khmelnytsky.com/index.php?option=com_content&view=category&layout=blog&id=300&Itemid=534 | CQ10: no | CS10: no | CU10: yes | CV10: http://chernigiv-rada.gov.ua/project/info-access | CW10: yes | CX10: http://shostka-rada.gov.ua/public/zvit/zvti_pro_dostup_do_publchno_nformac_u_vikonkom_shostkinsko_msko_radi_za_2017_rk
A11: Q10 | B11: Are materials of the City Council sessions published on the City Council website (including transcripts, audio/video recording of the sessions, minutes of the sessions and the results of roll-call votes)? | C11: yes | D11: http://artemrada.gov.ua/protocols | E11: yes | F11: http://www.berdychiv.com.ua/rshennya/rishennya-rada/ | G11: yes | H11: http://bmr.gov.ua/index.php?id=800000269 https://bmr.gov.ua/index.php? id-800000839 https://bmr.gov.ua/index.php?%20id=800000598&no_cache=%201%20&tx_bmrfeusers_bmrfeusers%20%5BlrontendUserBmr%5D=%201%20203&tx_bmrfeusers_bmrfeus%20ers%5Baction%5D=show&tx%20_bm%20rfeusers_bmrfeusers%%205B%20controller%5D=FrontendUser%20Bmr&cHash=77f25b84038dd%20ed0b439066a74cc52e6 | I11: partially | J11: http://bc-rada.gov.ua/node/10471 http://bc-rada.gov.ua/node/9457 https://www.youtube.com/channel/UCHXNEneGtYx0jMpYwiSY_PA/live | K11: yes | L11: http://brovary-rada.gov.ua/content/arhiv-sesiy-miskoi-radi.html http://brovary-rada.gov.ua/content/protokoli-sesiy-miskoi-radi.html | M11: yes | N11: https://www.vmr.gov.ua/Lists/CityCouncil/ShowContent.aspx?ID=55; https://www.vmr.gov.ua/Lists/CityCouncil/ShowContent.aspx?ID=80 | O11: yes | P11: https://dniprorada.gov.ua/uk/articles/category/protokoli-provedennya/ https://dniprorada.gov.ua/uk/articles/item/20259/rezultati-poimennogo-golosuvannya http://edeputat.dniprorada.gov.ua/uk/deputies https://dniprorada.gov.ua/uk/page/poshuk-prijnyatih-dokumentiv-dniprovskoi-miskoi-radi https://dniprorada.gov.ua/uk/page/onlajn-translyacii | Q11: yes | R11: http://drohobych-rada.gov.ua/category/videonovyny2/ and minutes, votes http://drohobych-rada.gov.ua/deputaty-diyalnist-rady/ | S11: yes | T11: http://zt-rada.gov.ua/?3398[0]=54 | U11: yes | V11: https://zp.gov.ua/uk/sessions/48/votes | W11: yes | X11: http://www.mrada.if.ua/27- mr/multymedia/audiozapysy http://www.mrada.if.ua/%D0%B4%D0%BE%D0%BA%D1%83%D0%BC%D0%B5%D0%BD%D1%82%D0%B8-%D1%80%D0%B0%D0%B4%D0%B8/%D0%BF%D1%80%D0%BE%D1%82%D0%BE%D0%BA%D0%BE%D0%BB%D0%B8-%D0%B7%D0%B0%D1%81%D1%96%D0%B4%D0%B0%D0%BD%D1%8C http://www.mrada.if.ua/%D0%B4%D0%BE%D0%BA%D1%83%D0%BC%D0%B5%D0%BD%D1%82%D0%B8-%D1%80%D0%B0%D0%B4%D0%B8/%D0%B2%D1%96%D0%B4%D0%B2%D1%96%D0%B4%D1%83%D0%B2%D0%B0%D0%BD%D0%BD%D1%8F-%D0%B7%D0%B0%D1%81%D1%96%D0%B4%D0%B0%D0%BD%D1%8C | Y11: partially | Z11: http://www.izmail-rada.gov.ua/2011-11-16-07-26-09/2016-07-27-07-41-28 http://www.izmail-rada.gov.ua/2011-11-16-07-26-09/2011-11-16-07-31-32 | AA11: yes | AB11: http://kam-pod.gov.ua/miska-vlada/videotransliatsii-zasidan-sesii-miskoi-rady http://kam-pod.gov.ua/documents/of-docs-miskradi/rishennia-miskradi | AC11: yes | AD11: http://kam.gov.ua/miska_vlada/miska_rada/ plenarni_zasidannya | AE11: yes | AF11: https://kmr.gov.ua/uk/project_poryadku_denogo https://kmr.gov.ua/uk/stenogramu https://kmr.gov.ua/uk/protokolu https://kmr.gov.ua/uk/result_golosuvanya https://kmr.gov.ua/uk/plenary-meetings https://www.youtube.com/playlist?list=PL1i3dALBUjlQxB5HGkqmcIZtYVomfyof1 | AG11: yes | AH11: http://www.kovelrada.gov.ua/leisurecenter.html | AI11: yes | AJ11: http://rada.konotop.org/2014-02-05-15-19-02/2009-03-30-12-34-33 | AK11: partially | AL11: http://konstrada.gov.ua/component/documents/?menu=&typedoc=2&Itemid=181 | AM11: partially | AN11: http://www.krm.gov.ua/article/view/429 http://www.krm.gov.ua/article/view/587 https://odp.krm.gov.ua/dataset/pe3yjibtatn-noimehhnx-rojiocybahb-njiehaphnx-3acidahb-kpamatopcbkoi-micbkoi-padn-vii-ckjinkahhr https://odp.krm.gov.ua/dataset/id_090720191037 https://odp.krm.gov.ua/dataset/id_090820191447 | AO11: yes | AP11: https://www.kremen.gov.ua/index.php/rozdil/miska_vlada/radanova/materials https://www.kremen.gov.ua/index.php/rozdil/miska_vlada/radanova/%20video | AQ11: yes | AR11: https://kr.gov.ua/ua/ispokom_sessii/pg/4924_s/ https://kr.gov.ua/ua/onlayn_translvatsii | AS11: yes | AT11: http://www.kr-rada.gov.ua/sesiyi/protokoli-zasidan/ http://www.kr-rada.gov.ua/sesiyi/rezultati-golosuvannya/ http://www.kr-rada.gov.ua/sesiyi/on-line-translyatsiya/ | AU11: yes | AV11: "Decision of sessions of city council" section | AW11: yes | AX11: https://www.lutskrada.gov.ua/video-news/on-line https://www.lutskrada.gov.ua/documents?term=&number=&type=18 https://www.lutskrada.gov.ua/pages/rezuaty-holosuvan-zasidan-sesii http://www.lutskrada.gov.ua/sesiyi-miskoyi-rady | AY11: yes | AZ11: https://www.lvivrada.gov.ua/zasidannia/poryadok-dennyy https://www.lvivrada.gov.ua/zasidannia/rezultaty-golosuvan https://www.lvivrada.gov.ua/zasidannia/protokolu-zasidan-radu | BA11: yes | BB11: http://marsovet.org.ua/articles/show/article/2335 http://marsovet.org.ua/videogallery | BC11: no | BE11: partially | BF11: https://mkrada.gov.ua/content/protokoli-plenarnih-zasidan-mikolaivskoi-miskoi-radi_2.html http://deputies.mkrada.gov.ua/uk https://www.youtube.com/channel/UC2LMIViWvMwHm7uWXT9JY6A | BG11: yes | BH11: https://mukachevo-rada.gov.ua/index.php/miska-vlada/mukachivska-miska-rada/rezultati-golosuvannya-deputativ-miskoj-radi https://mukachevo-rada.gov.ua/index.php/miska-vlada/mukachivska-miska-rada/protokoli-sesij-miskoji-radi https://mukachevo-rada.gov.ua/index.php/hromadianam/video https://www.youtube.com/channel/UCzW60VEq1f-AchMKI6ox7PQ | BI11: partially | BJ11: http://www.nizhynrada.gov.ua/article/667/protokoli-sesy-msko-radi.html http://www.nizhynrada.gov.ua/article/939/rezultati-golosuvannya.html | BK11: yes | BL11: http://nikopol-mrada.dp.gov.ua/publichna-informatsiia/protokolysesii-miskoi-rady | BM11: yes | BO11: yes | BP11: https://www.youtube.com/playlist?list=PL9kCLTOesuyx-zIrGXg9Fm39nXONRB7Fs https://www.omr.gov.ua/ua /city/council/ https://www.omr.gov.ua/ua/city/council/protocols/ https://deputat.odessa.ua/ https://deputat.odessa.ua/session/ https://www.omr.gov.ua/ua /city/council/ | BQ11: yes | BR11: https://www.youtube.com/channel/UC79RxCJfDYDlUuCbNQO_WNQ https://www.youtube.com/playlist?list=PLq8C9AriSeZBkiRrcyqqjHBKe9xEk6uFW http://olexrada.gov.ua/category/city_rada/plenary-sessions | BS11: partially | BT11: https://pavlogradmrada.dp.gov.ua/poimenne-golosuvannya http://pavlogradmrada.dp.gov.ua/on-line-translyaciya-zasidann | BU11: yes | BV11: http://www.rada-poltava.gov.ua/rule/rada/videosesia/ http://www.rada-poltava.gov.ua/documents/inshi_dokumenti/ http://www.rada-poltava.gov.ua/rule/rada/voting_result/ | BW11: yes | BX11: http://www.city-adm.rv.ua/RivnePortal/ContentPages/Public/SessionProtocol/session_protocol.aspx?id=255 | BY11: yes | BZ11: https://www.youtube.com/channel/UCrDkiyGatc5Pj7U330UshYQ http://sed-rada.gov.ua/plenarni-zasidannya/protokoli-zasidan http://sed-rada.gov.ua/plenarni-zasidannya/poimenne-golosuvannya http://sed-rada.gov.ua/normativna-baza | CA11: yes | CB11: http://e-deputat.slavrada.gov.ua/uk/plenary_sessions http://docs.slavrada.gov.ua/pdzas/ http://docs.slavrada.gov.ua/przas/ http://slavrada.gov.ua/?view=live | CC11: yes | CD11: https://smr.gov.ua/uk/miska-vlada/miska-rada/protokoli-sesij.html | CE11: partially | CF11: http://rada.te.ua/normativnie-dokument/protokoly_sesij_mr/ http://rada.te.ua/normativnie-dokument/rishennya-miskoi-rad/ | CG11: yes | CH11: https://rada-uzhgorod.gov.ua/rada_docs/protokoly-sesij-2019/ https://rada-uzhgorod.gov.ua/rada_docs/show/audiozapysy-xxxviii-sesii-vii-sklykannia-vid-25072019 https://rada-uzhgorod.gov.ua/rada_docs/show/rozdrukivka-rezultativ-holosuvannia-iz-zaznachenniam-prizvyshch-deputativ-uzhhorodskoi-miskoi-rady-za-nastupni-proekty-rishen-druhoho-plenarnoho-zasidannia-cherhovoi-khkhkhviii-sesii-uzhhorodskoi-miskoi-rady-vii-sklykannia-25072019-roku | CI11: yes | CJ11: http://uman-rada.gov.ua/index.php/poimenne-holosuvannia | CK11: partially | CL11: http://www.city.kharkov.ua/uk/gorodskaya-vlast/gorodskoj-sovet/pomenne-golosuvannya.html | CM11: yes | CN11: http://www.city.kherson.ua/articles/plenarni-zasidannya-miskoyi-radi-vii-sklikannya | CO11: yes | CP11: https://khm.gov.ua/uk/video-translation https://khm.gov.ua/uk/protocols https://khm.gov.ua/uk/city-council-decision | CQ11: yes | CR11: http://chmr.gov.ua/ua/files.php?s=2&s1=168&s2=391 http://rada.ck.ua/golos/golos | CS11: yes | CT11: http://chernivtsy.eu/portal/plenarni-zasidannya-rady; https://drive.google.com/drive/folders/19Bdz0Sfzun7Z2zvqN7TQGhZvUiufDwa7; https://drive.google.com/file/d/1ND7P3DgQWLFzXOlhLfPpEScGamg_P3rS/view | CU11: yes | CV11: http://chernigiv-rada.gov.ua/rishennya-sesii/sid-14/id-36506/ http://chernigiv-rada.gov.ua/vote-results/ | CW11: yes | CX11: http://shostka-rada.gov.ua/documents/protokoli_aparatnih_narad_pri_mskomu_golov3/ http://shostka-rada.gov.ua/documents/perelki_rshen_ta_rezultati_golosuvannya_sesj_msko_radi/ http://www.shostka-rada.gov.ua/documents/protokoli_aparatnih_narad_pri_mskomu_golov1/protokoli_aparatnih_narad_pri_mskomu_golov_2017
A12: Q11 | B12: Are materials of the City Council standing committees' sessions published on the City Council website (including transcripts, audio/video recording of the meetings, minutes of the meetings and the results of roll-call votes)? | C12: yes | D12: http://artemrada.gov.ua/18265 | E12: yes | F12: http://www.berdychiv.com.ua/sklad_komisiy.html | G12: yes | H12: https://bmr.gov.ua/index.php?id-800000714 https://bmr.gov.ua/index.php?id=800000317&no_cache=1&L=456 | I12: partially | J12: http://bc-rada.gov.ua/node/1838 | K12: yes | L12: http://brovary-rada.gov.ua/content/protokoli-postiynih-deputatskih-komisiy-vii-sklikannya.html | M12: yes | N12: https://www.vmr.gov.ua/Lists/CityCouncil/ShowContent.aspx?ID=79 | O12: yes | P12: https://dniprorada.gov.ua/uk/page/onlajn-translyacii-zasidan-postijnih-komisij-miskoi-radi | Q12: yes | R12: http://drohobych-rada.gov.ua/postijni-komisiyi2/ | S12: yes | T12: http://zt-rada.gov.ua/graficcomisiy | U12: yes | V12: https://zp.gov.ua/uk/organizations/category/komissii-miskrady/ https://zp.gov.ua/uk/organizations/item/47/postijna-komisiya-miskoi-radi-z-pitan-zhittezabezpechennya-mista | W12: yes | X12: http://www.mrada.if.ua/%D0%BF%D1%80%D0%BE-%D0%BC%D1%96%D1%81%D1%8C%D0%BA%D1%83-%D1%80%D0%B0%D0%B4%D1%83/%D0%B4%D0%B5%D0%BF%D1%83%D1%82%D0%B0%D1%82%D1%81%D1%8C%D0%BA%D1%96-%D0%BA%D0%BE%D0%BC%D1%96%D1%81%D1%96%D1%97 | Y12: no | AA12: yes | AB12: http://kam-pod.gov.ua/miska-vlada/videotransliatsii-zasidan-postiinykh-komisii-miskoi-rady http://kam-pod.gov.ua/rada/deputatsky-korpus/post-komisii-miskradi/arkhiv-protokoliv-zasidan-postiinykh-komisii-miskoi-rady | AC12: yes | AD12: http://kam.gov.ua/miska_vlada/miska_rada/plenarni_zasidannya | AE12: partially | AF12: https://kmr.gov.ua/uk/comisii/31 https://kmr.gov.ua/uk/comisii/28/zasidannya https://kmr.gov.ua/uk/comisii/28/video-archive https://kmr.gov.ua/uk/comisii/28/protokol https://kmr.gov.ua/uk/comisii/26 http://kmr.gov.ua/uk/comisii/21 https://kmr.gov.ua/uk/comisii/21/video https://kmr.gov.ua/uk/comisii/21/protokol https://kmr.gov.ua/uk/comisii/21/video-archive | AG12: yes | AI12: yes | AJ12: http://rada.konotop.org/2009-03-30-12-34-05/2015-03-02-09-06-46 | AK12: no | AM12: yes | AN12: http://www.krm.gov.ua/article/view/824 | AO12: yes | AP12: https://www.kremen.gov.ua/index.php/rozdil/miska_vlada/radanova/deputy/content/2040 | AQ12: yes | AR12: https://kr.gov.ua/ua/ua/osxfile/pg/300119751184086_s_2o/%D0%BF%BA.7z http://kr.gov.ua/ua/st/pg/20415937626381_s/ | AS12: yes | AT12: http://www.kr-rada.gov.ua/arhiv-zasidan/ http://www.kr-rada.gov.ua/postiyni-deputatski-komisiyi/ | AU12: yes | AV12: "Decision of sessions of city council" section "Live broadcast of city council sessions" section | AW12: yes | AX12: https://www.lutskrada.gov.ua/pages/protokoly-zasidan-postiinykh-komisii https://www.lutskrada.gov.ua/video-news/on-line | AY12: yes | AZ12: https://www.lvivrada.gov.ua/miska-rada/postiyni-komisii | BA12: yes | BB12: http://marsovet.org.ua/articles/show/article/2336 | BC12: no | BE12: partially | BF12: Protocols only | BG12: yes | BH12: https://mukachevo-rada.gov.ua/index.php/miska-vlada/mukachivska-miska-rada/protokoli-zasidan-postijnikh-komisij-miskoji-radi https://www.youtube.com/channel/UCzW60VEq1f-AchMKI6ox7PQ | BI12: yes | BJ12: http://www.nizhynrada.gov.ua/article/1335/zvtuvannya-mskogo-golovi.html | BK12: yes | BL12: http://nikopol-mrada.dp.gov.ua/publichna-informatsiia/protokolyzasidan-postiinykh-komisii-miskoi-rady http://nikopol-mrada.dp.gov.ua/publichna-informatsiia/arkhivprotokoliv-postiinykh-komisii-nmr | BM12: no | BO12: yes | BP12: https://deputat.odessa.ua/commissions/ https://deputat.odessa.ua/commissions/postoyannaya-komissiya-po-voprosam-planirovaniya-byudjeta-i/ | BQ12: yes | BR12: http://olexrada.gov.ua/category/city_rada/cg_st_komis | BS12: partially | BT12: https://pavlogradmrada.dp.gov.ua/category/miska-rada/protokoli-zasidan-postijjnikh-deputatskikh-komisijj | BU12: yes | BV12: http://www.rada-poltava.gov.ua/documents/inshi_dokumenti/ | BW12: yes | BX12: http://rivnerada.gov.ua/portal/commissions | BY12: yes | BZ12: http://sed-rada.gov.ua/miska-rada/postiyni-komisiyi-miskoyi-radi-vii-sklikannya | CA12: yes | CB12: http://e-deputat.slavrada.gov.ua/uk/commissions http://docs.slavrada.gov.ua/pdzas/ http://slavrada.gov.ua/?view=live http://slavrada.gov.ua/?view=live | CC12: yes | CD12: https://smr.gov.ua/uk/miska-vlada/miska-rada/postijni-komisiji/38-postijni-komisiji.html https://smr.gov.ua/uk/miska-vlada/miska-rada/postijni-komisiji/162-komisia-budget.html | CE12: partially | CF12: http://rada.te.ua/normativnie-dokument/protokoli_visnovki_rekomendatsiy/ | CG12: partially | CH12: https://rada-uzhgorod.gov.ua/rada_docs/show/protokol-№-201-zasidannia-postiinoi-komisii-z-pytan-rehuliuvannia-zemelnykh-vidnosyn-mistobuduvannia-ta-arkhitektury-vid-14082019 | CI12: yes | CJ12: http://uman-rada.gov.ua/index.php/dokumenty/protokoly-komisii | CK12: yes | CL12: https://doc.citynet.kharkov.ua/ | CM12: yes | CN12: http://www.city.kherson.ua/articles/protokoli-ta-visnovki-postiynih-komisiy-miskoyi-radi-vii-sklikannya | CO12: yes | CP12: https://khm.gov.ua/uk/commission-protocols | CQ12: yes | CR12: http://chmr.gov.ua/ua/sections.php?s=2 | CS12: yes | CT12: http://chernivtsy.eu/portal/postijni-deputatski-komisiyi-chernivetskoyi-miskoyi-rady | CU12: yes | CV12: http://chernigiv-rada.gov.ua/comisii/id-1409/ | CW12: no
A13: Q12 | B13: Are the regular reports of the mayor on his work published on the City Council website (at least annually)? | C13: yes | D13: http://artemrada.gov.ua/15891 | E13: no | G13: no | I13: yes | J13: https://new.bc-rada.gov.ua/miska_rada/zvitnist/zvituvannia_miskoho_holovy/zvit_miskoho_holovy_za_sichen-serpen_2018r.html | K13: yes | L13: http://brovary-rada.gov.ua/content/zvit-miskogo-golovi.html | M13: yes | N13: https://www.vmr.gov.ua/Lists/CityMajor/ShowContent.aspx?ID=3 | O13: yes | P13: "Regulatory Policy" and "City Council Documents" sections | Q13: yes | R13: http://drohobych-rada.gov.ua/zvity-miskogo-golovy/ | S13: yes | T13: http://zt-rada.gov.ua/?3505[0]=1 | U13: no | W13: yes | X13: http://www.mvk.if.ua/zvit/48978 http://www.mvk.if.ua/zvit/45623 http://www.mvk.if.ua/zvit/42474 | Y13: no | AA13: yes | AB13: http://kam-pod.gov.ua/files/zvit-mg.pdf http://kam-pod.gov.ua/novini/video-novini/item/51-zvit-miskoho-holovy-za-100-dniv | AC13: yes | AD13: http://kam.gov.ua/ua/person/pg/250116793923950_p8/ | AE13: yes | AF13: https://kyivcity.gov.ua/kyiv_ta_miska_vlada/richni_zviti_kmda/ | AG13: yes | AI13: yes | AJ13: http://rada.konotop.org/2011-07-19-10-56-08/2011-07-20-07-20-37 | AK13: no | AM13: yes | AN13: http://www.krm.gov.ua/article/view/32 | AO13: yes | AP13: https://www.kremen.gov.ua/?view=kremen-page&page-id=10 | AQ13: yes | AR13: https://kr.gov.ua/ua/ua/st/pg280219872744071_s/ | AS13: no | AT13: http://www.kr-rada.gov.ua/zviti/ | AU13: yes | AV13: "Mayor report" section | AW13: yes | AX13: https://www.lutskrada.gov.ua/publications/lutsk-u-2018-mu https://www.lutskrada.gov.ua/publications/zhkh-mista-lutska-pidsumky-2018-roku | AY13: no | BA13: yes | BB13: http://marsovet.org.ua/articles/show/menu/3226 | BC13: no | BE13: yes | BF13: https://mkrada.gov.ua/content/zvit-miskogo-golovi.html | BG13: yes | BH13: https://www.mukachevo-rada.gov.ua/index.php/miska-vlada/mukachivska-miska-rada/item/13797-zvitmiskohoholovypropidsumkyrobotymukachivskojradytaiivykonachohokomitetuza2018rik | BI13: yes | BJ13: http://www.nizhynrada.gov.ua/article/1335/zvtuvannya-mskogo-golovi.html | BK13: yes | BL13: http://nikopol-mrada.dp.gov.ua/vlada/zvity-miskoho-holovy | BM13: no | BO13: yes | BP13: https://www.omr.gov.ua/ua/city/mayor/ https://www.omr.gov.ua/ua/city/mayor/report/ | BQ13: yes | BR13: http://info.olexrada.gov.ua/store/zvit/zvit2017.pdf | BS13: yes | BT13: https://pavlogradmrada.dp.gov.ua/category/regulyatorka/zviti-pro-reg-diyalnist | BU13: yes | BV13: http://www.rada-poltava.gov.ua/documents/public_reports/ | BW13: yes | BX13: http://www.khomko.rv.ua/Khomko/ContentPages/Public/Mayor/mayor_zvit.aspx | BY13: yes | BZ13: http://sed-rada.gov.ua/miska-rada/zviti-miskogo-golovi-yogo-zastupnikiv-ta-sekretarya-radi | CA13: yes | CB13: http://slavrada.gov.ua/?view=news&newsID=23012 http://slavrada.gov.ua/?view=news&newsID=16883 http://slavrada.gov.ua/?view=news&newsID=13187 | CC13: yes | CD13: https://smr.gov.ua/uk/miska-vlada/miskij-golova/zviti.html | CE13: yes | CF13: http://zvit.nadal.te.ua/ | CG13: yes | CH13: https://rada-uzhgorod.gov.ua/web/uploads/sites/2/2019/01/zvit-redaktsiya-omt-ilovepdf-compressed.pdf | CI13: yes | CJ13: http://uman-rada.gov.ua/index.php/miska-vlada | CK13: no | CM13: yes | CN13: http://www.city.kherson.ua/articles/zvit-miskogo-golovi-2018 | CO13: yes | CP13: http://khm.gov.ua/uk/mayor-reports | CQ13: yes | CR13: http://chmr.gov.ua/ua/ | CS13: yes | CT13: http://chernivtsy.eu/portal/category/30 | CU13: yes | CV13: http://chernigiv-rada.gov.ua/news/id-450/ | CW13: yes | CX13: http://shostka-rada.gov.ua/zvti_organu_vladi/
A14: Q13 | B14: Is the information about the city mayor, City Council deputies (including CVs or biographical information, contact information, time and place of reception of citizens) published on the City Council website? | C14: yes | D14: http://artemrada.gov.ua/mayor http://artemrada.gov.ua/deputy/6_convocation | E14: yes | F14: http://www.berdychiv.com.ua/golova.html http://www.berdychiv.com.ua/deputaty_VII.html http://www.berdychiv.com.ua/miska-rada/priyom-gromadjan/ | G14: yes | H14: https://bmr.gov.ua/index.php?id=212&no_cache-l https://bmr.gov.ua/index.php?id=522 https://bmr.gov.ua/index.php?%20id=800000598&no_cache=%201 https://bmr.gov.ua/index.php? id=63 | I14: yes | J14: http://bc-rada.gov.ua/node/1835 | K14: yes | L14: http://brovary-rada.gov.ua/content/biografichna-dovidka.html http://brovary-rada.gov.ua/content/povnovazhennya.html http://brovary-rada.gov.ua/content/deputatskiy-korpus.html http://brovary-rada.gov.ua/content/grafik-priyomu-deputativ.html | M14: yes | N14: http://drv.vmr.gov.ua/deputaty.aspx https://www.vmr.gov.ua/Lists/CityMajor/Default.aspx | O14: yes | P14: https://dniprorada.gov.ua/uk/persons/item/211/filatov-boris-albertovich https://dniprorada.gov.ua/uk/persons/category/deputati-miskoi-radi-/ http://edeputat.dniprorada.gov.ua/uk/deputies | Q14: yes | R14: http://drohobych-rada.gov.ua/deputaty/ | S14: yes | T14: http://zt-rada.gov.ua/depytatu http://zt-rada.gov.ua/?3505[0]=27 | U14: yes | V14: https://zp.gov.ua/uk/persons/item/3/buryak-volodimir-viktorovich https://zp.gov.ua/uk/persons/category/deputati-miskoi-radi/ | W14: yes | X14: http://www.mvk.if.ua/biografija http://www.namvk.if.ua/dt/316554 http://www.mrada.if.ua/%D0%BF%D1%80%D0%BE-%D0%BC%D1%96%D1%81%D1%8C%D0%BA%D1%83-%D1%80%D0%B0%D0%B4%D1%83/%D0%BC%D1%96%D1%81%D1%8C%D0%BA%D0%B8%D0%B9-%D0%B3%D0%BE%D0%BB%D0%BE%D0%B2%D0%B0 http://www.mrada.if.ua/%D0%B4%D0%B5%D0%BF%D1%83%D1%82%D0%B0%D1%82%D0%B8-%D0%BC%D1%96%D1%81%D1%8C%D0%BA%D0%BE%D1%97-%D1%80%D0%B0%D0%B4%D0%B8/%D0%B4%D0%B5%D0%BF%D1%83%D1%82%D0%B0%D1%82%D1%81%D1%8C%D0%BA%D0%B8%D0%B9-%D0%BA%D0%BE%D1%80%D0%BF%D1%83%D1%81 | Y14: yes | Z14: http://www.izmail-rada.gov.ua/2009-09-14-09-14-45 http://www.izmail-rada.gov.ua/2011-11-16-07-26-09/2011-11-16-07-30-33 http://www.izmail-rada.gov.ua/2011-11-16-07-26-09/2011-11-16-07-28-13 | AA14: yes | AB14: http://kam-pod.gov.ua/miskiy-golova/biografiya http://kam-pod.gov.ua/rada/deputatsky-korpus/deputati-misk-radi/zagalnij-spisok-deputativ http://kam-pod.gov.ua/rada/deputatsky-korpus/deputati-misk-radi/spisok-deputativ-kam-yanets-podilskoji-miskoji-radi-v-bagatomandatnomu-viborchomu-okruzi | AC14: yes | AD14: http://kam.gov.ua/miska_vlada/kerivnitstvo_miskoi_radi http://kam.gov.ua/miska_vlada/miska_rada | AE14: yes | AF14: https://kyivcity.gov.ua/kyiv_ta_miska_vlada/kyivskyi_miskyi_holova/klychko_vitalii_volodymyrovych https://kmr.gov.ua/uk/deputats | AG14: yes | AI14: yes | AJ14: http://rada.konotop.org/2009-03-30-12-34-05 | AK14: yes | AL14: http://konstrada.gov.ua/vlada/miskij-golova http://konstrada.gov.ua/vlada/miska-rada/32-miska-rada/deputati-miskoji-radi | AM14: yes | AN14: http://www.krm.gov.ua/article/view/32 http://www.krm.gov.ua/person | AO14: yes | AP14: https://www.kremen.gov.ua/index.php/rozdil/miska_vlada/heads https://www.kremen.gov.ua/index.php/rozdil/miska_vlada/radanova/deputy | AQ14: yes | AR14: http://krmisto.gov.ua/ua/reception/orgs/group/id/14.html https://kr.gov.ua/deputatskiy_korpus | AS14: yes | AT14: http://www.kr-rada.gov.ua/miskiy-golova/ http://www.kr-rada.gov.ua/deputats/ | AU14: yes | AV14: "Mayor" section "The deputy corps" section | AW14: yes | AX14: https://www.lutskrada.gov.ua/sekretar-miskoi-rady/sekretar-miskoi-rady https://www.lutskrada.gov.ua/deputies https://www.lutskrada.gov.ua/pages/pryiom-hromadian-deputatamy https://www.lutskrada.gov.ua/city-government http://www.lutskrada.gov.ua/deputy | AY14: yes | AZ14: https://www.lvivrada.gov.ua/deputaty/deputaty-miskoi-rady | BA14: yes | BB14: http://marsovet.org.ua/articles/show/article/2366 | BC14: partially | BD14: http://mlt.gov.ua/index.php?option=com_content&task=view&id=6100 http://mlt.gov.ua/index.php?option=com_content&task=view&id=4276&Itemid=283 | BE14: yes | BF14: https://mkrada.gov.ua/content/miskiy-golova.html | BG14: yes | BH14: https://mukachevo-rada.gov.ua/index.php/miska-vlada/mukachivska-miska-rada/deputatskyi-korpus-2 https://mukachevo-rada.gov.ua/index.php/miska-vlada/miskyi-holova https://mukachevo-rada.gov.ua/index.php/miska-vlada/zastupnyky-miskoho-holovy | BI14: yes | BJ14: http://www.nizhynrada.gov.ua/article/88/avtobografya.html http://www.nizhynrada.gov.ua/article/87/grafk-priyomu.html http://www.nizhynrada.gov.ua/article/138/deputati-msko-radi.html http://www.nizhynrada.gov.ua/article/1338/zvtuvannya-deputatv-msko-radi.html | BK14: yes | BL14: http://nikopol-mrada.dp.gov.ua/vlada/miskyi-holova http://nikopol-mrada.dp.gov.ua/vlada/deputatskyi-korpus/miskarada http://nikopol-mrada.dp.gov.ua/vlada/osobystyi-pryiom-hromadian | BM14: no | BO14: yes | BP14: https://omr.gov.ua/ua/city/mayor/ https://deputat.odessa.ua/deputies/ https://deputat.odessa.ua/deputies/aleksandrochkin-aleksandr-yurevich/ | BQ14: yes | BR14: http://olexrada.gov.ua/category/mer http://olexrada.gov.ua/category/city_rada/dep_7_conv | BS14: partially | BT14: https://pavlogradmrada.dp.gov.ua/miska-rada/deputati.html | BU14: yes | BV14: http://www.rada-poltava.gov.ua/rule/rada/secretary/ http://www.rada-poltava.gov.ua/rule/rada/delegate/ http://www.rada-poltava.gov.ua/rule/rada/secretary/ http://www.rada-poltava.gov.ua/rule/rada/delegate/ | BW14: yes | BX14: http://rivnerada.gov.ua/portal/deputies | BY14: yes | BZ14: http://sed-rada.gov.ua/miska-rada/deputati http://sed-rada.gov.ua/novini-mista/informaciya-dlya-viborciv-sievierodonecka_09-09-2019 | CA14: yes | CB14: http://e-deputat.slavrada.gov.ua/uk/deputies | CC14: yes | CD14: https://smr.gov.ua/uk/miska-vlada/miskij-golova/biografiya.html https://smr.gov.ua/uk/zvorotnij-zv-yazok.html https://smr.gov.ua/uk/zvorotnij-zv-yazok/9503-polozhennia-pro-poriadok-roboty-zi-zvernenniamy-ta-orhanizatsii-osobystoho-pryiomu-hromadian-u-sumskii-miskii-radi-ta-ii-vykonavchykh-orhanakh.html https://smr.gov.ua/uk/miska-vlada/miska-rada/deputati/36-deputati.html https://smr.gov.ua/uk/miska-vlada/miska-rada/grafiki-prijomu-kerivnikiv-deputativ-ta-deputatskikh-fraktsij-i-grup-mista/1823-grafik-prijomu-deputatskikh-fraktsij-i-grup-v-sumskij-miskij-radi-vii-sklikannya-2016-2020-rr.html https://smr.gov.ua/uk/miska-vlada/miska-rada/grafiki-prijomu-kerivnikiv-deputativ-ta-deputatskikh-fraktsij-i-grup-mista/1827-grafiki-prijomu-deputativ-miskoji-radi.html | CE14: yes | CF14: http://rada.te.ua/miskiy-golova/ http://rada.te.ua/deputatskiy-korpus/ | CG14: yes | CH14: https://rada-uzhgorod.gov.ua/aparat/mer https://rada-uzhgorod.gov.ua/deputati-miskradu https://rada-uzhgorod.gov.ua/grafik-pryjomu-vybortsiv-deputatamy | CI14: yes | CJ14: http://uman-rada.gov.ua/index.php/miska-vlada | CK14: yes | CL14: http://www.city.kharkov.ua/uk/gorodskaya-vlast/gorodskoj-sovet/deputatyi.html http://www.city.kharkov.ua/uk/gorodskaya-vlast/gorodskoj-golova/obratnaya-svyaz/obratitsya-k-gorodskomu-golove.-lichnyij-priem.html http://www.city.kharkov.ua/uk/gorodskaya-vlast/gorodskoj-golova/biografiya.html | CM14: yes | CN14: http://www.city.kherson.ua/c/miska-vlada/s/kerivniki http://mvk.kherson.ua/DepList.php | CO14: yes | CP14: http://khm.gov.ua/uk/content/biografiya http://khm.gov.ua/uk/content/pryymalny http://khm.gov.ua/uk/content/zvernennya-gromadyan https://khm.gov.ua/uk/user/203 | CQ14: yes | CR14: http://chmr.gov.ua/ua/rada.php?s=2&s1=168&s2=456 | CS14: yes | CT14: http://chernivtsy.eu/portal/4091-2; http://chernivtsy.eu/portal/11651-2; http://chernivtsy.eu/portal/8629-2 http://chernivtsy.eu/portal/9/842-842.html | CU14: yes | CV14: http://chernigiv-rada.gov.ua/mr-golova-biografiya/ http://chernigiv-rada.gov.ua/deputat/ | CW14: yes | CX14: http://shostka-rada.gov.ua/government/
A15: Q14 | B15: Is the information on the list and contact details of the City Council standing committees, as well as names of Council standing committees’ members published on the City Council website? | C15: yes | D15: http://artemrada.gov.ua/deputy/comition http://artemrada.gov.ua/deputy/6_convocation | E15: yes | F15: http://www.berdychiv.com.ua/sklad_komisiy.html | G15: yes | H15: https://bmr.gov.ua/index.php?id=58&L=456 | I15: yes | J15: http://bc-rada.gov.ua/node/1838 | K15: yes | L15: http://brovary-rada.gov.ua/content/postiyni-komisii.html | M15: yes | N15: https://www.vmr.gov.ua/Lists/CityCouncil/ShowContent.aspx?ID=64 | O15: yes | P15: https://dniprorada.gov.ua/uk/page/postijni-komissii-miskoi-radi | Q15: yes | R15: http://drohobych-rada.gov.ua/postijni-komisiyi2/ | S15: yes | T15: http://zt-rada.gov.ua/graficcomisiy | U15: yes | V15: https://zp.gov.ua/uk/organizations/item/49/postijna-komisiya-miskoi-radi-z-pitan-regulyatornoi-politiki-rozvitku-pidpriemnictva-torgivli-poslug-ta-zahistu-prav-spozhivachiv | W15: yes | X15: http://www.mrada.if.ua/%D0%BF%D1%80%D0%BE-%D0%BC%D1%96%D1%81%D1%8C%D0%BA%D1%83-%D1%80%D0%B0%D0%B4%D1%83/%D0%B4%D0%B5%D0%BF%D1%83%D1%82%D0%B0%D1%82%D1%81%D1%8C%D0%BA%D1%96-%D0%BA%D0%BE%D0%BC%D1%96%D1%81%D1%96%D1%97 | Y15: partially | Z15: http://www.izmail-rada.gov.ua/2011-11-16-07-26-09/2011-11-16-07-28-44 | AA15: yes | AC15: yes | AD15: http://kam.gov.ua/ua/osxfile/pg/240419123878605_p1_1o/1880982217.doc | AE15: yes | AF15: https://kmr.gov.ua/uk/comisii https://kmr.gov.ua/uk/comisii/28/sklad (http://kmr.gov.ua/uk/comisii/21/sklad) https://kyivcity.gov.ua/kyiv_ta_miska_vlada/kmr/postiini_komisii/ | AG15: yes | AH15: http://www.kovelrada.gov.ua/publichna_informaciya_cshodo_sluzhbi_v_organah_miscevogo_samovryaduvannya.html | AI15: yes | AJ15: http://rada.konotop.org/2009-03-30-12-34-05 | AK15: yes | AL15: http://konstrada.gov.ua/vlada/miska-rada/35-miska-rada/postijni-komisiji | AM15: yes | AN15: http://www.krm.gov.ua/article/view/45 http://www.krm.gov.ua/article/view/46 http://www.krm.gov.ua/article/view/821 | AO15: yes | AP15: https://www.kremen.gov.ua/index.php/rozdil/miska_vlada/radanova/deputy/page/432 | AQ15: yes | AR15: https://kr.gov.ua/ua/st/pg/181018802279585_s/ | AS15: yes | AT15: http://www.kr-rada.gov.ua/postiyni-deputatski-komisiyi.html | AU15: yes | AV15: "Permanent City Council Commissions" section | AW15: yes | AX15: https://www.lutskrada.gov.ua/pages/postiini-komisii-miskoi-rady https://www.lutskrada.gov.ua/komisii-lutskoi-miskoi-rady | AY15: yes | AZ15: https://www.lvivrada.gov.ua/miska-rada/postiyni-komisii | BA15: yes | BB15: http://marsovet.org.ua/articles/show/article/2366 | BC15: no | BE15: yes | BF15: According to the decree of the mayor (April 03, 2015 No. 59r) "About launching the Internet portal "Mykolaiv city council" and measures for its functioning" | BG15: yes | BH15: https://mukachevo-rada.gov.ua/index.php/miska-vlada/mukachivska-miska-rada/deputatskyi-komisii | BI15: yes | BJ15: http://www.nizhynrada.gov.ua/article/98/frakts-ta-postyn-deputatsk-koms.html | BK15: yes | BL15: http://nikopol-mrada.dp.gov.ua/vlada/deputatskyi-korpus/postiinikomisii-nikopolskoi-miskoi-rady-vii-sklykannia | BM15: yes | BN15: http://www.novomoskovsk-rada.gov.ua/comissions | BO15: yes | BP15: https://deputat.odessa.ua/commissions/ | BQ15: yes | BR15: http://olexrada.gov.ua/category/city_rada/cg_st_komis | BS15: partially | BT15: https://pavlogradmrada.dp.gov.ua/miska-rada/postoyannaya-deputatskaya-komissiya-po-voprosam-zakonnosti-deputatskojj-ehtiki-svyazyam-s-politicheskimi-partiyami-obshhestvennymi-organizaciyami-i-sredstvami-massovojj-informacii.html | BU15: yes | BV15: http://www.rada-poltava.gov.ua/rule/rada/secretary/ http://www.rada-poltava.gov.ua/rule/rada/delegate/ http://www.rada-poltava.gov.ua/rule/rada/comission/ | BW15: yes | BX15: http://rivnerada.gov.ua/portal/commissions | BY15: yes | BZ15: http://sed-rada.gov.ua/postiyni-komisiyi-miskoyi-radi-vii-sklikannya/personalniy-sklad-postiynih-komisiy-miskoyi-radi-vii-sklikannya | CA15: yes | CB15: http://e-deputat.slavrada.gov.ua/uk/commissions | CC15: yes | CD15: https://smr.gov.ua/uk/miska-vlada/miska-rada/postijni-komisiji/38-postijni-komisiji.html | CE15: partially | CF15: http://rada.te.ua/deputatski-komisii/ | CG15: yes | CH15: https://rada-uzhgorod.gov.ua/postijni-komisiyi-uzhgorodskoyi-miskoyi-rady/ | CI15: yes | CJ15: http://uman-rada.gov.ua/index.php/postiini-komisii | CK15: yes | CL15: http://www.city.kharkov.ua/uk/gorodskaya-vlast/gorodskoj-sovet/komissii.html | CM15: yes | CN15: http://www.city.kherson.ua/upload/sklad_komissi_300819.pdf | CO15: yes | CP15: https://khm.gov.ua/uk/content/postiyni-komisiyi | CQ15: yes | CR15: http://chmr.gov.ua/ua/files.php?s=2&s1=168&s2=398 | CS15: yes | CT15: http://chernivtsy.eu/portal/9/872-872.html | CU15: yes | CV15: http://chernigiv-rada.gov.ua/comisii/ | CW15: yes | CX15: http://shostka-rada.gov.ua/government/miska_rada/deputatsk_koms_shostkinsko_msko_radi_v_sklikannya/
A16: Q15 | B16: Is the information on the contact details of the City Council executive committee and names of its members published on the City Council website? | C16: yes | D16: http://artemrada.gov.ua/executivecommittee/members | E16: yes | F16: http://www.berdychiv.com.ua/sklad_vikonavchogo_komtetu.html | G16: yes | H16: https://bmr.gov.ua/index.php?%20id=225&L=%D%201%20%96%D0%%20BD%D1%84%D0%BE | I16: yes | J16: http://bc-rada.gov.ua/node/1841 | K16: yes | L16: http://brovary-rada.gov.ua/content/chleni-vikonavchogo-komitetu.html | M16: yes | N16: https://www.vmr.gov.ua/Lists/TheExecutiveCommittee/ShowContent.aspx?ID=24 | O16: yes | P16: https://dniprorada.gov.ua/uk/page/vikonkom-miskoi-radi | Q16: yes | R16: http://drohobych-rada.gov.ua/vykonavchyj-komitet/ | S16: yes | T16: http://zt-rada.gov.ua/?3506[0]=3 | U16: yes | V16: https://zp.gov.ua/uk/persons/category/vykonkom/ | W16: yes | X16: http://www.mvk.if.ua/sclad | Y16: partially | Z16: http://www.izmail-rada.gov.ua/2009-09-14-09-14-45/2010-02-23-10-11-08 | AA16: yes | AB16: http://kam-pod.gov.ua/vikonkom/sklad-vikonavchogo-komitetu | AC16: yes | AD16: http://kam.gov.ua/vikonavchiy_komitet_miskoi_radi/sklad_10 | AE16: yes | AF16: https://kyivcity.gov.ua/ | AG16: yes | AI16: yes | AJ16: http://rada.konotop.org/2009-03-30-12-34-05/2009-04-10-12-33-56 | AK16: yes | AL16: http://konstrada.gov.ua/vlada/vikonavchij-komitet/42-vikonavchij-komitet/sklad-vikonavchogo-komitetu | AM16: yes | AN16: http://www.krm.gov.ua/article/view/58 | AO16: yes | AP16: https://www.kremen.gov.ua/index.php/rozdil/miska_vlada/komitet | AQ16: yes | AR16: http://krmisto.gov.ua/ua/reception/orgs/group/id/14.html https://kr.gov.ua/sklad_vikonavchogo_komitetu/viddili_upravlinnya_inshi_vikonavchi_organi_miskoi_radi http://kr.gov.ua/sklad_vikonavchogo_komitetu | AS16: yes | AT16: http://kr-rada.gov.ua/vikonavchiy-komitet/ | AU16: yes | AV16: "Members of the Executive Committee" section | AW16: yes | AX16: https://www.lutskrada.gov.ua/city-government/committee http://www.lutskrada.gov.ua/executive-committee | AY16: yes | AZ16: https://city-adm.lviv.ua/lmr/executive-committee/view | BA16: yes | BB16: http://marsovet.org.ua/articles/show/article/36 | BC16: partially | BD16: http://mlt.gov.ua/index.php?option=com_frontpage&Itemid=1 | BE16: yes | BF16: https://mkrada.gov.ua/content/sklad-vikonkomu.html | BG16: yes | BH16: https://mukachevo-rada.gov.ua/index.php/miska-vlada/vykonavchyi-komitet/sklad-vikonkomu | BI16: yes | BJ16: http://www.nizhynrada.gov.ua/article/100/sklad-vikonavchogo-komtetu.html | BK16: yes | BL16: http://nikopol-mrada.dp.gov.ua/vykonavchyi-komitet/skladvykonavchoho-komitetu-nikopolskoi-miskoi-rady | BM16: yes | BN16: http://www.novomoskovsk-rada.gov.ua/static/chleni-vikonavchogo-komitetu http://www.novomoskovsk-rada.gov.ua/graphic | BO16: yes | BP16: https://omr.gov.ua/ua/city/committee/members/ https://omr.gov.ua/ua/city/deputy/orlovskiy/ | BQ16: yes | BR16: http://olexrada.gov.ua/category/vkk/sklad_vk | BS16: partially | BT16: https://pavlogradmrada.dp.gov.ua/vikonkom-2/sklad-vikonkomu.html | BU16: yes | BV16: http://www.rada-poltava.gov.ua/rule/rada/comission/ | BW16: yes | BX16: http://rivnerada.gov.ua/portal/execcommittee | BY16: yes | BZ16: http://sed-rada.gov.ua/vikonavchiy-komitet/sklad-vikonavchogo-komitetu | CA16: yes | CB16: http://slavrada.gov.ua/?view=sostav_ispolkom | CC16: yes | CD16: https://smr.gov.ua/uk/miska-vlada/vikonavchi-organi/vikonavchij-komitet/46-vikonavchij-komitet.html | CE16: yes | CF16: http://rada.te.ua/vikonavchiy-komitet/ | CG16: yes | CH16: https://rada-uzhgorod.gov.ua/chleni-vukonkomu | CI16: yes | CJ16: http://uman-rada.gov.ua/index.php/vykonavchyi-komitet | CK16: partially | CL16: http://www.city.kharkov.ua/uk/gorodskaya-vlast/ispolnitelnyie-organyi/sostav-ispolkoma.html | CM16: partially | CO16: yes | CP16: http://khm.gov.ua/uk/composition_executive_committee | CQ16: yes | CR16: http://chmr.gov.ua/ua/text.php?s=2&s1=457 | CS16: yes | CT16: http://chernivtsy.eu/portal/11491-2 | CU16: yes | CV16: http://chernigiv-rada.gov.ua/comitet/ | CW16: yes | CX16: http://shostka-rada.gov.ua/government/ http://www.shostka-rada.gov.ua/government/vikonavchij_komitet
