Workbook

Sheet MD-info
A1: Nr. | B1: Company | C1: Activity | D1: NACE | F1: State owned part | H1: Address | I1: Web site/Email | J1: Number of employees | K1: Link Financial reports
A2: 1 | B2: S.A. Tutun-CTC | C2: Tabaco processor and cigarettes producer | D2: C | E2: 12 | F2: 90.81 | H2: str.Ismail 116, MD-2023 mun.Chişinău | I2: http://tutun-ctc.md/ | J2: 500-999 | K2: http://tutun-ctc.md/wp-content/uploads/2017/06/raport-financiar-2016.pdf
A3: 2 | B3: S.A. Combinatul de Panificatie din Chisinau Franzeluta | C3: The biggest producer of bakery products | D3: C | E3: 10 | F3: 52.51 | H3: str. Sarmizegetusa, 30, mun. Chisinau | I3: http://www.franzeluta.info/ | J3: 1000-4999 | K3: http://www.franzeluta.info/files/raport-anual-al-societatii-2016.pdf
A4: 3 | B4: S.A.Termoelectrica | C4: Provides heating and hot water in Chisinau | D4: E | E4: 36 | F4: 100 | H4: mun.Chişinău,str.Meşterul Manole,3 | I4: termoelectrica.md | J4: 500-999 | K4: https://www.termoelectrica.md/wp-content/uploads/2016/04/Raportul-anual-2016-TERMOELECTRICA-SA.pdf
A5: 4 | B5: S.A. Tracom | C5: Manufacturing of tractors | D5: C | E5: 29 | F5: 93.18 | H5: str. Columna 170, mun. Chisinau | I5: tracom.md | J5: 50-99 | K5: http://tracom.md/wp-content/uploads/2017/05/raport_financiar_2016.pdf
A6: 5 | B6: S.A. Moldetelecom | C6: Telecommunication and phone services | D6: J | E6: 61 | F6: 100 | H6: bd. Ştefan cel Mare şi Sfânt, 10, MD 2001, Chişinău, | I6: moldtelecom.md | J6: 1000-4999 | K6: http://www.moldtelecom.md/common/documents/Anexa%201.1_2016.pdf
A7: 6 | B7: I.S. Moldsuinhibrid | C7: Research center of selection and swine hybridization | D7: A | E7: 01 | F7: 100 | H7: str. Nistreana 50, or. Orhei | I7: moldsuinhibrid@yandex.ru | J7: 50-99 | K7: http://maia.gov.md/sites/default/files/article/rapoarte_note_informative/Fisiere/sf_2016.pdf
A8: 7 | B8: I.S. Mecagro | C8: Development of policies for agricultural sector, trade of agricultural equipment | D8: A | E8: 01 | F8: 100 | H8: str. Miron Costin 7, mun. Chisinau | I8: mecagro.md | J8: 190 | K8: http://maia.gov.md/sites/default/files/article/rapoarte_note_informative/Fisiere/raport-compressed.pdf
A9: 8 | B9: I.S. Centrul National de Verificare a Calitatii Productiei Alcoolice | C9: Center for Quality Control of Alcoholic Production | D9: M | E9: 71 | F9: 100 | H9: str. Grenoble 128, or. Codru, mun. Chisinau | I9: cnvcpa.md | J9: 50-99 | K9: http://cnvcpa.md/wp-content/uploads/2017/05/raport-financiar.pdf
A10: 9 | B10: I.S. Centrul Informational Agricol | C10: Training courses for farmers | D10: P | E10: 85 | F10: 100 | H10: bd. Cuza-Voda 5/1, mun. Chisinau | I10: cia.md | J10: 20-49 | K10: http://maia.gov.md/sites/default/files/article/rapoarte_note_informative/Fisiere/raport_cia.pdf
A11: 10 | B11: I.S. Calea Ferata | C11: Rail road company | D11: H | E11: 49 | F11: 100 | H11: str. Vlaicu Pircalab 48, mun. Chisinau | I11: railway.md | J11: 1000-4999 | K11: http://www.railway.md/content/ro/2-Company/31-Finance/2016/fin_2016.pdf?rand=170404020
A12: 11 | B12: I.S. Administratia de stat a drumurilor | C12: Maintenance of national roads | D12: F | E12: 42 | F12: 100 | H12: str. Bucuriei 12a, mun. Chisinau | I12: asd.md | J12: 50-99 | K12: http://www.asd.md/storage/topic/thumbs/files/Situatiile%20Financiare%20%20ANUL%20%20%202016.pdf
A13: 12 | B13: I.S. Moldatsa | C13: Provides services in maintenance of air traffic | D13: H | E13: 52 | F13: 100 | H13: bd. Dacia 80/4, mun. Chisinau | I13: moldatsa.md | J13: 250-499 | K13: http://moldatsa.md/upload/SITUA%C5%A2IILE%20FINANCIARE%20pentru%20anul%202016.pdf
A14: 13 | B14: I.S. Centrul Tehnic pentru Securitate Industriala si Certificare | C14: Certification and and testing of industrial materials | D14: M | E14: 71 | F14: 100 | H14: str. S. Lazo 48, mun. Chisinau | I14: http://www.ctsic.md/ | J14: 100-249 | K14: downloaded
A15: 14 | B15: I.S. Moldelectrica | C15: Maintenance of the electric national networks | D15: D | E15: 35 | F15: 100 | H15: str. V. Alecsandri 78, mun. Chisinau | I15: moldelectrica.md | J15: 1000-4999 | K15: http://www.moldelectrica.md/files/docs/situatia_financiara_2016.pdf
A16: 15 | B16: I.S. Fiscservinform | C16: The calculation and informative center that provides services for National tax inspectorate | D16: M | E16: 74 | F16: 100 | H16: str. Constantin Tanase 6, mun. Chisinau | I16: fiscservinform.md | J16: 100-249 | K16: downloaded
A17: 16 | B17: I.S. Vamservinform | C17: The calculation and informative center that provides services for Customs | D17: M | E17: 74 | F17: 100 | H17: str. Petricani 21/3, mun. Chisinau | I17: vsi.md | J17: 100-249 | K17: http://www.vsi.md/wp-content/uploads/2017/11/raport-audit-2016.pdf
A18: 17 | B18: I.S. Servicii Paza | C18: Security services | D18: N | E18: 80 | F18: 100 | H18: str. Motropolit Varlaam 79, mun. Chisinau | I18: serviciipaza.md | J18: 1000-4999 | K18: http://www.serviciipaza.md/sites/default/files/advance_page/situatia_financiara_2016.pdf
A19: 18 | B19: I.S. MoldData | C19: Domain Name Registrar .MD and provider of generic domain extensions | D19: J | E19: 63 | F19: 100 | H19: str. Armeneasca 37/1, mun. Chisinau | I19: molddata.md | J19: 50-99 | K19: https://molddata.md/files/files/Situatiile%20financiare%202016.pdf
A20: 19 | B20: I.S. Centrul de Telecomunicatii Speciale | C20: Electronic signature and data services | D20: J | E20: 63 | F20: 100 | H20: str. Piata Marii Adunari Nationale 1, mun. Chisinau | I20: cts.md | J20: 50-99 | K20: http://cts.md/sites/default/files/situatiile_financiare_cts_2016.pdf
A21: 20 | B21: I.S. Camera Inregistrarii de Stat | C21: Keeps the register and register companies | D21: N | E21: 82 | F21: 100 | H21: str. Stefan cel Mare 73, mun. Chisinau | I21: cis.gov.md | J21: 400-799 | K21: http://www.cis.gov.md/sites/default/files/Situatii%20Financiare%202016.pdf
A22: 21 | B22: S.A. Drumuri Cahul | C22: Construction and roads service | D22: F | E22: 42 | F22: 98.85 | H22: str. M. Viteazul 25, or. Cahul | I22: N/A | J22: 100-249 | K22: http://www.old.mtid.gov.md/sites/default/files/document/attachments/Situatiile%20Financiare%202016%20SA%20Drumuri%20Cahul.PDF
A23: 22 | B23: S.A. Metalferos | C23: The monopolist in collecting and exporting scrap metal | D23: E | E23: 38 | F23: 78.28 | H23: str. Feroviarilor 1/3, Vatra | I23: N/A | J23: 100-249 | K23: downloaded
A24: 23 | B24: S.A. Retelele Electrice de Distributie Nord Vest | C24: Electrical distribution in the north west part of the country | D24: D | E24: 35 | F24: 100 | H24: or. Donduseni | I24: N/A | J24: 500-999 | K24: downloaded
A25: 24 | B25: I.S. Posta Moldovei | C25: Post services | D25: H | E25: 53 | F25: 100 | H25: bd. Stefan cel Mare 134, mun. Chisinau | I25: posta.md | J25: 1000-4999 | K25: downloaded
A26: 25 | B26: S.A. Moldovagaz | C26: Import and distribution of natural gas (monopolist) | D26: D | E26: 35 | F26: 35.33 | H26: str. Albisoara 38, mun. Chisinau | I26: moldovagaz.md | J26: 100-249 | K26: downloaded
A27: 26 | B27: S.A. Energocom | C27: Procurement and deliveries of electrical energy | D27: D | E27: 35 | F27: 100 | H27: str. V. Alecsandri 78, mun. Chisinau | I27: vganea@mail.ru | J27: 10-19 | K27: downloaded
A28: 27 | B28: I.S. Garile si statiile auto | C28: Maintenance of national bus stations | D28: H | E28: 49 | F28: 100 | H28: str. M. Varlaam 58, mun. Chisinau | I28: N/A | J28: 100-249 | K28: http://www.old.mtid.gov.md/sites/default/files/document/attachments/Situatiile%20Financiare%202016%20Garile%20si%20Statiile%20Auto.pdf
A29: 28 | B29: I.S. Moldaeroservice | C29: Provider of aviation services | D29: H | E29: 51 | F29: 100 | H29: bd. Dacia 80/7, mun. Chisinau | I29: moldaero@gmail.com | J29: N/A | K29: http://www.old.mtid.gov.md/sites/default/files/document/attachments/Situatiile%20Financiare%202016%20Moldaeroservice.PDF
A30: 29 | B30: S.A. Gara de nord | C30: Management of bus stations for the north region of the country | D30: H | E30: 49 | F30: 85 | H30: str. M. Varlaam 58, mun. Chisinau | I30: garadenord@mail.ru | J30: 100-249 | K30: http://www.old.mtid.gov.md/sites/default/files/document/attachments/Situatiile%20Financiare%202016%20Gara%20Nord.pdf
A31: 30 | B31: I.S. Cadastru | C31: Keeps the register and register the property such as buildings, land, etc. | D31: M | E31: 71 | F31: 100 | H31: str. Puskin 47, mun. Chisinau | I31: cadastru.md | J31: 1000-3999 | K31: downloaded
A32: 31 | B32: I.S. Centrul de Stat pentru Atestarea si Omologarea Produselor de uz Fitosanitar si a Fertilizantilor | C32: Certification and Approval of Phytosanitary and Fertilizer Products | D32: M | E32: 71 | F32: 100 | H32: str. Sarmizegetusa, 16A, mun. Chisinau | I32: pesticide.md | J32: 20-49 | K32: downloaded
A33: 32 | B33: I.S. Air Moldova | C33: Airline company | D33: H | E33: 51 | F33: 100 | H33: bd. Dacia 80/2, mun. Chisinau | I33: airmoldova.md | J33: 500-999 | K33: downloaded
A34: 33 | B34: I.S. Directia Servicii pentru Corpul Diplomatic | C34: Provides services for Diplomacy corps of Ministry of External affairs | D34: N | E34: 82 | F34: 100 | H34: str. A. cel Bun 42, mun. Chisinau | I34: http://www.mfa.gov.md/diplomatic-corps-services-division-ro/ | J34: N/A | K34: downloaded
A35: 34 | B35: I.S. Fintehinform | C35: The calculation and informative center that provides services for Finance Ministry | D35: M | E35: 74 | F35: 100 | H35: str. Cosmonautilor 7, mun. Chisinau | I35: fintehinform.md | J35: 50-99 | K35: downloaded
A36: 35 | B36: I.S. Centrul de pregatire a specialistilor pentru Armata Nationala | C36: Training services for the workers in the National army | D36: O | E36: 84 | F36: 100 | H36: str. M. Dosoftei 124, mun. Chisinau | I36: cps.md | J36: 100-249 | K36: downloaded
A37: 36 | B37: I.S. Combinatul Polligrafic | C37: Polygraphy and printing services | D37: C | E37: 18 | F37: 100 | H37: str. P. Movila 35, mun. Chisinau | I37: poligrafic.md | J37: 100-249 | K37: downloaded
A38: 37 | B38: I.S. Centrul National pentru Frecvente Radio | C38: Provides radio frequencies for Radio companies | D38: J | E38: 61 | F38: 100 | H38: str. Drumul Viilor 28/2, mun. Chisinau | I38: cnfr.md | J38: N/A | K38: downloaded
A39: 38 | B39: I.S. Palatul Republicii | C39: Provides rent services for concerts and other events | D39: L | E39: 68 | F39: 100 | H39: str. Maria Cibotari 16, mun. Chisinau | I39: palatulrepublicii.md | J39: 50-99 | K39: downloaded
A40: 39 | B40: I.S. Complexul Casa Presei | C40: Rent services | D40: L | E40: 68 | F40: 100 | H40: str. Puskin 22, mun. Chisinau | I40: casapresei.md | J40: 20-49 | K40: downloaded
...

Sheet MD-data
E3: S.A. Tutun-CTC | G3: S.A Franzeluta | I3: S.A.Termoelectrica | K3: S.A. Tracom | M3: S.A. Moldetelecom | O3: I.S. Moldsuinhibrid | Q3: I.S. Mecagro | S3: I.S. CNVCPA | U3: I.S.Centrul Informational Agricol | W3: I.S. Calea Ferata | Y3: I.S. Administratia de stat a drumurilor | AA3: I.S. Moldatsa | AC3: I.S. CTSIC | AE3: I.S. Moldelectrica | AG3: I.S. Fiscservinform | AI3: I.S. Vamservinform | AK3: I.S. Servicii Paza | AM3: I.S. MoldData | AO3: I.S. C.Telecomunicatii Speciale | AQ3: I.S CIS | AS3: S.A. Drumuri Cahul | AU3: S.A Metalferos | AW3: S.A. Red Nord Vest | AY3: I.S. Posta Moldovei | BA3: S.A. Moldovagaz | BC3: S.A Energocom | BE3: I.S. Garile si statiile auto | BG3: I.S. Moldaeroservice | BI3: S.A. Gara de nord | BK3: I.S. Cadastru | BM3: CS Omologarea FITO | BO3: I.S. Air Moldova | BQ3: Dir. Corp Diplomatic | BS3: I.S Fintehinform | BU3: I.S. CP Armata Nationala | BW3: I.S. Combinatul Polligrafic | BY3: I.S. Frencvente Radio | CA3: I.S. Palatul Republicii | CC3: I.S Casa Presei | CE3: I.S. CRARA | CG3: I.S. CSECPC | CI3: I.S. SSPIM | CK3: I.S. Indal Proiect | CM3: I.S. SDE Criuleni | CO3: I.S. Centrul de elaborari economice si productie | CQ3: I.S. Dumbrava Vest | CS3: I.S. Viva Flora | CU3: I.S CMAC | CW3: I.S. CRIA | CY3: S.A. Drumuri Ialoveni
B4: Balance sheet | C4: Bilantul Contabil | E4: 2015 | F4: 2016 | G4: 2015 | H4: 2016 | I4: 2015 | J4: 2016 | K4: 2015 | L4: 2016 | M4: 2015 | N4: 2016 | O4: 2015 | P4: 2016 | Q4: 2015 | R4: 2016 | S4: 2015 | T4: 2016 | U4: 2015 | V4: 2016 | W4: 2015 | X4: 2016 | Y4: 2015 | Z4: 2016 | AA4: 2015 | AB4: 2016 | AC4: 2015 | AD4: 2016 | AE4: 2015 | AF4: 2016 | AG4: 2015 | AH4: 2016 | AI4: 2015 | AJ4: 2016 | AK4: 2015 | AL4: 2016 | AM4: 2015 | AN4: 2016 | AO4: 2015 | AP4: 2016 | AQ4: 2015 | AR4: 2016 | AS4: 2015 | AT4: 2016 | AU4: 2015 | AV4: 2016 | AW4: 2015 | AX4: 2016 | AY4: 2015 | AZ4: 2016 | BA4: 2015 | BB4: 2016 | BC4: 2015 | BD4: 2016 | BE4: 2015 | BF4: 2016 | BG4: 2015 | BH4: 2016 | BI4: 2015 | BJ4: 2016 | BK4: 2015 | BL4: 2016 | BM4: 2015 | BN4: 2016 | BO4: 2015 | BP4: 2016 | BQ4: 2015 | BR4: 2016 | BS4: 2015 | BT4: 2016 | BU4: 2015 | BV4: 2016 | BW4: 2015 | BX4: 2016 | BY4: 2015 | BZ4: 2016 | CA4: 2015 | CB4: 2016 | CC4: 2015 | CD4: 2016 | CE4: 2015 | CF4: 2016 | CG4: 2015 | CH4: 2016 | CI4: 2015 | CJ4: 2016 | CK4: 2015 | CL4: 2016 | CM4: 2015 | CN4: 2016 | CO4: 2015 | CP4: 2016 | CQ4: 2015 | CR4: 2016 | CS4: 2015 | CT4: 2016 | CU4: 2015 | CV4: 2016 | CW4: 2015 | CX4: 2016 | CY4: 2015 | CZ4: 2016
B6: Fixed Assets | C6: Active imobilizate
B7: Intangible assets | C7: Imobilizări necorporale | E7: 259368 | F7: 197140 | G7: 1968550 | H7: 1488647 | I7: 3294189 | J7: 2460648 | L7: 59390 | M7: 15554361 | N7: 24091828 | O7: 105684 | P7: 75605 | Q7: 14963 | R7: 41061 | S7: 62752 | T7: 1118522 | U7: 2314263 | V7: 2265769 | W7: 18635803 | X7: 18313790 | Y7: 165506 | Z7: 84130 | AA7: 436728 | AB7: 357922 | AC7: 213779 | AD7: 243456 | AE7: 32957316 | AF7: 28314515 | AG7: 791481 | AH7: 996108 | AI7: 2696707 | AJ7: 2680276 | AK7: 1168730 | AL7: 1951415 | AM7: 55488 | AN7: 47943 | AO7: 2100092 | AP7: 782231 | AQ7: 36399 | AR7: 60137 | AS7: 19958 | AT7: 15876 | AU7: 43877 | AV7: 34121 | AW7: 7025535 | AX7: 7320377 | AY7: 3366160 | AZ7: 6808595 | BA7: 12156502 | BB7: 17267755 | BC7: 12407 | BD7: 8246 | BE7: 437 | BF7: 10161 | BH7: 9611 | BI7: 98824 | BJ7: 71392 | BK7: 4220420 | BL7: 2422290 | BM7: 50750 | BN7: 36160 | BO7: 720950 | BP7: 1551140 | BQ7: 2000 | BR7: 4820 | BS7: 19790 | BT7: 50530 | BU7: 148600 | BV7: 131200 | BW7: 154240 | BX7: 121970 | BY7: 810710 | BZ7: 37770 | CC7: 3910 | CD7: 2030 | CF7: 5213 | CG7: 19078 | CH7: 49800 | CK7: 13958 | CL7: 19042 | CO7: 7482 | CP7: 7166 | CU7: 540657 | CV7: 576977 | CW7: 4830 | CX7: 3394 | CY7: 216585 | CZ7: 183646
B8: Tangible fixed assets under construction | C8: Imobilizări corporale în curs de execuție | E8: 1965432 | F8: 2726553 | I8: 137094060 | J8: 396878519 | K8: 15247380 | L8: 16922652 | M8: 1441953084 | N8: 1413899489 | Q8: 320025 | R8: 320025 | S8: 22250 | U8: 310326 | V8: 310326 | W8: 518733515 | X8: 525957133 | Y8: 2595175255 | Z8: 1549110887 | AA8: 13841089 | AC8: 11332616 | AD8: 11355570 | AE8: 27693903 | AF8: 19975587 | AG8: 1245849 | AH8: 780353 | AI8: 24708 | AJ8: 32708 | AK8: 540700 | AL8: 486564 | AO8: 7878156 | AP8: 2431351 | AQ8: 190567 | AR8: 1248822 | AS8: 9979 | AT8: 105569 | AU8: 1769046 | AV8: 10828195 | AW8: 27860336 | AX8: 7196402 | AY8: 1302108 | AZ8: 5256853 | BA8: 258075042 | BB8: 268009558 | BE8: 3443982 | BF8: 2860803 | BH8: 46159 | BI8: 35314176 | BJ8: 19306677 | BK8: 2672340 | BL8: 1458300 | BO8: 449930 | BP8: 449930 | BU8: 60540 | BV8: 46860 | BY8: 1614540 | BZ8: 10148160 | CG8: 78452 | CH8: 78452 | CU8: 1147470 | CV8: 1149645 | CY8: 59577 | CZ8: 30500
B9: Long term financial assets | C9: Active financiare pe termen lung | G9: 1626005 | H9: 1416569
B10: Land | C10: Terenuri | E10: 4343 | F10: 4343 | I10: 97250573 | J10: 97250570 | S10: 124019 | T10: 31404 | W10: 1902668 | X10: 795364877 | Y10: 4911379 | Z10: 9694073 | AC10: 58613 | AD10: 58613 | AE10: 250518 | AF10: 250518 | AI10: 11633891 | AJ10: 11633891 | AK10: 1070179 | AL10: 1070179 | AO10: 262989 | AP10: 262989 | AU10: 91665 | AV10: 7680509 | AY10: 13928246 | AZ10: 13937310 | BA10: 1727704 | BB10: 1727704 | BH10: 7972193 | BK10: 13274170 | BL10: 13278890 | BM10: 12500 | BN10: 12500 | BQ10: 39883520 | BR10: 4344780 | BU10: 5954560 | BV10: 5954560 | BY10: 9851600 | BZ10: 9851600 | CA10: 32500000 | CB10: 32500000 | CW10: 25479100 | CX10: 25479100
B11: Fixed Assets | C11: Mijloace fixe | E11: 126636193 | F11: 123018292 | G11: 296591768 | H11: 279138785 | I11: 2980019284 | J11: 2835668623 | K11: 15283834 | L11: 14861922 | O11: 9745864 | P11: 8335830 | Q11: 16652479 | R11: 15608405 | S11: 12579579 | T11: 19761167 | U11: 12661623 | V11: 11123228 | W11: 1549157903 | X11: 1449779975 | Y11: 5347748137 | Z11: 6593644462 | AA11: 130432355 | AB11: 123718008 | AC11: 3018885 | AD11: 5030544 | AE11: 1275233669 | AF11: 1194956801 | AG11: 8006608 | AH11: 8440006 | AI11: 34170410 | AJ11: 32809055 | AK11: 29836885 | AL11: 34516670 | AM11: 8696816 | AN11: 8134626 | AO11: 28821126 | AP11: 34608577 | AQ11: 7425195 | AR11: 7281912 | AS11: 25004174 | AT11: 26449161 | AU11: 34750826 | AV11: 36754762 | AW11: 331519207 | AX11: 339009798 | AY11: 73135221 | AZ11: 75164873 | BA11: 6801185 | BB11: 6209506 | BC11: 532671 | BD11: 446775 | BE11: 18197631 | BF11: 22000252 | BG11: 28614840 | BH11: 26234273 | BI11: 837491 | BJ11: 16351369 | BK11: 59980080 | BL11: 60281510 | BM11: 3215640 | BN11: 2935660 | BO11: 694856430 | BP11: 639217500 | BQ11: 5186370 | BR11: 253760 | BS11: 500660 | BT11: 460560 | BU11: 25709560 | BV11: 25456650 | BW11: 26106150 | BX11: 23450160 | BY11: 13510810 | BZ11: 9221750 | CA11: 121870100 | CB11: 120871170 | CC11: 725120 | CD11: 770050 | CE11: 4418866 | CF11: 4112936 | CG11: 798193 | CH11: 370027 | CI11: 796299 | CJ11: 759769 | CK11: 104772 | CL11: 106251 | CM11: 2004592 | CN11: 1291017 | CO11: 570828 | CP11: 541077 | CQ11: 331028 | CR11: 314241 | CS11: 257214 | CT11: 43629 | CU11: 28179735 | CV11: 32649144 | CW11: 3204263 | CX11: 3185140 | CY11: 32710295 | CZ11: 30505078
B12: Fixed biological assets | C12: Active biologice imobilizate | W12: 903375 | X12: 1599532 | CM12: 179662 | CN12: 162194 | CY12: 59249 | CZ12: 59249
B13: Long term financial investments in non-affiliates | C13: Investiții financiare pe termen lung în părți neafiliate | E13: 1272100 | F13: 1272100 | I13: 520000 | J13: 520000 | K13: 2485013 | L13: 2485013 | O13: 874470 | P13: 1188749 | Q13: 31390 | R13: 31390 | W13: 15411618 | X13: 15411617 | Y13: 188400 | Z13: 188400 | AW13: 217575 | AX13: 217575 | AY13: 23000 | AZ13: 23000 | BA13: 6073523 | BB13: 6073523 | BO13: 973540 | BP13: 1057150 | BU13: 12460 | BW13: 326400 | BX13: 326400 | BY13: 540 | BZ13: 540 | CU13: 15000 | CV13: 15000
B14: Long term financial investments in associates | C14: Investiții financiare pe termen lung în părți afiliate | E14: 79602 | F14: 79602 | O14: 4350 | P14: 4350 | Q14: 2700 | R14: 2700 | Y14: 197000 | Z14: 197000 | AM14: 540 | AN14: 540 | AY14: 2882700 | AZ14: 2882700 | BA14: 4720927146 | BB14: 4720927146 | BU14: 36480 | BV14: 39770 | CX14: 53600
B15: Investments in real estate | C15: Investiții imobiliare | K15: 26386315 | L15: 21356725 | T15: 92615 | W15: 73023119 | X15: 72151904 | BK15: 127580 | BR15: 40302410 | CC15: 21982900 | CD15: 21658070
B16: Long term receivables | C16: Creanțe pe termen lung | I16: 571298031 | J16: 564806034 | Q16: 44700799 | R16: 28926978 | AO16: 19919128 | AP16: 4365836 | AS16: 239604 | AT16: 365653 | BE16: 271674 | BF16: 271671 | BO16: 21962930 | BP16: 34098050 | BU16: 100450 | BV16: 293890
B17: Advances granted for long term | C17: Avansuri acordate pe termen lung | Y17: 500524525 | Z17: 606251938 | AA17: 372670 | AB17: 215224 | AE17: 4857113 | AF17: 49387256 | AS17: 81500 | AT17: 578764 | BO17: 27297060 | BP17: 34362450 | BU17: 301110 | BV17: 258400 | CW17: 156165 | CX17: 156165
B18: Other fixed assets | C18: Alte active imobilizate | E18: 11478 | F18: 11399 | K18: 337688 | L18: 337688 | M18: 390392 | N18: 137748 | O18: 441755 | P18: 441755 | U18: 721 | X18: 129972755 | Z18: 160561 | AA18: 540 | AB18: 540 | AE18: 1218278 | AF18: 1210695 | AW18: 66699112 | AX18: 58988021 | BA18: 3503595 | BB18: 3444649 | BI18: 12370 | BJ18: 7106 | BK18: 549000 | BO18: 40281680 | BP18: 108318120 | BW18: 20370 | BX18: 18190 | BY18: 995300 | BZ18: 1225540 | CK18: 6809 | CL18: 6320 | CM18: 51720 | CN18: 49504 | CU18: 82525 | CV18: 103389
B19: Total Fixed assets | C19: Total active imobilizate | E19: =SUM(E7:E18) -> 130228516 | F19: =SUM(F7:F18) -> 127309429 | G19: =SUM(G7:G18) -> 300186323 | H19: =SUM(H7:H18) -> 282044001 | I19: =SUM(I7:I18) -> 3789476137 | J19: =SUM(J7:J18) -> 3897584394 | K19: =SUM(K7:K18) -> 59740230 | L19: =SUM(L7:L18) -> 56023390 | ... CZ19: =SUM(CZ7:CZ18) -> 30778473
B21: Current Assets | C21: Active Circulante
B22: Inventories | C22: Materiale | E22: 150647011 | F22: 137568196 | G22: 115436090 | H22: 76148871 | I22: 75609117 | J22: 140881708 | K22: 122813 | L22: 151885 | O22: 1257932 | P22: 703814 | Q22: 11907957 | R22: 14523128 | S22: 156809 | T22: 109618 | U22: 2103630 | V22: 1815818 | W22: 275576060 | X22: 255603304 | Y22: 252887 | Z22: 117529 | AA22: 642707 | AB22: 735803 | AC22: 158844 | AD22: 290130 | AE22: 38558490 | AF22: 32198244 | AG22: 346635 | AH22: 1634481 | AI22: 125026 | AJ22: 151139 | AK22: 11802718 | AL22: 11669110 | AM22: 77105 | AN22: 106105 | AO22: 1016618 | AP22: 750034 | AQ22: 103415 | AR22: 139300 | AS22: 1764166 | AT22: 2006826 | AU22: 21672630 | AV22: 16242735 | AW22: 44700052 | AX22: 35980300 | AY22: 4149935 | AZ22: 5376049 | BA22: 240615 | BB22: 131109 | BC22: 6130 | BD22: 6973 | BE22: 850884 | BF22: 316019 | BG22: 479933 | BH22: 470349 | BI22: 27038 | BJ22: 27372 | BK22: 1139390 | BL22: 1191670 | BM22: 109970 | BN22: 45210 | BO22: 35151560 | BP22: 38444480 | BQ22: 58080 | BR22: 62820 | BS22: 35530 | BT22: 30360 | BU22: =12042490+4530 -> 12047020 | BV22: =519200 -> 519200 | BW22: 11222250 | BX22: 8804000 | BY22: 14590 | BZ22: 15210 | CA22: 121420 | CB22: 114270 | CC22: 10630 | CD22: 8170 | CE22: 6371159 | CF22: 6201498 | CG22: 60239 | CH22: 101075 | CI22: 21520 | CJ22: 12967 | CK22: 31933 | CL22: 33563 | CM22: 174119 | CN22: 197813 | CO22: 3628 | CP22: 11034 | CQ22: 18441 | CS22: 40900 | CT22: 70435 | CU22: 835918 | CV22: 949636 | CW22: 38992 | CX22: 36579 | CY22: 6049842 | CZ22: 7356597
B23: Items of small value and short duration | C23: Obiecte de mică valoare și scurtă durată | E23: 1733055 | F23: 1623231 | I23: 1414387 | J23: 30330 | K23: 12054 | L23: 12054 | O23: 237246 | P23: 234493 | Q23: 338046 | R23: 529450 | S23: 94491 | T23: 148465 | U23: 20752 | V23: 93895 | W23: =8098588+19700 -> 8118288 | X23: =11065717+19700 -> 11085417 | Y23: 382937 | Z23: 440848 | AA23: 17594 | AB23: 29361 | AC23: 82922 | AD23: 80678 | AE23: 2782239 | AF23: 3477854 | AG23: 597572 | AH23: 616265 | AI23: =45133+53446 -> 98579 | AJ23: 242434 | AK23: 3662904 | AL23: 3847897 | AM23: 212043 | AN23: 181677 | AO23: 722700 | AP23: 988880 | AQ23: 71996 | AR23: 137640 | AS23: 48401 | AT23: 109860 | AU23: =3724+52913 -> 56637 | AV23: =3724+159247 -> 162971 | AW23: 3812121 | AX23: 3050425 | AY23: 8045027 | AZ23: 9566417 | BA23: 339534 | BB23: 295893 | BC23: 6588 | BD23: 15486 | BE23: 349336 | BF23: 463997 | BG23: 319869 | BH23: 334259 | BI23: 49763 | BJ23: 93039 | BK23: 498110 | BL23: 177740 | BN23: 29410 | BO23: 1073080 | BP23: 1541290 | BQ23: 7150 | BR23: 19090 | BS23: 370 | BU23: 42380 | BV23: 63230 | BW23: 18030 | BX23: 75180 | BZ23: 79300 | CA23: 241720 | CB23: 189290 | CC23: 1700 | CD23: 14890 | CE23: 826087 | CF23: 671776 | CG23: 9943 | CH23: 21250 | CI23: 535 | CJ23: 650 | CK23: 11 | CL23: 4437 | CM23: 2082 | CN23: 8332 | CO23: 6062 | CP23: 8807 | CU23: 161033 | CV23: 303103 | CW23: 7407 | CX23: 7407 | CY23: 74228 | CZ23: 93102
B24: Items under production | C24: Producția în curs de execuție și produse | E24: 29093334 | F24: 17514763 | K24: 74706 | O24: 4211190 | P24: 3161441 | Q24: 19348440 | R24: 21272644 | U24: 988181 | V24: 1086654 | W24: 992900 | X24: 875893 | AG24: 975084 | AH24: 137929 | AK24: 3553 | AL24: 1158 | AS24: 5509 | AT24: 1161000 | AU24: 105447 | AV24: 163115 | AW24: 153772 | AX24: 2569 | AY24: 1434730 | AZ24: 1522160 | BK24: 560620 | BL24: 123030 | BS24: 355640 | BU24: 72940 | BV24: 72900 | BW24: 4020120 | BX24: 3993140 | CF24: 30921 | CI24: 53772 | CJ24: 4348 | CK24: 274009 | CL24: 132183 | CM24: 1379905 | CN24: 1347693 | CQ24: 136240 | CR24: 296240 | CS24: 332625 | CT24: 419682 | CY24: 2434840 | CZ24: 15150128
B25: Stocks | C25: Mărfuri | E25: 6441460 | F25: 9424276 | I25: 1128703 | J25: 1109971 | K25: 690 | L25: 690 | M25: 17654654 | N25: 20327005 | Q25: 115808718 | R25: 158930308 | U25: 2635323 | V25: 1713112 | W25: 2268658 | X25: 18866931 | AC25: 53930 | AD25: 49900 | AG25: 273720 | AH25: 109382 | AI25: 296346 | AJ25: 212439 | AK25: 1732 | AU25: 269616 | AV25: 269616 | AW25: 8692 | AY25: 18561971 | AZ25: 17545137 | BA25: 55654140 | BB25: 58542407 | BH25: 506460 | BT25: 31420 | BU25: 93570 | BV25: 85640 | BW25: 27160 | BX25: 3263160 | CA25: 58360 | CB25: 64610 | CM25: 175 | CN25: 175 | CO25: 498 | CP25: 314
B26: Trade receivables | C26: Creanțe comerciale | E26: 51075993 | F26: 95089711 | G26: 14046143 | H26: 14353910 | I26: 1013151383 | J26: 1026938681 | K26: 1308992 | L26: 1460882 | M26: 7473306 | N26: 7427730 | O26: 227172 | P26: 234002 | Q26: 2958610 | R26: 4814065 | S26: 887777 | T26: 686182 | U26: 22553 | V26: 104735 | W26: 39013665 | X26: 38582286 | Y26: 4512 | Z26: 277257 | AA26: 123138546 | AB26: 46674791 | AC26: 834616 | AD26: 1136435 | AE26: 75517573 | AF26: 74056005 | AG26: 1358422 | AH26: 2165061 | AI26: 3435937 | AJ26: 2498750 | AK26: 22133716 | AL26: 19859906 | AM26: 168523 | AN26: 430661 | AO26: 5510345 | AP26: 18979463 | AQ26: 2012 | AR26: 31126 | AS26: 297701 | AT26: 85877 | AU26: 104879328 | AV26: 66242599 | AW26: 46211904 | AX26: 25343950 | AY26: 72919828 | AZ26: 24806455 | BA26: 3325446313 | BB26: 3613488878 | BC26: 401101146 | BD26: 211679365 | BE26: 27393 | BF26: 12049 | BG26: 1631596 | BH26: 3456831 | BK26: 927660 | BL26: 1157450 | BM26: 16950 | BN26: 23610 | BO26: 1755790 | BP26: 2140420 | BS26: 137430 | BT26: 197790 | BU26: 2917390 | BV26: 340520 | BW26: 11033550 | BX26: 13297900 | BY26: 1458780 | BZ26: 1424180 | CA26: 222540 | CB26: 249530 | CD26: 306290 | CE26: 131459 | CF26: 147231 | CG26: 67449 | CH26: 16120 | CI26: 95854 | CJ26: 87837 | CK26: 450600 | CL26: 450591 | CM26: 189268 | CN26: 281958 | CQ26: 237070 | CR26: 110141 | CT26: 10891 | CU26: 603520 | CV26: 837649 | CY26: 9450958 | CZ26: 2891459
B27: Trade receivables of associates | C27: Creanțe ale părților afiliate | Y27: 16934157 | Z27: 9681168 | AC27: 9999 | AD27: 9999 | AS27: 3453045 | AT27: 5868425 | BA27: 2257533400 | BB27: 2124093259 | BH27: 8924 | BO27: 70237750 | BP27: 70096510 | BU27: 817100 | BV27: 861690 | CA27: 88580 | CO27: 228508 | CP27: 332674
B28: Financial investments for short term | C28: Avansuri acordate curente | E28: 177341 | F28: 187315 | I28: 11277910 | J28: 4560669 | K28: 244277 | L28: 111146 | O28: 14922 | P28: 18696 | Q28: 1040361 | R28: 107607 | S28: 13527 | T28: 6749 | U28: 293126 | V28: 142482 | W28: 26130447 | X28: 29092857 | Y28: 48851 | Z28: 65576 | AA28: 798587 | AB28: 2452472 | AC28: 1127148 | AD28: 1138090 | AE28: 1153280 | AF28: 3622308 | AG28: 38371 | AH28: 180173 | AI28: 213325 | AJ28: 193650 | AK28: 1071387 | AL28: 462861 | AM28: 224358 | AN28: 188445 | AO28: 576482 | AP28: 155466 | AQ28: 14667 | AR28: 32341 | AS28: 549327 | AT28: 348905 | AU28: 9346087 | AV28: 22432578 | AW28: 2464896 | AX28: 200261 | AY28: 1672727 | AZ28: 2063254 | BA28: 169240147 | BB28: 102218619 | BC28: 18096 | BD28: 8392 | BE28: 1705638 | BF28: 1413090 | BH28: 401638 | BI28: 9735 | BJ28: 4413 | BK28: 198780 | BL28: 83810 | BO28: 43887140 | BP28: 7586730 | BS28: 143460 | BT28: 8270 | BU28: 9020 | BV28: 2560 | BW28: 64230 | BX28: 106460 | BY28: 29310 | BZ28: 5613920 | CC28: 13000 | CE28: 71670 | CF28: 89235 | CG28: 41040 | CH28: 24028 | CK28: 2594 | CL28: 22624 | CM28: 112050 | CN28: 1126 | CO28: 1948 | CP28: 51190 | CS28: 5450 | CT28: 829 | CU28: 404692 | CV28: 1009742 | CY28: 362616 | CZ28: 323774
B29: Deferred taxes | C29: Creanțe ale bugetului | E29: 141317 | F29: 123492 | I29: 52118688 | J29: 14835771 | K29: 490055 | L29: 32648 | O29: 1460 | P29: 11942 | Q29: 139710 | R29: 49697 | S29: 51009 | T29: 112760 | U29: 1896827 | V29: 1512720 | W29: 13679595 | X29: 24439848 | Y29: 14017 | Z29: 462945 | AA29: 3898732 | AB29: 3614835 | AC29: 168466 | AD29: 187280 | AE29: 1612764 | AF29: 681234 | AG29: 9860 | AH29: 1290681 | AI29: 61459 | AJ29: 493008 | AK29: 1383273 | AL29: 1867967 | AM29: 799724 | AN29: 739806 | AO29: 395707 | AP29: 75783 | AQ29: 147381 | AR29: 69866 | AS29: 40263 | AT29: 309462 | AU29: 138376230 | AV29: 141524765 | AW29: 2492854 | AX29: 319371 | AY29: 950498 | AZ29: 160196 | BA29: 307815419 | BB29: 339632944 | BC29: 3763350 | BD29: 4105114 | BE29: 405015 | BF29: 20029 | BG29: 145357 | BH29: 177338 | BI29: 226597 | BJ29: 198012 | BK29: 2704090 | BL29: 2217220 | BM29: 52050 | BN29: 27430 | BO29: 8900130 | BP29: 7884790 | BQ29: 131260 | BR29: 389140 | BS29: 156970 | BT29: 2840 | BU29: 8670 | BV29: 8900 | BW29: 62710 | BX29: 60290 | BY29: 750 | BZ29: 698380 | CC29: 574830 | CD29: 43200 | CE29: 1656799 | CF29: 1915456 | CG29: 39679 | CH29: 45232 | CI29: 14224 | CJ29: 15066 | CK29: 499 | CL29: 145 | CM29: 64822 | CN29: 3034 | CO29: 12235 | CQ29: 572 | CR29: 2955 | CU29: 710397 | CV29: 762746 | CW29: 2879 | CX29: 1230 | CY29: 90791 | CZ29: 61299
B30: Deferred employee taxes | C30: Creanțe ale personalului | E30: 151338 | F30: 8351 | I30: 471800 | J30: 1321813 | K30: 24868 | L30: 13284 | O30: 6038 | P30: 22362 | Q30: 110229 | R30: 99761 | U30: 18268 | V30: 15685 | W30: 9206253 | X30: 10819427 | Y30: 117838 | Z30: 1335 | AA30: 215870 | AB30: 198949 | AC30: 26817 | AD30: 21659 | AE30: 692501 | AF30: 774318 | AG30: 20600 | AH30: 13328 | AI30: 202021 | AJ30: 285084 | AK30: 1806886 | AL30: 1557111 | AM30: 68802 | AN30: 50066 | AO30: 49972 | AP30: 42534 | AQ30: 206543 | AR30: 240390 | AS30: 64667 | AT30: 57203 | AU30: 163 | AV30: 163 | AW30: 157965 | AX30: 125011 | AY30: 908239 | AZ30: 1124746 | BA30: 152556 | BB30: 220807 | BE30: 62045 | BF30: 1206920 | BG30: 179517 | BH30: 141315 | BI30: 4864 | BJ30: 882 | BK30: 359250 | BL30: 430890 | BM30: 108860 | BN30: 42360 | BO30: 838510 | BP30: 2911810 | BU30: 379360 | BV30: 378010 | BW30: 40 | CC30: 244560 | CD30: 21320 | CE30: 16548 | CF30: 13205 | CI30: 17386 | CJ30: 25362 | CM30: 4846 | CN30: 4715 | CO30: 14131 | CP30: 16574 | CS30: 10266 | CT30: 10258 | CU30: 89303 | CV30: 92429 | CW30: 2656 | CX30: 8262 | CY30: 165435 | CZ30: 298864
B31: Other current receivables | C31: Alte creanțe curente | E31: 11220074 | F31: 9974967 | I31: 14952561 | J31: 92087279 | K31: 954408 | L31: 659507 | O31: 4657 | P31: 8264 | Q31: 33773444 | R31: 35356229 | S31: 1257 | T31: 1415 | U31: 7432 | W31: 51949212 | X31: 49426684 | Y31: 847496 | Z31: 2275308 | AA31: 3465217 | AB31: 9332349 | AC31: 6205 | AD31: 304316 | AE31: 73669 | AF31: 132789 | AG31: 115799 | AH31: 116609 | AI31: 649242 | AJ31: 1084712 | AK31: 1000017 | AL31: 1069558 | AM31: 62146 | AN31: 91737 | AO31: 13317 | AP31: 15747 | AQ31: 184063 | AR31: 197733 | AS31: 75918 | AT31: 100167 | AU31: 84912 | AV31: 341408 | AW31: 2866881 | AX31: 6712263 | AY31: 24495588 | AZ31: 22384857 | BA31: 523492692 | BB31: 545020343 | BE31: 3681998 | BF31: 5618221 | BG31: 589263 | BI31: 778645 | BJ31: 751529 | BK31: 525820 | BL31: 487810 | BM31: 1431450 | BN31: 1382010 | BO31: 35527520 | BP31: 82841470 | BQ31: 92460 | BR31: 61740 | BS31: 150 | BT31: 100 | BU31: 339730 | BV31: 2377380 | BW31: 4095260 | BX31: 704500 | BY31: 15280 | BZ31: 225490 | CD31: 21250 | CE31: 73367 | CF31: 73706 | CG31: 2606 | CH31: 4095 | CI31: 882158 | CJ31: 1093786 | CL31: 60700 | CM31: 546 | CN31: 12544 | CS31: 11094 | CU31: 495364 | CV31: 152804 | CW31: 130753 | CX31: 127200 | CY31: 91991 | CZ31: 1137017
B32: Cash and cash equivalents | C32: Numerar în casierie și la conturile curente | E32: 2376777 | F32: 4188257 | G32: 15358134 | H32: 23556373 | I32: =61957214+704914 -> 62662128 | J32: =39412129+3795479 -> 43207608 | K32: 600842 | L32: 3153097 | M32: 28980 | N32: 20522 | O32: 20251 | P32: 18143 | Q32: =9284961+6224358 -> 15509319 | R32: =8854311+2307517 -> 11161828 | S32: 113515 | T32: 873445 | U32: 2844431 | V32: 2812026 | W32: =25197518+822035 -> 26019553 | X32: =14819113+913784 -> 15732897 | Y32: 245029008 | Z32: 246979019 | AA32: 2528223 | AB32: 37166090 | AC32: 4675469 | AD32: 4479151 | AE32: =21326445+1646 -> 21328091 | AF32: =60194855+3514 -> 60198369 | AG32: 6193096 | AH32: 4224562 | AI32: 1286909 | AJ32: 4224282 | AK32: 15308369 | AL32: 14316413 | AM32: 1509828 | AN32: 2329269 | AO32: 3133155 | AP32: 5928312 | AQ32: =21903+2055755 -> 2077658 | AR32: =23221+5725333 -> 5748554 | AS32: 2987165 | AT32: 2332399 | AU32: 14725821 | AV32: 28868445 | AW32: =2858962+1396 -> 2860358 | AX32: =565469+316 -> 565785 | AY32: =133933598+170397 -> 134103995 | AZ32: =119639092+904944 -> 120544036 | BA32: =171847513+5477 -> 171852990 | BB32: =219378190+41075 -> 219419265 | BC32: =53401982+90 -> 53402072 | BD32: =226703540+90 -> 226703630 | BE32: =8290083+894651 -> 9184734 | BF32: =7646635+1935479 -> 9582114 | BG32: =337227+18000 -> 355227 | BH32: 790146 | BI32: =97635+394314 -> 491949 | BJ32: =40287+881360 -> 921647 | BK32: =29122700+183980 -> 29306680 | BL32: =30986410+204410 -> 31190820 | BM32: 2325860 | BN32: 1904770 | BO32: =2936960+3611510 -> 6548470 | BP32: =2461240+6610 -> 2467850 | BQ32: 1803660 | BR32: 4221350 | BS32: 2360680 | BT32: 2479230 | BU32: =883520+85780 -> 969300 | BV32: =738400+44000 -> 782400 | BW32: =7516710+340 -> 7517050 | BX32: =12923380+270 -> 12923650 | BY32: 4051850 | BZ32: 29356730 | CA32: 2287590 | CB32: 2500340 | CC32: 64990 | CD32: 14080 | CE32: 1256181 | CF32: 1024868 | CG32: 1098677 | CH32: 758890 | CI32: 8176 | CJ32: 159 | CK32: 68564 | CL32: 4226 | CM32: 138532 | CN32: 164586 | CO32: 44135 | CP32: 1045 | CQ32: 6432 | CR32: 157 | CS32: 5105 | CT32: 82372 | CU32: 3839257 | CV32: 3374129 | CW32: 4655 | CX32: 105 | CY32: =2421595+246938 -> 2668533 | CZ32: =2771690+220765 -> 2992455
B33: Short term investment in associates | C33: Investitii financiare curente in parti afiliate | I33: 2097168 | J33: 1468258 | K33: 5000000 | M33: 28182 | N33: 286398 | R33: 800000 | S33: 9300000 | T33: 11250000 | AQ33: 2500000 | BA33: 3018899 | BB33: 3018899 | BG33: 60 | BK33: 17000000 | BL33: 17000000 | BN33: 11010 | BO33: 2625390 | BU33: =63680+19990 -> 83670 | BV33: =12000+16000 -> 28000 | BY33: 58274020 | BZ33: 39929450 | CG33: 300000 | CH33: 800000 | CW33: 53600
B34: Other current assets | C34: Alte active circulante | E34: 190967 | F34: 201418 | G34: 372370 | H34: 442532 | I34: 9892247 | J34: 21830565 | K34: 355034 | L34: 296130 | M34: 617371 | N34: 276995 | O34: 6132 | P34: 4856 | Q34: 1923251 | R34: 6940920 | S34: 29960 | T34: 30151 | U34: 17863 | V34: 24284 | W34: 136133042 | X34: 20231989 | Y34: 229373 | Z34: 187265 | AA34: 3860567 | AB34: 3490273 | AC34: 79069 | AD34: 74716 | AE34: 141255 | AF34: 191814 | AG34: 969386 | AH34: 1627236 | AI34: 115729 | AJ34: 96707 | AK34: 1037831 | AL34: 905588 | AM34: 36070 | AN34: 48773 | AO34: 818851 | AP34: 1513636 | AQ34: 59274 | AR34: 126931 | AS34: 568119 | AT34: 573052 | AU34: 379002 | AV34: 415806 | AW34: 633260 | AX34: 5120239 | AY34: 4642368 | AZ34: 5927375 | BA34: 301526 | BB34: 339082 | BC34: 94322 | BD34: 39018 | BE34: 112795 | BF34: 140298 | BG34: 49527 | BH34: 102807 | BI34: 21626 | BJ34: 20685 | BK34: 440950 | BL34: 633510 | BM34: 22610 | BO34: 75431040 | BP34: 66288710 | BQ34: 3610 | BR34: 88950 | BS34: 10270 | BT34: 13750 | BU34: 217140 | BV34: 462550 | BW34: 10230 | BX34: 7420 | BY34: 789150 | BZ34: 736350 | CC34: 621080 | CD34: 45860 | CE34: 9939 | CF34: 15267 | CG34: 23700 | CH34: 38395 | CI34: 4604 | CJ34: 3144 | CK34: 1883 | CL34: 1513 | CM34: 13349 | CN34: 7447 | CO34: 3220 | CP34: 11226 | CQ34: 2942 | CR34: 230 | CS34: 374 | CT34: 374 | CU34: 370639 | CV34: 183785 | CY34: 753961 | CZ34: 864658
B35: Total current assets | C35: Total active circulante | E35: =SUM(E22:E34) -> 253248667 | F35: =SUM(F22:F34) -> 275903977 | G35: =SUM(G22:G34) -> 145212737 | H35: =SUM(H22:H34) -> 114501686 | I35: =SUM(I22:I34) -> 1244776092 | J35: =SUM(J22:J34) -> 1348272653 | K35: =SUM(K22:K34) -> 9188739 | L35: =SUM(L22:L34) -> 5891323 | ... CZ35: =SUM(CZ22:CZ34) -> 31169353
B36: TOTAL ASSETS | C36: TOTAL ACTIVE | E36: =SUM(E19,E35) -> 383477183 | F36: =SUM(F19,F35) -> 403213406 | G36: =SUM(G19,G35) -> 445399060 | H36: =SUM(H19,H35) -> 396545687 | I36: =SUM(I19,I35) -> 5034252229 | J36: =SUM(J19,J35) -> 5245857047 | K36: =SUM(K19,K35) -> 68928969 | L36: =SUM(L19,L35) -> 61914713 | ... CZ36: =SUM(CZ19,CZ35) -> 61947826
B38: Long term debt | C38: Datorii pe termen lung | G38: 81753781 | H38: 37000797 | BO38: 240649430 | BP38: 283433010
B39: Long term bank loans | C39: Credite bancare pe termen lung | G39: 5696826 | H39: 5717602 | I39: 53826577 | W39: 128738361 | X39: 83432412 | AW39: 15992000 | AX39: 13328000 | CM39: 15000
B40: Long term loans | C40: Împrumuturi pe termen lung | I40: 37366480 | J40: 326097604 | AE40: 266177153 | AF40: 255177058
B41: Long term loans of financial leasing | C41: Datorii pe termen lung privind leasingul financiar | W41: 102714 | X41: 42350 | AS41: 300 | AT41: 300 | CM41: 81836
B42: Other long term debt | C42: Alte datorii pe termen lung | I42: 1771025334 | J42: 3034373289 | Q42: 220447738 | R42: 249307874 | S42: 103699 | U42: 19613 | W42: 21029099 | X42: 20965650 | Y42: 2512136330 | Z42: 1884570250 | AA42: 86630 | AE42: 440656 | AF42: 418029 | AK42: 21205 | AL42: 21205 | AM42: 116972 | AO42: 597418 | AP42: 597418 | AS42: 36900 | AT42: 22669 | AY42: 14005139 | AZ42: 14081204 | BE42: 6450 | BF42: 6450 | BH42: 7972193 | BM42: 12500 | BN42: 12500 | BP42: 43306430 | BQ42: 41099460 | BR42: 41099460 | CD42: 158210 | CE42: 339301 | CF42: 246507 | CK42: 735 | CL42: 735 | CM42: 33310 | CN42: 11058 | CO42: 11485 | CP42: 11485 | CQ42: 3685 | CU42: 13868523 | CV42: 17050785 | CW42: 160480 | CX42: 160480
B43: Total long term liabilities | C43: Total datorii pe termen lung | G43: =SUM(G37:G42) -> 87450607 | H43: =SUM(H37:H42) -> 42718399 | I43: =SUM(I37:I42) -> 1862218391 | J43: =SUM(J37:J42) -> 3360470893 | K43: =SUM(K37:K42) -> 0 | L43: =SUM(L37:L42) -> 0 | M43: =SUM(M37:M42) -> 0 | N43: =SUM(N37:N42) -> 0 | ... CZ43: =SUM(CZ37:CZ42) -> 0
B45: Current liabilities | C45: Datorii curente | M45: 153871673 | N45: 349758513 | BO45: 36538280 | BP45: 85387590
B46: Short term bank loans | C46: Credite bancare pe termen scurt | G46: 20284136 | H46: 26559598 | I46: 80889 | K46: 4500000 | O46: 650000 | P46: 302623 | W46: 107997778 | X46: 105165077 | AW46: 16008000 | AX46: 20004000 | BI46: 2610214 | BJ46: 2970435
...

Sheet MD-ratios
G1: direction | H1: distribution | L1: quartiles | R1: rest | S1: lhs | T1: rhs | U1: k | V1: average | W1: 1.5 | X1: 2 | Y1: thresholds for points | AF1: S.A. Tutun-CTC | AG1: S.A Franzeluta | AH1: S.A.Termoelectrica | AI1: S.A. Tracom | AJ1: S.A. Moldetelecom | AK1: I.S. Moldsuinhibrid | AL1: I.S. Mecagro | AM1: I.S. CNVCPA | AN1: I.S.Centrul Informational Agricol | AO1: I.S. Calea Ferata | AP1: I.S. Administratia de stat a drumurilor | AQ1: I.S. Moldatsa | AR1: I.S. CTSIC | AS1: I.S. Moldelectrica | AT1: I.S. Fiscservinform | AU1: I.S. Vamservinform | AV1: I.S. Servicii Paza | AW1: I.S. MoldData | AX1: I.S. C.Telecomunicatii Speciale | AY1: I.S CIS | AZ1: S.A. Drumuri Cahul | BA1: S.A Metalferos | BB1: S.A. Red Nord Vest | BC1: I.S. Posta Moldovei | BD1: S.A. Moldovagaz | BE1: S.A Energocom | BF1: I.S. Garile si statiile auto | BG1: I.S. Moldaeroservice | BH1: S.A. Gara de nord | BI1: I.S. Cadastru | BJ1: CS Omologarea FITO | BK1: I.S. Air Moldova | BL1: Dir. Corp Diplomatic | BM1: I.S Fintehinform | BN1: I.S. CP Armata Nationala | BO1: I.S. Combinatul Polligrafic | BP1: I.S. Frencvente Radio | BQ1: I.S. Palatul Republicii | BR1: I.S Casa Presei | BS1: I.S. CRARA | BT1: I.S. CSECPC | BU1: I.S. SSPIM | BV1: I.S. Indal Proiect | BW1: I.S. SDE Criuleni | BX1: I.S. Centrul de elaborari economice si productie | BY1: I.S. Dumbrava Vest | BZ1: I.S. Viva Flora | CA1: I.S CMAC | CB1: I.S. CRIA | CC1: S.A. Drumuri Ialoveni | CF1: 1 | CG1: 2 | CH1: 3 | CI1: 4 | CJ1: 5 | CK1: 6 | CL1: 7 | CM1: 8 | CN1: 9 | CO1: 10 | CP1: 11 | CQ1: 12 | CR1: 13 | CS1: 14 | CT1: 15 | CU1: 16 | CV1: 17 | CW1: 18 | CX1: 19 | CY1: 20 | CZ1: 21 | DA1: 22 | DB1: 23 | DC1: 24 | DD1: 25 | DE1: 26 | DF1: 27 | DG1: 28 | DH1: 29 | DI1: 30 | DJ1: 31 | DK1: 32 | DL1: 33 | DM1: 34 | DN1: 35 | DO1: 36 | DP1: 37 | DQ1: 38 | DR1: 39 | DS1: 40 | DT1: 41 | DU1: 42 | DV1: 43 | DW1: 44 | DX1: 45 | DY1: 46 | DZ1: 47 | EA1: 48 | EB1: 49 | EC1: 50 | EF1: 1 | EG1: 2 | EH1: 3 | EI1: 4 | EJ1: 5 | EK1: 6 | EL1: 7 | EM1: 8 | EN1: 9 | EO1: 10 | EP1: 11 | EQ1: 12 | ER1: 13 | ES1: 14 | ET1: 15 | EU1: 16 | EV1: 17 | EW1: 18 | EX1: 19 | EY1: 20 | EZ1: 21 | FA1: 22 | FB1: 23 | FC1: 24 | FD1: 25 | FE1: 26 | FF1: 27 | FG1: 28 | FH1: 29 | FI1: 30 | FJ1: 31 | FK1: 32 | FL1: 33 | FM1: 34 | FN1: 35 | FO1: 36 | FP1: 37 | FQ1: 38 | FR1: 39 | FS1: 40 | FT1: 41 | FU1: 42 | FV1: 43 | FW1: 44 | FX1: 45 | FY1: 46 | FZ1: 47 | GA1: 48 | GB1: 49
L2: 0 | M2: 1 | N2: 2 | O2: 3 | P2: 4 | Y2: 0 | AA2: 5 | AC2: 10
A7: 0.3 | B7: Liquidity | C7: 0.1 | D7: Current Ratio | E7: Current Assets ÷ Current Liabilities | G7: + | H7: one-tailed | J7: 2015 | L7: =QUARTILE($AF7:$CC7,L$2) -> 0.14360714 | M7: =QUARTILE($AF7:$CC7,M$2) -> 0.92138891 | N7: =QUARTILE($AF7:$CC7,N$2) -> 1.6084479 | O7: =QUARTILE($AF7:$CC7,O$2) -> 3.7726854 | P7: =QUARTILE($AF7:$CC7,P$2) -> 85.703555 | R7: =(T7-S7)^2 -> 1.3083593e-09 | S7: =(U7-1)/LN(U7) -> 15.290227 | T7: {=((AVERAGE(IF(AF7:CC7<AC7,AF7:CC7))-MIN(IF(AF7:CC7<AC7,AF7:CC7)))/(MAX(IF(AF7:CC7<AC7,AF7:CC7))-MIN(IF(AF7:CC7<AC7,AF7:CC7))))^(-3/2)} -> 15.290191 | U7: 64.774095 | V7: =AVERAGE(AF7:CC7) -> 8.319599 | Y7: 0 | Z7: {=AA7/AVERAGE(IF($EF7:$GB7<=QUARTILE($EF7:$GB7,3),$EF7:$GB7,""))^(COUNT($AF7:$CC7)/4)} -> 0.73879198 | AA7: =N7 -> 1.6084479 | AB7: {=AA7*AVERAGE(IF($EF7:$GB7<=QUARTILE($EF7:$GB7,3),$EF7:$GB7,""))^(COUNT($AF7:$CC7)/4)} -> 3.5018038 | AC7: {=AB7*(AVERAGE(IF($EF7:$GB7<=QUARTILE($EF7:$GB7,3)+X$1*(QUARTILE($EF7:$GB7,3)-QUARTILE($EF7:$GB7,1)),$EF7:$GB7,"")))^(COUNT($AF7:$CC7)/4)} -> 12.785177 | AF7: ='MD-data'!E35/'MD-data'!E59 -> 15.583684 | AG7: ='MD-data'!G35/'MD-data'!G59 -> 1.4530881 | AH7: ='MD-data'!I35/'MD-data'!I59 -> 0.91177621 | AI7: ='MD-data'!K35/'MD-data'!K59 -> 1.3452836 | AJ7: ='MD-data'!M35/'MD-data'!M59 -> 0.14360714 | AK7: ='MD-data'!O35/'MD-data'!O59 -> 1.8111377 | AL7: ='MD-data'!Q35/'MD-data'!Q59 -> 62.386027 | AM7: ='MD-data'!S35/'MD-data'!S59 -> 41.389766 | AN7: ='MD-data'!U35/'MD-data'!U59 -> 25.639272 | AO7: ='MD-data'!W35/'MD-data'!W59 -> 1.1103875 | AP7: ='MD-data'!Y35/'MD-data'!Y59 -> 0.7772759 | AQ7: ='MD-data'!AA35/'MD-data'!AA59 -> 2.0759583 | AR7: ='MD-data'!AC35/'MD-data'!AC59 -> 3.6966774 | AS7: ='MD-data'!AE35/'MD-data'!AE59 -> 1.469864 | AT7: ='MD-data'!AG35/'MD-data'!AG59 -> 0.73395917 | AU7: ='MD-data'!AI35/'MD-data'!AI59 -> 1.8941687 | AV7: ='MD-data'!AK35/'MD-data'!AK59 -> 3.4873455 | AW7: ='MD-data'!AM35/'MD-data'!AM59 -> 0.30606493 | AX7: ='MD-data'!AO35/'MD-data'!AO59 -> 3.3408886 | AY7: ='MD-data'!AQ35/'MD-data'!AQ59 -> 1.6318821 | AZ7: ='MD-data'!AS35/'MD-data'!AS59 -> 2.4508906 | BA7: ='MD-data'!AU35/'MD-data'!AU59 -> 85.703555 | BB7: ='MD-data'!AW35/'MD-data'!AW59 -> 0.51472165 | BC7: ='MD-data'!AY35/'MD-data'!AY59 -> 0.95022701 | BD7: ='MD-data'!BA35/'MD-data'!BA59 -> 0.44776814 | BE7: ='MD-data'!BC35/'MD-data'!BC59 -> 1.0378164 | BF7: ='MD-data'!BE35/'MD-data'!BE59 -> 2.0442054 | BG7: ='MD-data'!BG35/'MD-data'!BG59 -> 1.1084413 | BH7: ='MD-data'!BI35/'MD-data'!BI59 -> 0.21498253 | BI7: ='MD-data'!BL35/'MD-data'!BL59 -> 2.8264789 | BJ7: ='MD-data'!BM35/'MD-data'!BM59 -> 5.6635757 | BK7: ='MD-data'!BO35/'MD-data'!BO59 -> 0.57153138 | BL7: ='MD-data'!BQ35/'MD-data'!BQ59 -> 25.362613 | BM7: ='MD-data'!BS35/'MD-data'!BS59 -> 2.8618053 | BN7: ='MD-data'!BU35/'MD-data'!BU59 -> 0.580791 | BO7: ='MD-data'!BW35/'MD-data'!BW59 -> 11.539772 | BP7: ='MD-data'!BY35/'MD-data'!BY59 -> 17.943895 | BQ7: ='MD-data'!CA35/'MD-data'!CA59 -> 8.9302484 | BR7: ='MD-data'!CC35/'MD-data'!CC59 -> 0.48379338 | BS7: ='MD-data'!CE35/'MD-data'!CE59 -> 29.499259 | BT7: ='MD-data'!CG35/'MD-data'!CG59 -> 30.737763 | BU7: ='MD-data'!CI35/'MD-data'!CI59 -> 1.5850136 | BV7: ='MD-data'!CK35/'MD-data'!CK59 -> 1.2326857 | BW7: ='MD-data'!CM35/'MD-data'!CM59 -> 3.7980215 | BX7: ='MD-data'!CO35/'MD-data'!CO59 -> 1.0863773 | BY7: ='MD-data'!CQ35/'MD-data'!CQ59 -> 1.1300543 | BZ7: ='MD-data'!CS35/'MD-data'!CS59 -> 0.75098033 | CA7: ='MD-data'!CU35/'MD-data'!CU59 -> 1.3701626 | CB7: ='MD-data'!CW35/'MD-data'!CW59 -> 0.22070976 | CC7: ='MD-data'!CY35/'MD-data'!CY59 -> 2.1436988 | CF7: =SMALL($AF7:$CC7,CF$1) -> 0.14360714 | CG7: =SMALL($AF7:$CC7,CG$1) -> 0.21498253 | CH7: =SMALL($AF7:$CC7,CH$1) -> 0.22070976 | CI7: =SMALL($AF7:$CC7,CI$1) -> 0.30606493 | CJ7: =SMALL($AF7:$CC7,CJ$1) -> 0.44776814 | CK7: =SMALL($AF7:$CC7,CK$1) -> 0.48379338 | CL7: =SMALL($AF7:$CC7,CL$1) -> 0.51472165 | CM7: =SMALL($AF7:$CC7,CM$1) -> 0.57153138 | ... EC7: =SMALL($AF7:$CC7,EC$1) -> 85.703555 | EF7: =IFERROR(CG7/CF7,"") -> 1.4970184 | EG7: =IFERROR(CH7/CG7,"") -> 1.0266404 | EH7: =IFERROR(CI7/CH7,"") -> 1.3867304 | EI7: =IFERROR(CJ7/CI7,"") -> 1.4629841 | EJ7: =IFERROR(CK7/CJ7,"") -> 1.0804551 | EK7: =IFERROR(CL7/CK7,"") -> 1.0639287 | EL7: =IFERROR(CM7/CL7,"") -> 1.1103698 | EM7: =IFERROR(CN7/CM7,"") -> 1.0162014 | ... GB7: =IFERROR(EC7/EB7,"") -> 1.373762
C8: 0.1 | D8: Quick Asset Ratio | E8: Cash + Marketable Securities + Accounts Receivable) ÷ Current Liabilities | G8: + | H8: one-tailed | L8: =QUARTILE($AF8:$CC8,L$2) -> 0.004264113 | M8: =QUARTILE($AF8:$CC8,M$2) -> 0.28326724 | N8: =QUARTILE($AF8:$CC8,N$2) -> 0.87637234 | O8: =QUARTILE($AF8:$CC8,O$2) -> 2.3282713 | P8: =QUARTILE($AF8:$CC8,P$2) -> 35.359546 | R8: =(T8-S8)^2 -> 1.2675995e-08 | S8: =(U8-1)/LN(U8) -> 11.21824 | T8: {=((AVERAGE(IF(AF8:CC8<AC8,AF8:CC8))-MIN(IF(AF8:CC8<AC8,AF8:CC8)))/(MAX(IF(AF8:CC8<AC8,AF8:CC8))-MIN(IF(AF8:CC8<AC8,AF8:CC8))))^(-3/2)} -> 11.218353 | U8: 43.262258 | V8: =AVERAGE(AF8:CC8) -> 3.0244098 | Y8: 0 | Z8: {=AA8/AVERAGE(IF($EF8:$GB8<=QUARTILE($EF8:$GB8,3),$EF8:$GB8,""))^(COUNT($AF8:$CC8)/4)} -> 0.33460061 | AA8: =N8 -> 0.87637234 | AB8: {=AA8*AVERAGE(IF($EF8:$GB8<=QUARTILE($EF8:$GB8,3),$EF8:$GB8,""))^(COUNT($AF8:$CC8)/4)} -> 2.2953589 | AC8: {=AB8*(AVERAGE(IF($EF8:$GB8<=QUARTILE($EF8:$GB8,3)+X$1*(QUARTILE($EF8:$GB8,3)-QUARTILE($EF8:$GB8,1)),$EF8:$GB8,"")))^(COUNT($AF8:$CC8)/4)} -> 8.6625372 | AF8: =('MD-data'!E32+'MD-data'!E26+'MD-data'!E27)/'MD-data'!E59 -> 3.2892219 | AG8: =('MD-data'!G32+'MD-data'!G26+'MD-data'!G27)/'MD-data'!G59 -> 0.29423731 | AH8: =('MD-data'!I32+'MD-data'!I26+'MD-data'!I27)/'MD-data'!I59 -> 0.78801415 | AI8: =('MD-data'!K32+'MD-data'!K26+'MD-data'!K27)/'MD-data'!K59 -> 0.27961055 | AJ8: =('MD-data'!M32+'MD-data'!M26+'MD-data'!M27)/'MD-data'!M59 -> 0.041754951 | AK8: =('MD-data'!O32+'MD-data'!O26+'MD-data'!O27)/'MD-data'!O59 -> 0.074848358 | AL8: =('MD-data'!Q32+'MD-data'!Q26+'MD-data'!Q27)/'MD-data'!Q59 -> 5.6795405 | AM8: =('MD-data'!S32+'MD-data'!S26+'MD-data'!S27)/'MD-data'!S59 -> 3.891989 | AN8: =('MD-data'!U32+'MD-data'!U26+'MD-data'!U27)/'MD-data'!U59 -> 6.7758818 | AO8: =('MD-data'!W32+'MD-data'!W26+'MD-data'!W27)/'MD-data'!W59 -> 0.12258289 | AP8: =('MD-data'!Y32+'MD-data'!Y26+'MD-data'!Y27)/'MD-data'!Y59 -> 0.77169837 | AQ8: =('MD-data'!AA32+'MD-data'!AA26+'MD-data'!AA27)/'MD-data'!AA59 -> 1.882705 | AR8: =('MD-data'!AC32+'MD-data'!AC26+'MD-data'!AC27)/'MD-data'!AC59 -> 2.824948 | AS8: =('MD-data'!AE32+'MD-data'!AE26+'MD-data'!AE27)/'MD-data'!AE59 -> 1.0034548 | AT8: =('MD-data'!AG32+'MD-data'!AG26+'MD-data'!AG27)/'MD-data'!AG59 -> 0.50855466 | AU8: =('MD-data'!AI32+'MD-data'!AI26+'MD-data'!AI27)/'MD-data'!AI59 -> 1.3795615 | AV8: =('MD-data'!AK32+'MD-data'!AK26+'MD-data'!AK27)/'MD-data'!AK59 -> 2.2051719 | AW8: =('MD-data'!AM32+'MD-data'!AM26+'MD-data'!AM27)/'MD-data'!AM59 -> 0.16263045 | AX8: =('MD-data'!AO32+'MD-data'!AO26+'MD-data'!AO27)/'MD-data'!AO59 -> 2.3597796 | AY8: =('MD-data'!AQ32+'MD-data'!AQ26+'MD-data'!AQ27)/'MD-data'!AQ59 -> 0.63234034 | AZ8: =('MD-data'!AS32+'MD-data'!AS26+'MD-data'!AS27)/'MD-data'!AS59 -> 1.675808 | BA8: =('MD-data'!AU32+'MD-data'!AU26+'MD-data'!AU27)/'MD-data'!AU59 -> 35.359546 | BB8: =('MD-data'!AW32+'MD-data'!AW26+'MD-data'!AW27)/'MD-data'!AW59 -> 0.23747557 | BC8: =('MD-data'!AY32+'MD-data'!AY26+'MD-data'!AY27)/'MD-data'!AY59 -> 0.72354009 | BD8: =('MD-data'!BA32+'MD-data'!BA26+'MD-data'!BA27)/'MD-data'!BA59 -> 0.37810673 | BE8: =('MD-data'!BC32+'MD-data'!BC26+'MD-data'!BC27)/'MD-data'!BC59 -> 1.0290127 | BF8: =('MD-data'!BE32+'MD-data'!BE26+'MD-data'!BE27)/'MD-data'!BE59 -> 1.1496744 | BG8: =('MD-data'!BG32+'MD-data'!BG26+'MD-data'!BG27)/'MD-data'!BG59 -> 0.58721912 | BH8: =('MD-data'!BI32+'MD-data'!BI26+'MD-data'!BI27)/'MD-data'!BI59 -> 0.065680862 | BI8: =('MD-data'!BL32+'MD-data'!BL26+'MD-data'!BL27)/'MD-data'!BL59 -> 1.6716968 | BJ8: =('MD-data'!BM32+'MD-data'!BM26+'MD-data'!BM27)/'MD-data'!BM59 -> 3.2619217 | BK8: =('MD-data'!BO32+'MD-data'!BO26+'MD-data'!BO27)/'MD-data'!BO59 -> 0.15919498 | BL8: =('MD-data'!BQ32+'MD-data'!BQ26+'MD-data'!BQ27)/'MD-data'!BQ59 -> 21.822868 | BM8: =('MD-data'!BS32+'MD-data'!BS26+'MD-data'!BS27)/'MD-data'!BS59 -> 2.2337461 | BN8: =('MD-data'!BU32+'MD-data'!BU26+'MD-data'!BU27)/'MD-data'!BU59 -> 0.15179612 | BO8: =('MD-data'!BW32+'MD-data'!BW26+'MD-data'!BW27)/'MD-data'!BW59 -> 5.6229616 | BP8: =('MD-data'!BY32+'MD-data'!BY26+'MD-data'!BY27)/'MD-data'!BY59 -> 1.5298849 | BQ8: =('MD-data'!CA32+'MD-data'!CA26+'MD-data'!CA27)/'MD-data'!CA59 -> 7.6839444 | BR8: =('MD-data'!CC32+'MD-data'!CC26+'MD-data'!CC27)/'MD-data'!CC59 -> 0.020539546 | BS8: =('MD-data'!CE32+'MD-data'!CE26+'MD-data'!CE27)/'MD-data'!CE59 -> 3.9310026 | BT8: =('MD-data'!CG32+'MD-data'!CG26+'MD-data'!CG27)/'MD-data'!CG59 -> 21.811832 | BU8: =('MD-data'!CI32+'MD-data'!CI26+'MD-data'!CI27)/'MD-data'!CI59 -> 0.15014079 | BV8: =('MD-data'!CK32+'MD-data'!CK26+'MD-data'!CK27)/'MD-data'!CK59 -> 0.77095702 | BW8: =('MD-data'!CM32+'MD-data'!CM26+'MD-data'!CM27)/'MD-data'!CM59 -> 0.59864164 | BX8: =('MD-data'!CO32+'MD-data'!CO26+'MD-data'!CO27)/'MD-data'!CO59 -> 0.94219511 | BY8: =('MD-data'!CQ32+'MD-data'!CQ26+'MD-data'!CQ27)/'MD-data'!CQ59 -> 0.68501999 | BZ8: =('MD-data'!CS32+'MD-data'!CS26+'MD-data'!CS27)/'MD-data'!CS59 -> 0.0094470733 | CA8: =('MD-data'!CU32+'MD-data'!CU26+'MD-data'!CU27)/'MD-data'!CU59 -> 0.81054957 | CB8: =('MD-data'!CW32+'MD-data'!CW26+'MD-data'!CW27)/'MD-data'!CW59 -> 0.004264113 | CC8: =('MD-data'!CY32+'MD-data'!CY26+'MD-data'!CY27)/'MD-data'!CY59 -> 1.1732967 | CF8: =SMALL($AF8:$CC8,CF$1) -> 0.004264113 | CG8: =SMALL($AF8:$CC8,CG$1) -> 0.0094470733 | CH8: =SMALL($AF8:$CC8,CH$1) -> 0.020539546 | CI8: =SMALL($AF8:$CC8,CI$1) -> 0.041754951 | CJ8: =SMALL($AF8:$CC8,CJ$1) -> 0.065680862 | CK8: =SMALL($AF8:$CC8,CK$1) -> 0.074848358 | CL8: =SMALL($AF8:$CC8,CL$1) -> 0.12258289 | CM8: =SMALL($AF8:$CC8,CM$1) -> 0.15014079 | ... EC8: =SMALL($AF8:$CC8,EC$1) -> 35.359546 | EF8: =IFERROR(CG8/CF8,"") -> 2.2154838 | EG8: =IFERROR(CH8/CG8,"") -> 2.1741703 | EH8: =IFERROR(CI8/CH8,"") -> 2.0329052 | EI8: =IFERROR(CJ8/CI8,"") -> 1.5730078 | EJ8: =IFERROR(CK8/CJ8,"") -> 1.1395764 | EK8: =IFERROR(CL8/CK8,"") -> 1.6377499 | EL8: =IFERROR(CM8/CL8,"") -> 1.2248103 | EM8: =IFERROR(CN8/CM8,"") -> 1.0110252 | ... GB8: =IFERROR(EC8/EB8,"") -> 1.6202979
C9: 0.1 | D9: Cash Position Ratio | E9: Cash ÷ Current Liabilities | G9: + | H9: one-tailed | L9: =QUARTILE($AF9:$CC9,L$2) -> 0.00016129197 | M9: =QUARTILE($AF9:$CC9,M$2) -> 0.046685408 | N9: =QUARTILE($AF9:$CC9,N$2) -> 0.25566768 | O9: =QUARTILE($AF9:$CC9,O$2) -> 1.1409148 | P9: =QUARTILE($AF9:$CC9,P$2) -> 21.822868 | R9: =(T9-S9)^2 -> 1.7422103e-10 | S9: =(U9-1)/LN(U9) -> 17.370048 | T9: {=((AVERAGE(IF(AF9:CC9<AC9,AF9:CC9))-MIN(IF(AF9:CC9<AC9,AF9:CC9)))/(MAX(IF(AF9:CC9<AC9,AF9:CC9))-MIN(IF(AF9:CC9<AC9,AF9:CC9))))^(-3/2)} -> 17.370061 | U9: 76.291555 | V9: =AVERAGE(AF9:CC9) -> 1.8157413 | Y9: 0 | Z9: {=AA9/AVERAGE(IF($EF9:$GB9<=QUARTILE($EF9:$GB9,3),$EF9:$GB9,""))^(COUNT($AF9:$CC9)/4)} -> 0.065827846 | AA9: =N9 -> 0.25566768 | AB9: {=AA9*AVERAGE(IF($EF9:$GB9<=QUARTILE($EF9:$GB9,3),$EF9:$GB9,""))^(COUNT($AF9:$CC9)/4)} -> 0.9929835 | AC9: {=AB9*(AVERAGE(IF($EF9:$GB9<=QUARTILE($EF9:$GB9,3)+X$1*(QUARTILE($EF9:$GB9,3)-QUARTILE($EF9:$GB9,1)),$EF9:$GB9,"")))^(COUNT($AF9:$CC9)/4)} -> 7.9199922 | AF9: ='MD-data'!E32/'MD-data'!E59 -> 0.14625523 | AG9: ='MD-data'!G32/'MD-data'!G59 -> 0.15368295 | AH9: ='MD-data'!I32/'MD-data'!I59 -> 0.045898887 | AI9: ='MD-data'!K32/'MD-data'!K59 -> 0.087966683 | AJ9: ='MD-data'!M32/'MD-data'!M59 -> 0.00016129197 | AK9: ='MD-data'!O32/'MD-data'!O59 -> 0.0061261649 | AL9: ='MD-data'!Q32/'MD-data'!Q59 -> 4.7696634 | AM9: ='MD-data'!S32/'MD-data'!S59 -> 0.44122906 | AN9: ='MD-data'!U32/'MD-data'!U59 -> 6.7225796 | AO9: ='MD-data'!W32/'MD-data'!W59 -> 0.049044968 | AP9: ='MD-data'!Y32/'MD-data'!Y59 -> 0.72180083 | AQ9: ='MD-data'!AA32/'MD-data'!AA59 -> 0.037877142 | AR9: ='MD-data'!AC32/'MD-data'!AC59 -> 2.3927094 | AS9: ='MD-data'!AE32/'MD-data'!AE59 -> 0.22098847 | AT9: ='MD-data'!AG32/'MD-data'!AG59 -> 0.41707215 | AU9: ='MD-data'!AI32/'MD-data'!AI59 -> 0.37591107 | AV9: ='MD-data'!AK32/'MD-data'!AK59 -> 0.90159468 | AW9: ='MD-data'!AM32/'MD-data'!AM59 -> 0.14630075 | AX9: ='MD-data'!AO32/'MD-data'!AO59 -> 0.85538907 | AY9: ='MD-data'!AQ32/'MD-data'!AQ59 -> 0.63172858 | AZ9: ='MD-data'!AS32/'MD-data'!AS59 -> 0.74294761 | BA9: ='MD-data'!AU32/'MD-data'!AU59 -> 4.3534777 | BB9: ='MD-data'!AW32/'MD-data'!AW59 -> 0.01384214 | BC9: ='MD-data'!AY32/'MD-data'!AY59 -> 0.46868817 | BD9: ='MD-data'!BA32/'MD-data'!BA59 -> 0.011291166 | BE9: ='MD-data'!BC32/'MD-data'!BC59 -> 0.12090434 | BF9: ='MD-data'!BE32/'MD-data'!BE59 -> 1.1462557 | BG9: ='MD-data'!BG32/'MD-data'!BG59 -> 0.10498977 | BH9: ='MD-data'!BI32/'MD-data'!BI59 -> 0.065680862 | BI9: ='MD-data'!BL32/'MD-data'!BL59 -> 1.611882 | BJ9: ='MD-data'!BM32/'MD-data'!BM59 -> 3.238322 | BK9: ='MD-data'!BO32/'MD-data'!BO59 -> 0.013272942 | BL9: ='MD-data'!BQ32/'MD-data'!BQ59 -> 21.822868 | BM9: ='MD-data'!BS32/'MD-data'!BS59 -> 2.1108597 | BN9: ='MD-data'!BU32/'MD-data'!BU59 -> 0.031280305 | BO9: ='MD-data'!BW32/'MD-data'!BW59 -> 2.2785292 | BP9: ='MD-data'!BY32/'MD-data'!BY59 -> 1.1248921 | BQ9: ='MD-data'!CA32/'MD-data'!CA59 -> 6.7640154 | BR9: ='MD-data'!CC32/'MD-data'!CC59 -> 0.020539546 | BS9: ='MD-data'!CE32/'MD-data'!CE59 -> 3.5585965 | BT9: ='MD-data'!CG32/'MD-data'!CG59 -> 20.550231 | BU9: ='MD-data'!CI32/'MD-data'!CI59 -> 0.011799972 | BV9: ='MD-data'!CK32/'MD-data'!CK59 -> 0.10181734 | BW9: ='MD-data'!CM32/'MD-data'!CM59 -> 0.25299275 | BX9: ='MD-data'!CO32/'MD-data'!CO59 -> 0.15252099 | BY9: ='MD-data'!CQ32/'MD-data'!CQ59 -> 0.018094507 | BZ9: ='MD-data'!CS32/'MD-data'!CS59 -> 0.0094470733 | CA9: ='MD-data'!CU32/'MD-data'!CU59 -> 0.70044211 | CB9: ='MD-data'!CW32/'MD-data'!CW59 -> 0.004264113 | CC9: ='MD-data'!CY32/'MD-data'!CY59 -> 0.25834262 | CF9: =SMALL($AF9:$CC9,CF$1) -> 0.00016129197 | CG9: =SMALL($AF9:$CC9,CG$1) -> 0.004264113 | CH9: =SMALL($AF9:$CC9,CH$1) -> 0.0061261649 | CI9: =SMALL($AF9:$CC9,CI$1) -> 0.0094470733 | CJ9: =SMALL($AF9:$CC9,CJ$1) -> 0.011291166 | CK9: =SMALL($AF9:$CC9,CK$1) -> 0.011799972 | CL9: =SMALL($AF9:$CC9,CL$1) -> 0.013272942 | CM9: =SMALL($AF9:$CC9,CM$1) -> 0.01384214 | ... EC9: =SMALL($AF9:$CC9,EC$1) -> 21.822868 | EF9: =IFERROR(CG9/CF9,"") -> 26.437231 | EG9: =IFERROR(CH9/CG9,"") -> 1.4366798 | EH9: =IFERROR(CI9/CH9,"") -> 1.542086 | EI9: =IFERROR(CJ9/CI9,"") -> 1.1952026 | EJ9: =IFERROR(CK9/CJ9,"") -> 1.0450623 | EK9: =IFERROR(CL9/CK9,"") -> 1.1248283 | EL9: =IFERROR(CM9/CL9,"") -> 1.0428841 | EM9: =IFERROR(CN9/CM9,"") -> 1.3072044 | ... GB9: =IFERROR(EC9/EB9,"") -> 1.0619281
C10: Liquidity total
