Workbook

Sheet Monitoring_eng
A1: questionID | B1: question | C1: Bakhmut | D1: Bakhmut_comment | E1: Berdychiv | F1: Berdychiv_comment | G1: Berdiansk | H1: Berdiansk_comment | I1: Bila Tserkva | J1: Bila Tserkva_comment | K1: Brovary | L1: Brovary_comment | M1: Vinnytsia | N1: Vinnytsia_comment | O1: Dnipro | P1: Dnipro_comment | Q1: Drohobych | R1: Drohobych_comment | S1: Zhytomyr | T1: Zhytomyr_comment | U1: Zaporizhzhia | V1: Zaporizhzhia_comment | W1: Ivano-Frankivsk | X1: Ivano-Frankivsk_comment | Y1: Izmail | Z1: Izmail_comment | AA1: Kamianets-Podilskyi | AB1: Kamianets-Podilskyi_comment | AC1: Kamianske | AD1: Kamianske_comment | AE1: Kyiv | AF1: Kyiv_comment | AG1: Kovel | AH1: Kovel_comment | AI1: Konotop | AJ1: Konotop_comment | AK1: Kostiantynivka | AL1: Kostiantynivka_comment | AM1: Kramatorsk | AN1: Kramatorsk_comment | AO1: Kremenchuk | AP1: Kremenchuk_comment | AQ1: Kryvyi Rih | AR1: Kryvyi Rih_comment | AS1: Kropyvnytskyi | AT1: Kropyvnytskyi_comment | AU1: Lysychansk | AV1: Lysychansk_comment | AW1: Lutsk | AX1: Lutsk_comment | AY1: Lviv | AZ1: Lviv_comment | BA1: Mariupol | BB1: Mariupol_comment | BC1: Melitopol | BD1: Melitopol_comment | BE1: Mykolaiv | BF1: Mykolaiv_comment | BG1: Mukacheve | BH1: Mukacheve_comment | BI1: Nizhyn | BJ1: Nizhyn_comment | BK1: Nikopol | BL1: Nikopol_comment | BM1: Novomoskovsk | BN1: Novomoskovsk_comment | BO1: Odesa | BP1: Odesa_comment | BQ1: Oleksandriia | BR1: Oleksandriia_comment | BS1: Pavlohrad | BT1: Pavlohrad_comment | BU1: Poltava | BV1: Poltava_comment | BW1: Rivne | BX1: Rivne_comment | BY1: Sievierodonetsk | BZ1: Sievierodonetsk_comment | CA1: Sloviansk | CB1: Sloviansk_comment | CC1: Sumy | CD1: Sumy_comment | CE1: Ternopil | CF1: Ternopil_comment | CG1: Uzhhorod | CH1: Uzhhorod_comment | CI1: Uman | CJ1: Uman_comment | CK1: Kharkiv | CL1: Kharkiv_comment | CM1: Kherson | CN1: Kherson_comment | CO1: Khmelnytskyi | CP1: Khmelnytskyi_comment | CQ1: Cherkasy | CR1: Cherkasy_comment | CS1: Chernivtsi | CT1: Chernivtsi_comment | CU1: Chernihiv | CV1: Chernihiv_comment | CW1: Shostka | CX1: Shostka_comment
A2: Q1 | B2: Is there an online platform for communication between citizens and the City Council available on the City Council website for filing complaints, suggestions and appeals, as well as requests for information? | C2: no | E2: yes | F2: http://www.berdychiv.com.ua/index.php?do=feedback | G2: yes | H2: the web-site provides only a one-sided display http://bmr.gov.ua/index.php?id=521 , however, according to the Resolution of Mayor # 385 dated 29.12.2015 “On Single social network Berdyansk City Council and its executive bodies "My Authority" ther is the following page www.mygov.bmr.gov.ua/ | I2: no | K2: yes | L2: http://brovary-rada.gov.ua/content/feedback.html | M2: yes | N2: http://www.vmr.gov.ua/Lists/Officials/Default.aspx http://1560.vmr.gov.ua/default.aspx | O2: partially | P2: Appeals possible only through igov.org.ua http://dniprorada.gov.ua/kontakti/ | Q2: no | S2: yes | T2: http://zt-rada.gov.ua/questions | U2: no | W2: yes | X2: http://www.emvk.if.ua/ezvern | Y2: yes | Z2: http://izmail-rada.gov.ua/component/content/article/164-2011-01-31-07-52-55/2448-2012-08-14-05-12-27 | AA2: yes | AB2: http://kam-pod.gov.ua/gromadianam/zapitannia-do-vladi | AC2: yes | AD2: http://ez.dndz.gov.ua/ | AE2: yes | AF2: http://kmr.gov.ua/uk/content/form-electronic-appeal-physical-person | AG2: no | AI2: yes | AJ2: https://docs.google.com/forms/d/e/1FAIpQLSelo82DLAg13ZtbipY66VkVlT0wxLSFK0I3tdMYeXNfLgQUVQ/viewform?c=0&w=1 | AK2: yes | AL2: http://konstrada.gov.ua/zvernennya-gromadyan | AM2: no | AO2: yes | AP2: https://petition.kremen.gov.ua/ | AQ2: yes | AR2: http://pet.kr.gov.ua/ (web-page is under construction) One may register, authorize on the web-site and send appeals http://kr.gov.ua/ua/logon/ | AS2: no | AU2: no | AW2: yes | AX2: http://lutskrada.gov.ua/vidkryte-misto http://www.lutskrada.gov.ua/appeal-to-the-%D1%81ity-%D1%81ouncil | AY2: yes | AZ2: http://city-adm.lviv.ua/services/application | BA2: yes | BB2: http://marsovet.org.ua/questions | BC2: yes | BD2: http://petition.mlt.gov.ua/index.php/uk/elektronni-petitsiji-ta-zvernennya | BE2: no | BG2: no | BI2: no | BK2: partially | BL2: http://www.nikopol-mrada.dp.gov.ua/zaday-pitannya-kerivniku-mista | BM2: no | BO2: yes | BP2: https://1535.odessa.ua/catalog/ | BQ2: yes | BR2: http://olexrada.gov.ua/zapmg | BS2: partially | BT2: http://pavlogradmrada.dp.gov.ua/napisat-pismo-mehru | BU2: yes | BV2: http://www.rada-poltava.gov.ua/petition/ | BW2: no | BY2: yes | BZ2: http://sed-rada.org.ua/zvorotniy-zvyazok | CA2: yes | CB2: http://www.slavrada.gov.ua/?view=waitingroom | CC2: yes | CD2: https://smr.gov.ua/uk/zvorotnij-zv-yazok/onlajn-prijmalnya.html | CE2: yes | CF2: http://rada.te.ua/pytannia-vidpovidi/ | CG2: yes | CH2: http://rada-uzhgorod.gov.ua/elektronne-zvernennya/ | CI2: no | CK2: yes | CL2: http://www.city.kharkov.ua/uk/gorodskaya-vlast/gorodskoj-golova/obratnaya-svyaz/vopros-gorodskomu-golove.html | CM2: yes | CN2: http://www.city.kherson.ua/guestbook/ | CO2: yes | CP2: http://cnap.khmelnytsky.com/elektronne-zvernennia | CQ2: no | CS2: yes | CT2: http://zvernennya.chernivtsy.eu/ | CU2: yes | CV2: http://chernigiv-rada.gov.ua/zvernennya/add | CW2: yes | CX2: http://www.shostka-rada.gov.ua/zvernennya_gromadyan/elektronne_zvernennya
A3: Q2 | B3: Do the responds to citizens' appeals, suggestions, and complaints are available on the respective online platform for public observation? | C3: no | E3: no | G3: yes | H3: www.mygov.bmr.gov.ua/ | I3: no | K3: no | M3: yes | N3: http://www.vmr.gov.ua/Lists/CitizenAddressResponses/Default.aspx | O3: no | Q3: no | S3: no | U3: no | W3: no | Y3: yes | Z3: http://izmail-rada.gov.ua/component/content/article/164-2011-01-31-07-52-55/2448-2012-08-14-05-12-27 | AA3: yes | AB3: http://kam-pod.gov.ua/gromadianam/zapitannia-do-vladi | AC3: no | AE3: no | AG3: no | AI3: no | AK3: no | AM3: no | AO3: no | AQ3: no | AS3: no | AU3: no | AW3: yes | AX3: http://lutskrada.gov.ua/vidkryte-misto | AY3: no | BA3: no | BC3: no | BE3: no | BG3: no | BI3: no | BK3: partially | BL3: http://www.nikopol-mrada.dp.gov.ua/zaday-pitannya-kerivniku-mista | BM3: no | BO3: no | BQ3: no | BS3: no | BU3: no | BW3: no | BY3: no | CA3: no | CC3: yes | CD3: https://smr.gov.ua/uk/zvorotnij-zv-yazok/onlajn-prijmalnya.html | CE3: partially | CF3: answers are given selectively http://rada.te.ua/pytannia-vidpovidi/ | CG3: no | CI3: no | CK3: no | CM3: no | CO3: no | CQ3: no | CS3: yes | CT3: http://zvernennya.chernivtsy.eu/ | CU3: yes | CV3: http://chernigiv-rada.gov.ua/zvernennya | CW3: no
A4: Q3 | B4: Are the responds to citizens' appeals, suggestions, and complaints sent/published on the respective online platform within ten working days? | C4: no | E4: N/A | F4: Due to absence of the published responses on the platform the consideration term is unknown. | G4: no | I4: no | K4: N/A | L4: Due to absence of the published responses on the platform the consideration term is unknown. | M4: no | O4: no | Q4: no | S4: N/A | T4: Due to absence of the published responses on the platform the consideration term is unknown. | U4: no | W4: N/A | X4: Due to absence of the published responses on the platform the consideration term is unknown. | Y4: N/A | Z4: The date of response is not indicated on the platform. | AA4: yes | AB4: http://kam-pod.gov.ua/gromadianam/zapitannia-do-vladi | AC4: yes | AD4: questionnaire | AE4: N/A | AF4: Due to absence of the published responses on the platform the consideration term is unknown. | AG4: no | AI4: yes | AJ4: questionnaire | AK4: N/A | AL4: Due to absence of the published responses on the platform the consideration term is unknown. | AM4: no | AO4: N/A | AP4: Due to absence of the published responses on the platform the consideration term is unknown. | AQ4: yes | AR4: questionnaire | AS4: no | AU4: no | AW4: no | AY4: N/A | AZ4: Due to absence of the published responses on the platform the consideration term is unknown. | BA4: N/A | BB4: Due to absence of the published responses on the platform the consideration term is unknown. | BC4: N/A | BD4: Due to absence of the published responses on the platform the consideration term is unknown. | BE4: no | BG4: no | BI4: no | BK4: no | BM4: no | BO4: N/A | BP4: Due to absence of the published responses on the platform the consideration term is unknown. | BQ4: N/A | BR4: Due to absence of the published responses on the platform the consideration term is unknown. | BS4: N/A | BT4: Due to absence of the published responses on the platform the consideration term is unknown. | BU4: N/A | BV4: Due to absence of the published responses on the platform the consideration term is unknown. | BW4: no | BY4: N/A | BZ4: Due to absence of the published responses on the platform the consideration term is unknown. | CA4: N/A | CB4: Due to absence of the published responses on the platform the consideration term is unknown. | CC4: yes | CD4: https://smr.gov.ua/uk/zvorotnij-zv-yazok/onlajn-prijmalnya.html | CE4: no | CG4: yes | CH4: Questionnaire | CI4: no | CK4: N/A | CL4: Due to absence of the published responses on the platform the consideration term is unknown. | CM4: N/A | CN4: Due to absence of the published responses on the platform the consideration term is unknown. | CO4: N/A | CP4: Due to absence of the published responses on the platform the consideration term is unknown. | CQ4: no | CS4: yes | CT4: http://zvernennya.chernivtsy.eu/ | CU4: yes | CV4: http://chernigiv-rada.gov.ua/zvernennya | CW4: N/A | CX4: Через відсутність опублікованих відповідей на платформі, час розгляду невідомий.
A5: Q4 | B5: Is there a possibility to track the progress of appeals, complaints, and suggestions on the respective online platform through the indication of information on acceptance for consideration, employee responsible for processing, as well as the term of consideration? | C5: no | E5: no | G5: no | I5: no | K5: no | M5: yes | N5: http://www.vmr.gov.ua/_layouts/15/czz/Request.aspx | O5: no | Q5: no | S5: no | U5: no | W5: yes | Y5: no | AA5: yes | AB5: http://kam-pod.gov.ua/gromadianam/zapitannia-do-vladi | AC5: no | AE5: no | AG5: no | AI5: no | AK5: no | AM5: no | AO5: no | AQ5: no | AS5: no | AU5: no | AW5: no | AX5: http://lutskrada.gov.ua/elektronni-petyciyi-1 | AY5: yes | AZ5: http://city-adm.lviv.ua/services/application/results | BA5: no | BC5: no | BE5: no | BG5: no | BI5: no | BK5: no | BM5: no | BO5: yes | BP5: https://1535.odessa.ua/catalog/ | BQ5: no | BS5: no | BU5: no | BW5: no | BY5: no | CA5: no | CC5: no | CE5: no | CG5: no | CI5: no | CK5: no | CM5: no | CO5: no | CQ5: no | CS5: no | CU5: no | CW5: no
A6: Q5 | B6: Does the municipality provide the responce to requests for information within the statutory deadlines (within five days from the date of receipt of request)? (filling in the questionnaire) | C6: yes | D6: response received in time | E6: yes | F6: response received in time | G6: yes | H6: response received in time | I6: yes | J6: bc_mvk@bc-rada.gov.ua | K6: yes | L6: response received in time | M6: yes | N6: The database for electronic document management. | O6: no | Q6: yes | R6: response received in time | S6: yes | T6: response received in time | U6: yes | V6: response received in time | W6: yes | X6: response received in time | Y6: yes | Z6: response received in time | AA6: yes | AB6: response received in time | AC6: yes | AD6: response received in time | AE6: yes | AF6: response received in time | AG6: yes | AH6: response received in time | AI6: yes | AJ6: response received in time | AK6: yes | AL6: response received in time | AM6: yes | AN6: response received in time | AO6: no | AQ6: yes | AR6: response received in time | AS6: no | AU6: no | AW6: yes | AX6: response received in time | AY6: no | BA6: no | BC6: yes | BD6: response received in time | BE6: yes | BF6: response received in time | BG6: no | BI6: yes | BJ6: response received in time | BK6: no | BM6: yes | BN6: response received in time | BO6: yes | BP6: response received in time | BQ6: yes | BR6: response received in time | BS6: yes | BT6: response received in time | BU6: yes | BV6: response received in time | BW6: yes | BX6: response received in time | BY6: yes | BZ6: response received in time | CA6: yes | CB6: response received in time | CC6: no | CE6: partially | CF6: a letter received 8 days late | CG6: yes | CH6: response received in time | CI6: no | CK6: no | CM6: yes | CN6: response received in time | CO6: yes | CP6: response received in time | CQ6: no | CS6: no | CU6: yes | CV6: response received in time | CW6: yes | CX6: response received in time
A7: Q6 | B7: Does the municipality provide the responce to requests for information in full? (filling in the questionnaire) | C7: yes | D7: response received in full | E7: yes | F7: response received in full | G7: yes | H7: response received in full | I7: yes | J7: response received in full | K7: yes | L7: response received in full | M7: yes | N7: response received in full | O7: yes | P7: response received in full | Q7: yes | R7: response received in full | S7: yes | T7: response received in full | U7: yes | V7: response received in full | W7: yes | X7: response received in full | Y7: no | AA7: yes | AB7: response received in full | AC7: yes | AD7: response received in full | AE7: yes | AF7: response received in full | AG7: yes | AH7: response received in full | AI7: yes | AJ7: response received in full | AK7: partially | AL7: the response is partial | AM7: yes | AN7: response received in full | AO7: no | AQ7: yes | AR7: response received in full | AS7: no | AU7: no | AW7: yes | AX7: response received in full | AY7: partially | AZ7: the response is partial | BA7: yes | BB7: response received in full | BC7: yes | BD7: response received in full | BE7: yes | BF7: response received in full | BG7: no | BI7: yes | BJ7: response received in full | BK7: no | BM7: yes | BN7: response received in full | BO7: yes | BP7: response received in full | BQ7: yes | BR7: response received in full | BS7: yes | BT7: response received in full | BU7: yes | BV7: response received in full | BW7: partially | BX7: the response is partial | BY7: yes | BZ7: response received in full | CA7: yes | CB7: response received in full | CC7: yes | CD7: response received in full | CE7: yes | CF7: response received in full | CG7: yes | CH7: response received in full | CI7: no | CK7: no | CM7: yes | CN7: response received in full | CO7: yes | CP7: response received in full | CQ7: yes | CR7: response received in full | CS7: partially | CT7: the response is partial | CU7: yes | CV7: response received in full | CW7: yes | CX7: response received in full
A8: Q7 | B8: Does the municipality provide the responce to requests for information within the statutory deadlines (within five days from the date of receipt of request)? (response to the 'Secret shopper’s request') | C8: yes | D8: response received in time | E8: yes | F8: response received in time | G8: yes | H8: response received in time | I8: partially | J8: the response is received 12 late | K8: yes | L8: response received in time | M8: yes | N8: response received in time | O8: yes | P8: response received in time | Q8: no | S8: partially | T8: response received 2 days late | U8: yes | V8: response received in time | W8: no | Y8: yes | Z8: response received in time | AA8: partially | AB8: response received 4 days late. | AC8: yes | AD8: response received in time | AE8: partially | AF8: reclassified as an appeal of a citizen | AG8: no | AI8: yes | AJ8: response received in time | AK8: yes | AL8: response received in time | AM8: yes | AN8: response received in time | AO8: yes | AP8: response received in time | AQ8: yes | AR8: response received in time | AS8: no | AU8: yes | AV8: response received in time | AW8: yes | AX8: response received in time | AY8: yes | AZ8: response received in time | BA8: yes | BB8: response received in time | BC8: yes | BD8: response received in time | BE8: yes | BF8: response received in time | BG8: no | BI8: yes | BJ8: response received in time | BK8: no | BM8: yes | BN8: response received in time | BO8: yes | BP8: response received in time | BQ8: yes | BR8: response received in time | BS8: yes | BT8: response received in time | BU8: yes | BV8: response received in time | BW8: yes | BX8: response received in time | BY8: yes | BZ8: response received in time | CA8: yes | CB8: response received in time | CC8: yes | CD8: response received in time | CE8: partially | CF8: response received one day late | CG8: no | CI8: yes | CJ8: response received in time | CK8: yes | CL8: response received in time | CM8: yes | CN8: response received in time | CO8: yes | CP8: response received in time | CQ8: yes | CR8: response received in time | CS8: yes | CT8: response received in time | CU8: yes | CV8: response received in time | CW8: yes | CX8: response received in time
A9: Q8 | B9: Does the municipality provide the responce to requests for information in full? (response to the 'Secret shopper’s request') | C9: yes | D9: response received in full | E9: yes | F9: response received in full | G9: partially | H9: the response to one question out of three | I9: yes | J9: response received in full | K9: yes | L9: response received in full | M9: yes | N9: response received in full | O9: yes | P9: response received in full | Q9: no | S9: yes | T9: response received in full | U9: yes | V9: response received in full | W9: no | Y9: partially | Z9: City Council did no provide information on the following open meeting of of the City Council. | AA9: yes | AB9: response received in full | AC9: yes | AD9: response received in full | AE9: no | AG9: no | AI9: yes | AJ9: response received in full | AK9: yes | AL9: response received in full | AM9: yes | AN9: response received in full | AO9: yes | AP9: response received in full | AQ9: yes | AR9: response received in full | AS9: no | AU9: yes | AV9: response received in full | AW9: yes | AX9: response received in full | AY9: yes | AZ9: response received in full | BA9: yes | BB9: response received in full | BC9: yes | BD9: response received in full | BE9: yes | BF9: response received in full | BG9: no | BI9: yes | BJ9: response received in full | BK9: no | BM9: no | BO9: yes | BP9: response received in full | BQ9: yes | BR9: response received in full | BS9: yes | BT9: response received in full | BU9: yes | BV9: response received in full | BW9: yes | BX9: response received in full | BY9: yes | BZ9: response received in full | CA9: yes | CB9: response received in full | CC9: yes | CD9: response received in full | CE9: yes | CF9: response received in full | CG9: no | CI9: yes | CJ9: response received in full | CK9: no | CM9: yes | CN9: response received in full | CO9: yes | CP9: response received in full | CQ9: yes | CR9: response received in full | CS9: yes | CT9: response received in full | CU9: partially | CV9: Did not provide information on the date of the session in December 2016. | CW9: yes | CX9: response received in full
A10: Q9 | B10: Are the reports on the processing of requests for public information published periodically (at least annually) on the City Council website? | C10: yes | D10: monthly http://artemrada.gov.ua/uk/2083 | E10: yes | F10: monthly http://www.berdychiv.com.ua/zvti.html | G10: yes | H10: http://bmr.gov.ua/index.php?id=800000514 | I10: yes | J10: http://bc-rada.gov.ua/sites/default/files/2016/160701_zvit_pi.zip | K10: yes | L10: http://brovary-rada.gov.ua/content/dostup-do-publichnoi-informacii1.html | M10: yes | N10: http://www.vmr.gov.ua/TransparentCity/Lists/AccessToPublicInformation/ShowContent.aspx?ID=6 http://www.vmr.gov.ua/TransparentCity/Lists/ReportsToHearAppeals/Default.aspx | O10: yes | P10: http://dniprorada.gov.ua/zviti-pro-zapiti-na-publichnu-informaciju | Q10: partially | R10: The first report will be prepared by the end of 2016 | S10: partially | T10: Only in 2016 http://zt-rada.gov.ua/pages/p10867 | U10: yes | V10: Response in the questionnaire is positive, http://meriazp.gov.ua/test/index.php?id=22647 | W10: yes | X10: http://www.mvk.if.ua/pinfzv | Y10: no | AA10: partially | AB10: http://kam-pod.gov.ua/documents/dostup-do-publ-informatsii/zviti-ta-poshireni-vidpovidi | AC10: yes | AD10: http://dndz.gov.ua/dostup_do_publichnoi_informatsii/zviti | AE10: yes | AF10: http://kmr.gov.ua/uk/content/zvity | AG10: yes | AH10: http://www.kovelrada.gov.ua/publichna_informaciya.html | AI10: yes | AJ10: http://rada.konotop.org/index.php/2011-07-19-10-56-08/2011-07-20-07-20-37/5043---2016- | AK10: no | AM10: yes | AN10: http://krm.gov.ua/article/view/503 | AO10: no | AQ10: yes | AR10: http://kr.gov.ua/ua/st/pg/50115576064888_s/ http://od.kr.gov.ua/ua/odata_list/rid/2/mng/0/tag/na/ | AS10: no | AU10: no | AW10: yes | AX10: http://www.lutskrada.gov.ua/zviti-pro-nadhodzhennya-zapitiv | AY10: no | BA10: yes | BB10: http://marsovet.org.ua/articles/show/article/3433 | BC10: yes | BD10: http://mlt.gov.ua/index.php?option=com_content&task=view&id=4370&Itemid=296 | BE10: yes | BF10: http://mkrada.gov.ua/content/zviti.html | BG10: yes | BH10: https://mukachevo-rada.gov.ua/index.php/vidkryte-misto/dostup-do-publichnoi-informatsii | BI10: no | BK10: yes | BL10: http://www.nikopol-mrada.dp.gov.ua/zvit-po-informatsiynim-zapitam | BM10: yes | BN10: http://novomoskovsk-rada.gov.ua/static/richni-zviti-shchodo-dostupu-do-publichnoyi-informaciyi | BO10: yes | BP10: http://omr.gov.ua/ru/essential/67023 | BQ10: no | BS10: yes | BT10: http://pavlogradmrada.dp.gov.ua/category/vikonkom-2/zapiti-na-publichnu-informaciyu | BU10: yes | BV10: http://www.rada-poltava.gov.ua/documents/public_reports/ | BW10: no | BY10: yes | BZ10: http://sed-rada.org.ua/zviti-shchodo-zadovolennya-zapitiv-na-publichnu-informaciyu/zvit | CA10: yes | CB10: http://www.slavrada.gov.ua/?view=public_info | CC10: yes | CD10: https://smr.gov.ua/uk/misto/2016-03-14-08-10-17/2188-zviti-pro-zapiti-na-publichnu-informatsiyu.html | CE10: no | CG10: yes | CH10: http://rada-uzhgorod.gov.ua/rada_docs_taxonomy/zvity-pro-zapyty-na-informatsiyu/ | CI10: no | CK10: no | CM10: yes | CN10: http://www.city.kherson.ua/c/publichna-informaciya | CO10: yes | CP10: http://khmelnytsky.com/index.php?option=com_content&view=category&layout=blog&id=300&Itemid=534 | CQ10: no | CS10: no | CU10: yes | CV10: http://chernigiv-rada.gov.ua/project/info-access | CW10: yes | CX10: http://shostka-rada.gov.ua/public/zvit/zvti_pro_dostup_do_publchno_nformac_u_vikonkom_shostkinsko_msko_radi_za_2016_rk
A11: Q10 | B11: Are materials of the City Council sessions published on the City Council website (including transcripts, audio/video recording of the sessions, minutes of the sessions and the results of roll-call votes)? | C11: partially | D11: available: minutes, decisions, votes http://artemrada.gov.ua/uk/protocols | E11: partially | F11: avilable: only decisions http://www.berdychiv.com.ua/rshennya/rishennya-rada/ | G11: partially | H11: available: minutes http://bmr.gov.ua/index.php?id=800000839 та рішення http://bmr.gov.ua/index.php?id=800000880 | I11: partially | J11: available: minutes http://bc-rada.gov.ua/node/6020 поіменне голосування http://bc-rada.gov.ua/node/5210 | K11: yes | L11: available: video http://brovary-rada.gov.ua/content/arhiv-sesiy-miskoi-radi.html and documents http://brovary-rada.gov.ua/content/protokoli-sesiy-miskoi-radi.html | M11: partially | N11: Minutes of the sessions http://www.vmr.gov.ua/Lists/CityCouncil/ShowContent.aspx?ID=67 Agenda and results of roll-call votes http://www.vmr.gov.ua/Lists/CityCouncil/ShowContent.aspx?ID=55 | O11: yes | P11: http://dniprorada.gov.ua/onlajn-transljacija-sesijnih-zasidan http://dniprorada.gov.ua/protokol-provedennja-s http://dniprorada.gov.ua/rezultati-poimennogo-golosuvannja-s | Q11: yes | R11: video http://drohobych-rada.gov.ua/category/videonovyny2/ and minutes, votes http://drohobych-rada.gov.ua/deputaty-diyalnist-rady/ | S11: partially | T11: No audio/video records http://zt-rada.gov.ua/pages/p17 | U11: yes | V11: http://meria.zp.ua/test/index.php?id=8 | W11: yes | X11: video http://www.mvk.if.ua/livevideo decisions, votes, minutes of the sessions http://www.namvk.if.ua/rishses/ and audiorecords http://www.mrada.if.ua/%D0%BF%D1%80%D0%BE-%D0%BC%D1%96%D1%81%D1%8C%D0%BA%D1%83-%D1%80%D0%B0%D0%B4%D1%83/%D0%BC%D1%96%D1%81%D1%8C%D0%BA%D0%B8%D0%B9-%D0%B3%D0%BE%D0%BB%D0%BE%D0%B2%D0%B0/27-mr/multymedia/audiozapysy/132-%D0%B0%D1%83%D0%B4%D1%96%D0%BE%D0%B7%D0%B0%D0%BF%D0%B8%D1%81-%D0%BF%D0%BB%D0%B5%D0%BD%D0%B0%D1%80%D0%BD%D0%BE%D0%B3%D0%BE-%D0%B7%D0%B0%D1%81%D1%96%D0%B4%D0%B0%D0%BD%D0%BD%D1%8F-vii-%D1%81%D0%B5%D1%81%D1%96%D1%97-%D1%96%D0%B2%D0%B0%D0%BD%D0%BE-%D1%84%D1%80%D0%B0%D0%BD%D0%BA%D1%96%D0%B2%D1%81%D1%8C%D0%BA%D0%BE%D1%97-%D0%BC%D1%96%D1%81%D1%8C%D0%BA%D0%BE%D1%97-%D1%80%D0%B0%D0%B4%D0%B8-19-08-2016-%D1%80 | Y11: partially | Z11: http://www.izmail-rada.gov.ua/2011-11-16-07-26-09/2016-07-27-07-41-28 http://www.izmail-rada.gov.ua/2011-11-16-07-26-09/2011-11-16-07-31-32 | AA11: yes | AB11: Audio records, minutes, decisions, vote results http://kam-pod.gov.ua/documents/of-docs-miskradi/rishennia-miskradi/item/4869-21-sesiia-miskoi-rady-15-lystopada-2016-roku | AC11: yes | AD11: http://dndz.gov.ua/miska_vlada/miska_rada/plenarni_zasidannya | AE11: partially | AF11: http://kmr.gov.ua/uk/plenary-meetings http://kmr.gov.ua/uk/stenogramu http://kmr.gov.ua/uk/protokolu http://kmr.gov.ua/uk/result_golosuvanya | AG11: no | AI11: partially | AJ11: No records http://rada.konotop.org/index.php/2014-02-05-15-19-02/2009-03-30-12-34-33/5178-11-20- | AK11: partially | AL11: Decisions http://konstrada.gov.ua/component/documents/?menu=&typedoc=2&Itemid=181 and minutes http://konstrada.gov.ua/component/documents/?menu=&typedoc=7 | AM11: yes | AN11: videos http://krm.gov.ua/article/view/429 agenda http://krm.gov.ua/article/view/49 votes http://krm.gov.ua/article/view/519 | AO11: yes | AP11: https://www.kremen.gov.ua/index.php/rozdil/miska_vlada/radanova/materials та відео https://www.kremen.gov.ua/index.php/rozdil/miska_vlada/radanova/%20video | AQ11: partially | AR11: No information on roll-call votes http://kr.gov.ua/ua/st/pg/20415507860122_s/ | AS11: partially | AT11: http://www.kr-rada.gov.ua/decisions/date/?date=2016-11-17 | AU11: partially | AV11: http://lis.gov.ua/2011-03-25-08-36-56/resheniya/resheniya-sessij-gorodskogo-soveta.html | AW11: yes | AX11: http://www.lutskrada.gov.ua/protokoly-sesiy http://www.lutskrada.gov.ua/sesiyi-miskoyi-rady | AY11: yes | AZ11: Agenda and audio records of the sessions http://www8.city-adm.lviv.ua/info_2003/plan.nsf/276715ac21c1f975c2256caa003843d0?OpenView Results of roll-call votes http://city-adm.lviv.ua/lmr/docs/results-polls Minutes of the sessions http://city-adm.lviv.ua/lmr/docs/protocols Videorecords http://city-adm.lviv.ua/lmr/live | BA11: yes | BB11: http://marsovet.org.ua/articles/show/article/2335 та відео http://marsovet.org.ua/videogallery | BC11: no | BE11: partially | BF11: Minutes http://mkrada.gov.ua/content/protokoli-plenarnih-zasidan-mikolaivskoi-miskoi-radi_2.html vote results http://mkrada.gov.ua/content/rezultati-golosuvannya-deputativ_2.html | BG11: yes | BH11: https://mukachevo-rada.gov.ua/index.php/2016-03-11-09-58-01/rishennya-sesiji-miskoji-radi та відео https://mukachevo-rada.gov.ua/index.php/hromadianam/video | BI11: partially | BJ11: No recordings http://www.nizhynrada.org/article/667/protokoli-sesy-msko-radi.html http://www.nizhynrada.org/article/939/rezultati-golosuvannya.html | BK11: partially | BL11: http://www.nikopol-mrada.dp.gov.ua/rishenya-miskoi-rady та http://www.nikopol-mrada.dp.gov.ua/protokoli-sesiyi-miskoyi-radi | BM11: partially | BN11: Only vote results http://www.novomoskovsk-rada.gov.ua/content/golosuvannya | BO11: partially | BP11: http://omr.gov.ua/acts/council/ | BQ11: yes | BR11: http://olexrada.gov.ua/news/pryama-translyatsiya-dvadtsyat-chetvertoyi-pozachergovoyi-sesiyi-oleksandrijskoyi-miskoyi-rady-vii-sklykannya.html http://olexrada.gov.ua/category/city_rada/plenary-sessions | BS11: partially | BT11: Votes and the online broadcasting http://pavlogradmrada.dp.gov.ua/category/miska-rada/protokoli-zasidan-postijjnikh-deputatskikh-komisijj http://pavlogradmrada.dp.gov.ua/poimenne-golosuvannya http://pavlogradmrada.dp.gov.ua/on-line-translyaciya-zasidann | BU11: partially | BV11: Only roll-call votes and the mitutes http://www.rada-poltava.gov.ua/documents/voting_results/ http://www.rada-poltava.gov.ua/documents/inshi_dokumenti/ | BW11: yes | BX11: http://www.city-adm.rv.ua/RivnePortal/ContentPages/Public/SessionProtocol/session_protocol.aspx?id=255 | BY11: partially | BZ11: Roll-call votes and the mitutes http://sed-rada.org.ua/normativna-baza | CA11: partially | CB11: Only recordings http://slavrada.gov.ua/?view=live | CC11: partially | CD11: Only minutes of sessions https://smr.gov.ua/uk/miska-vlada/miska-rada/protokoli-sesij.html | CE11: partially | CF11: Minutes http://rada.te.ua/normativnie-dokument/protokoly_sesij_mr/ decisions including the results of roll-call votes http://rada.te.ua/normativnie-dokument/rishennya-miskoi-rad/ | CG11: partially | CH11: Only minutes http://rada-uzhgorod.gov.ua/rada_docs/protokol-pozachergovogo-drugogo-plenarnogo-zasidannya-chergovoyi-viii-sesiyi-miskoyi-rady-vii-sklykannya-07-lystopada-2016-roku/ | CI11: partially | CJ11: http://uman-rada.gov.ua/index.php/dokumenty | CK11: partially | CL11: http://www.city.kharkov.ua/uk/gorodskaya-vlast/gorodskoj-sovet/pomenne-golosuvannya.html | CM11: no | CO11: partially | CP11: Only minutes http://www.khmelnytsky.com/index.php?option=com_content&view=category&id=550&Itemid=245 | CQ11: yes | CR11: Minutes http://www.rada.cherkassy.ua/ua/files.php?s=2&s1=168&s2=391 and votes http://www.rada.cherkassy.ua/ua/files.php?s=2&s1=168&s2=477 video http://www.rada.cherkassy.ua/ua/sections.php?s=24 | CS11: yes | CT11: http://chernivtsy.eu/portal/1109-2 | CU11: partially | CV11: Only roll-call votes http://chernigiv-rada.gov.ua/project/res_opros | CW11: partially | CX11: Only minutes http://www.shostka-rada.gov.ua/documents/protokoli_aparatnih_narad_pri_mskomu_golov1/protokoli_aparatnih_narad_pri_mskomu_golov_2016
A12: Q11 | B12: Are materials of the City Council standing committees' sessions published on the City Council website (including transcripts, audio/video recording of the meetings, minutes of the meetings and the results of roll-call votes)? | C12: no | E12: partially | F12: available: only minutes http://www.berdychiv.com.ua/sklad_komisiy.html | G12: partially | H12: http://bmr.gov.ua/index.php?id=800000317&no_cache=1 | I12: partially | J12: http://bc-rada.gov.ua/node/1838 | K12: partially | L12: available: video http://brovary-rada.gov.ua/content/videoarhiv.html#collapse2 and minutes http://brovary-rada.gov.ua/content/protokoli-komisiy-miskoi-radi.html | M12: partially | N12: http://www.vmr.gov.ua/Lists/CityCouncil/ShowContent.aspx?ID=65 | O12: partially | P12: Only records http://dniprorada.gov.ua/onlajn-transljacija-zasidan-postijnih-komisij-miskoi-radi | Q12: yes | R12: http://drohobych-rada.gov.ua/postijni-komisiyi2/ | S12: partially | T12: available: only minutes http://zt-rada.gov.ua/pages/c515 | U12: yes | V12: http://meria.zp.ua/test/index.php?id=8 | W12: yes | X12: http://www.mrada.if.ua/%D0%BF%D1%80%D0%BE-%D0%BC%D1%96%D1%81%D1%8C%D0%BA%D1%83-%D1%80%D0%B0%D0%B4%D1%83/%D0%B4%D0%B5%D0%BF%D1%83%D1%82%D0%B0%D1%82%D1%81%D1%8C%D0%BA%D1%96-%D0%BA%D0%BE%D0%BC%D1%96%D1%81%D1%96%D1%97 | Y12: no | AA12: no | AC12: partially | AD12: Only minutes http://dndz.gov.ua/miska_vlada/miska_rada/postiyni_komisii_miskoi_radi_vii_sklikannya | AE12: partially | AF12: http://kmr.gov.ua/uk/comisii | AG12: no | AI12: partially | AJ12: Only minutes http://rada.konotop.org/index.php/2009-03-30-12-34-05/2015-03-02-09-06-46/4453-----7- | AK12: no | AM12: yes | AN12: http://krm.gov.ua/article/view/444 | AO12: partially | AP12: https://www.kremen.gov.ua/index.php/rozdil/miska_vlada/radanova/deputy/content/2040 | AQ12: partially | AR12: Only minutes http://kr.gov.ua/ua/st/pg/20415937626381_s/ | AS12: yes | AT12: http://www.kr-rada.gov.ua/postiyni-deputatski-komisiyi.html | AU12: no | AW12: partially | AX12: Only minutes http://www.lutskrada.gov.ua/protokoly-zasidan-postiynyh-komisiy | AY12: partially | AZ12: Agendas and minutes of the sessions https://www.lvivrada.gov.ua/miska-rada/postiyni-komisii | BA12: yes | BB12: http://marsovet.org.ua/articles/show/article/2336 | BC12: no | BE12: yes | BF12: http://mkrada.gov.ua/content/informaciya-pro-robotu-postiynih-komisiy1.html та матеріали http://mkrada.gov.ua/content/protokoli-rekomendacii-visnovki-zasidan-postiynih-komisiy1.html | BG12: yes | BH12: https://mukachevo-rada.gov.ua/index.php/miska-vlada/mukachivska-miska-rada/protokoli-zasidan-postijnikh-komisij-miskoji-radi та відео https://mukachevo-rada.gov.ua/index.php/hromadianam/video | BI12: partially | BJ12: Only minutes http://www.nizhynrada.org/article/668/protokoli-postynih-deputatskih-komsy.html | BK12: no | BM12: no | BO12: partially | BP12: Only in russian version of the web-site http://omr.gov.ua/ru/155/ | BQ12: partially | BR12: Only minutes http://olexrada.gov.ua/category/city_rada/cg_st_komis | BS12: partially | BT12: http://pavlogradmrada.dp.gov.ua/category/miska-rada/protokoli-zasidan-postijjnikh-deputatskikh-komisijj | BU12: partially | BV12: Only roll-call votes and the mitutes http://www.rada-poltava.gov.ua/documents/voting_results/ http://www.rada-poltava.gov.ua/documents/inshi_dokumenti/ | BW12: yes | BX12: http://www.city-adm.rv.ua/RivnePortal/ContentPages/Public/RadaDeputat/RadaComissionList.aspx?c=7 | BY12: partially | BZ12: Only minutes http://sed-rada.org.ua/miska-rada/protokoli-postiynih-komisiy-miskoyi-radi-vii-sklikannya | CA12: no | CC12: partially | CD12: Minutes are present https://smr.gov.ua/uk/miska-vlada/miska-rada/postijni-komisiji.html | CE12: partially | CF12: Minutes http://rada.te.ua/normativnie-dokument/protokoli_visnovki_rekomendatsiy/ | CG12: partially | CH12: Only minutes http://rada-uzhgorod.gov.ua/rada_docs_taxonomy/protokoly-postijnyh-komisij/ | CI12: yes | CJ12: http://uman-rada.gov.ua/index.php/dokumenty/protokoly-komisii/itemlist/category/180-protokoly-zasidan-postiinykh-deputatskykh-komisii-umanskoi-miskoi-rady-vii-sklykannia | CK12: no | CM12: partially | CN12: Minutes http://www.city.kherson.ua/articles/protokoli-postiynih-komisiy-miskoyi-radi-vii-sklikannya | CO12: no | CP12: Only minutes http://www.khmelnytsky.com/index.php?option=com_content&view=category&id=551&Itemid=245 | CQ12: yes | CR12: Information on participation http://www.rada.cherkassy.ua/ua/files.php?s=2&s1=168&s2=395 and minutes | CS12: yes | CT12: http://chernivtsy.eu/portal/1109-2 | CU12: partially | CV12: Only minutes http://chernigiv-rada.gov.ua/gorrada/comisii/ | CW12: no
A13: Q12 | B13: Are the regular reports of the mayor on his work published on the City Council website (at least annually)? | C13: yes | D13: annually in section "News" | E13: no | G13: no | I13: no | K13: no | M13: no | O13: yes | P13: http://dniprorada.gov.ua/boris-filatov-nadav-rozlogij-zvit-svoi-roboti-za-rik-na-posadi-mera-dnipra | Q13: yes | R13: http://drohobych-rada.gov.ua/zvity-miskogo-golovy/ | S13: no | U13: no | W13: yes | X13: http://www.mrada.if.ua/%D0%BF%D1%80%D0%BE-%D0%BC%D1%96%D1%81%D1%8C%D0%BA%D1%83-%D1%80%D0%B0%D0%B4%D1%83/%D0%B2%D1%96%D0%B4%D0%B5%D0%BE%D0%B3%D0%B0%D0%BB%D0%B5%D1%80%D0%B5%D1%8F/91-%D1%80%D1%96%D1%87%D0%BD%D0%B8%D0%B9-%D0%B7%D0%B2%D1%96%D1%82-%D0%BC%D1%96%D1%81%D1%8C%D0%BA%D0%BE%D0%B3%D0%BE-%D0%B3%D0%BE%D0%BB%D0%BE%D0%B2%D0%B8-%D1%80%D1%83%D1%81%D0%BB%D0%B0%D0%BD%D0%B0-%D0%BC%D0%B0%D1%80%D1%86%D1%96%D0%BD%D0%BA%D1%96%D0%B2%D0%B0 | Y13: no | AA13: yes | AB13: http://kam-pod.gov.ua/novini/video-novini/item/51-zvit-miskoho-holovy-za-100-dniv | AC13: yes | AD13: Report for 2016 is available to download down the page http://dndz.gov.ua/ua/person/pg/250116793923950_p8/ | AE13: no | AG13: yes | AH13: http://www.kovelrada.gov.ua/news-1170.html | AI13: no | AK13: no | AM13: yes | AN13: holds position less than a year, however there is a report on the regulatory policy http://krm.gov.ua/article/view/472 | AO13: no | AQ13: no | AS13: yes | AT13: http://www.kr-rada.gov.ua/files/content/files/zvit-25.11.2016-20161130161527.pdf | AU13: yes | AV13: http://lis.gov.ua/2011-03-25-08-36-56/mayor/otchet-gorodskogo-golovy.html | AW13: yes | AX13: http://www.lutskrada.gov.ua/zvity-pro-robotu-miskogo-golovy | AY13: yes | AZ13: http://city-adm.lviv.ua/public-information/gov-officials/sadovyi-andrii-ivanovych/zvity | BA13: yes | BB13: http://marsovet.org.ua/articles/show/menu/3226 | BC13: no | BE13: yes | BF13: http://mkrada.gov.ua/content/zvit-miskogo-golovi.html http://mkrada.gov.ua/content/zvit_2015.html | BG13: yes | BH13: https://www.mukachevo-rada.gov.ua/index.php/miska-vlada/mukachivska-miska-rada/item/2983-andriibalohazvituieperedhromadoiuvmikroraionakhmista | BI13: yes | BJ13: http://www.nizhynrada.gov.ua/article/1021/zvt-mskogo-golovi-anatolya-lnnika-za-2015-rk.html | BK13: no | BM13: no | BN13: http://novomoskovsk-rada.gov.ua/mayor-report | BO13: yes | BP13: http://omr.gov.ua/ua/33/ | BQ13: partially | BR13: Only in 2013 and the period of 2010-2014 http://olexrada.gov.ua/news/zvit-miskogo-golovy-s-tsapyuka-pro-robo.html http://olexrada.gov.ua/news/zvit-miskogo-golovy-s-tsapyuka-pro-robotu-miskoyi-rady-ta-yiyi-vykonavchogo-komitetu-u-2010-2014-rokah.html | BS13: no | BU13: yes | BV13: http://www.rada-poltava.gov.ua/documents/public_reports/ | BW13: yes | BX13: http://www.khomko.rv.ua/Khomko/ContentPages/Public/Mayor/mayor_zvit.aspx | BY13: no | CA13: no | CC13: partially | CD13: https://smr.gov.ua/uk/miska-vlada/miskij-golova/zviti.html | CE13: yes | CF13: http://zvit.nadal.te.ua/ | CG13: no | CI13: yes | CJ13: https://drive.google.com/open?id=0B-Pm0Qxt98O0aG9EMFVBcXY2N2M | CK13: no | CM13: yes | CN13: http://www.city.kherson.ua/articles/zvit-miskogo-golovi-2016 | CO13: no | CQ13: no | CS13: yes | CT13: http://city.cv.ua/portal/zvity-chernivetskogo-miskogo-golovy | CU13: no | CW13: yes | CX13: http://shostka-rada.gov.ua/zvti_organu_vladi
A14: Q13 | B14: Is the information about the city mayor, City Council deputies (including CVs or biographical information, contact information, time and place of reception of citizens) published on the City Council website? | C14: yes | D14: http://artemrada.gov.ua/uk/mayor/bio http://artemrada.gov.ua/uk/deputy/6_convocation | E14: partially | F14: http://www.berdychiv.com.ua/golova.html тільки перелік депутатів http://www.berdychiv.com.ua/deputaty_VII.html | G14: yes | H14: http://bmr.gov.ua/index.php?id=800000598&no_cache=1 | I14: yes | J14: http://bc-rada.gov.ua/node/1835 | K14: partially | L14: http://brovary-rada.gov.ua/content/miska-vlada.html http://brovary-rada.gov.ua/content/deputatskiy-korpus.html http://brovary-rada.gov.ua/content/grafik-priyomu-deputativ.html http://brovary-rada.gov.ua/content/biografichna-dovidka.html | M14: yes | N14: http://www.vmr.gov.ua/Lists/CityMajor/Default.aspx http://www.vmr.gov.ua/Lists/CityCouncil/ShowContent.aspx?ID=76 | O14: yes | P14: http://dniprorada.gov.ua/dnipropetrovskij-misskij-golova http://dniprorada.gov.ua/deputati/deputati-vii-sklikannya/ http://dniprorada.gov.ua/grafik-osobistogo-prijomu-gromadjan-kerivnictvom-miskoi-radi-vikonkomu | Q14: yes | R14: http://drohobych-rada.gov.ua/deputaty/ | S14: partially | T14: http://zt-rada.gov.ua/pages/p116 Про депутатів лише перелік і графік прийому http://zt-rada.gov.ua/pages/c617 | U14: yes | V14: http://meria.zp.ua/test/index.php?id=36 | W14: partially | X14: http://www.mrada.if.ua/%D0%BF%D1%80%D0%BE-%D0%BC%D1%96%D1%81%D1%8C%D0%BA%D1%83-%D1%80%D0%B0%D0%B4%D1%83/%D0%BC%D1%96%D1%81%D1%8C%D0%BA%D0%B8%D0%B9-%D0%B3%D0%BE%D0%BB%D0%BE%D0%B2%D0%B0 | Y14: partially | Z14: http://www.izmail-rada.gov.ua/2009-09-14-09-14-45 http://www.izmail-rada.gov.ua/2011-11-16-07-26-09/2011-11-16-07-28-13/6135--vii- http://www.izmail-rada.gov.ua/2011-11-16-07-26-09/2011-11-16-07-30-33 | AA14: yes | AB14: http://kam-pod.gov.ua/rada/deputatsky-korpus/deputati-misk-radi/zagalnij-spisok-deputativ | AC14: partially | AD14: No information on reception http://dndz.gov.ua/ua/person/pg/250116793923950_p8/ No information on biographies of the deputies http://dndz.gov.ua/miska_vlada/miska_rada/deputati_miskoi_radi/zagalniy_spisok_deputativ http://dndz.gov.ua/ua/news/pg/180716106253065_p1/ | AE14: partially | AF14: http://kmr.gov.ua/uk/misykuy-golova and http://kmr.gov.ua/uk/deputats and http://kmr.gov.ua/uk/public-reception | AG14: partially | AH14: The Mayor http://www.kovelrada.gov.ua/mayor.html No biographies of the deputies http://www.kovelrada.gov.ua/council.html http://www.kovelrada.gov.ua/admission_schedule_voters_deputies_city_council.html | AI14: partially | AJ14: Only Mayors biography http://rada.konotop.org/index.php/2009-03-30-12-34-05/2009-04-10-10-39-53 No biographies http://rada.konotop.org/index.php/2009-03-30-12-34-05/2009-04-10-12-21-09 http://rada.konotop.org/files/2016/gradik%20prujomy.pdf | AK14: yes | AL14: http://konstrada.gov.ua/vlada/miskij-golova та депутати http://konstrada.gov.ua/vlada/miska-rada/32-miska-rada/deputati-miskoji-radi | AM14: yes | AN14: http://krm.gov.ua/person | AO14: yes | AP14: https://www.kremen.gov.ua/index.php/rozdil/miska_vlada/heads та https://www.kremen.gov.ua/index.php/rozdil/miska_vlada/radanova/deputy | AQ14: partially | AR14: Only Mayors biography http://kr.gov.ua/miskiy_golova , as regards the deputies - only the schedule of reception http://kr.gov.ua/deputatskiy_korpus | AS14: partially | AT14: http://www.kr-rada.gov.ua/deputatskiy-korpus.html | AU14: yes | AV14: http://lis.gov.ua/2011-03-25-08-36-56/mayor/biography.html http://lis.gov.ua/2011-03-25-08-36-56/mayor/admittance-schedule.html and http://lis.gov.ua/2011-03-25-08-36-56/town-council/deputy-corps/11545-spisok-deputativ-lisichanskoji-miskoji-radi-vii-sklikannya.html http://lis.gov.ua/2011-03-25-08-36-56/town-council/deputy-corps.html | AW14: partially | AX14: http://www.lutskrada.gov.ua/miskiy-golova Про депутатів без прийому http://www.lutskrada.gov.ua/deputy | AY14: yes | AZ14: http://city-adm.lviv.ua/lmr/profiles/andrii-sadovyi and https://www.lvivrada.gov.ua/deputaty/deputaty-miskoi-rady | BA14: yes | BB14: http://marsovet.org.ua/articles/show/article/2366 | BC14: partially | BD14: No Mayors contact details http://mlt.gov.ua/index.php?option=com_content&task=view&id=6100 No biographies of the deputies http://mlt.gov.ua/index.php?option=com_content&task=view&id=4276&Itemid=283 | BE14: yes | BF14: http://mkrada.gov.ua/content/biografichna-dovidka.html та депутати без графіків прийому http://mkrada.gov.ua/content/sklad-deputatskogo-korpusu-mikolaivskoi-miskoi-radi-7-sklikannya.html та графік прийому http://mkrada.gov.ua/content/rozklad-priyomu-gromadyan.html | BG14: partially | BH14: https://mukachevo-rada.gov.ua/index.php/miska-vlada/mukachivska-miska-rada/deputatskyi-korpus | BI14: yes | BJ14: http://www.nizhynrada.org/article/88/avtobografya.html | BK14: partially | BL14: http://www.nikopol-mrada.dp.gov.ua/miskiy-golova та http://www.nikopol-mrada.dp.gov.ua/miska-rada | BM14: no | BO14: yes | BP14: http://omr.gov.ua/ua/33/ та http://omr.gov.ua/ua/council/members/ | BQ14: yes | BR14: http://olexrada.gov.ua/category/mer http://olexrada.gov.ua/category/city_rada/dep_7_conv Графік знизу | BS14: partially | BT14: Information about the Mayor is available. As regards the deputies, there is only the list http://pavlogradmrada.dp.gov.ua/kerivnictvo-mista http://pavlogradmrada.dp.gov.ua/miska-rada/deputati.html | BU14: partially | BV14: http://www.rada-poltava.gov.ua/reception/shedule/ http://www.rada-poltava.gov.ua/rule/ http://www.rada-poltava.gov.ua/rule/rada/delegate/ | BW14: yes | BX14: http://www.city-adm.rv.ua/RivnePortal/ContentPages/Public/RadaDeputat/RadaDeputatList.aspx?c=7 | BY14: partially | BZ14: No information on Mayor (acting Mayor) http://sed-rada.org.ua/miska-rada/deputati | CA14: partially | CB14: No contact details of the deputies http://slavrada.gov.ua/?view=council.golova http://slavrada.gov.ua/?view=deputy7 | CC14: partially | CD14: No information on time and place of reception of citizens https://smr.gov.ua/uk/miska-vlada/miskij-golova.html | CE14: yes | CF14: http://rada.te.ua/miskiy-golova/ and http://rada.te.ua/deputatskiy-korpus/ | CG14: yes | CH14: http://rada-uzhgorod.gov.ua/aparat/mer/ http://rada-uzhgorod.gov.ua/aparat_mr/deputaty-miskoyi-rady/ | CI14: yes | CJ14: http://uman-rada.gov.ua/index.php/deputaty та http://uman-rada.gov.ua/index.php/miskuy-golova | CK14: yes | CL14: http://www.city.kharkov.ua/uk/gorodskaya-vlast/gorodskoj-sovet/deputatyi.html http://www.city.kharkov.ua/uk/gorodskaya-vlast/gorodskoj-golova/obratnaya-svyaz/obratitsya-k-gorodskomu-golove.-lichnyij-priem.html http://www.city.kharkov.ua/uk/gorodskaya-vlast/gorodskoj-golova/biografiya.html | CM14: partially | CN14: Withiut the biographies http://www.city.kherson.ua/c/miska-vlada/s/kerivniki http://mvk.kherson.ua/DepList.php | CO14: yes | CP14: http://www.khmelnytsky.com/index.php?option=com_content&view=category&id=13%3A2009-09-04-07-08-39&layout=blog&Itemid=239 http://www.khmelnytsky.com/index.php?option=com_content&view=category&id=17&Itemid=245 | CQ14: yes | CR14: http://www.rada.cherkassy.ua/ua/rada.php?s=2&s1=168&s2=456 | CS14: yes | CT14: http://chernivtsy.eu/portal/4091-2 | CU14: partially | CV14: http://www.chernigiv-rada.gov.ua/gorrada/mer2/ http://www.chernigiv-rada.gov.ua/gorrada/deputat/ | CW14: yes
A15: Q14 | B15: Is the information on the list and contact details of the City Council standing committees, as well as names of Council standing committees’ members published on the City Council website? | C15: no | E15: partially | F15: http://www.berdychiv.com.ua/sklad_komisiy.html | G15: yes | H15: http://bmr.gov.ua/index.php?id=58 | I15: yes | J15: http://bc-rada.gov.ua/node/1838 | K15: partially | L15: http://brovary-rada.gov.ua/content/postiyni-komisii.html | M15: partially | N15: No contact details http://www.vmr.gov.ua/Lists/CityCouncil/ShowContent.aspx?ID=64 | O15: partially | P15: Only list and names http://dniprorada.gov.ua/postijni-komisii | Q15: yes | R15: http://drohobych-rada.gov.ua/postijni-komisiyi2/ | S15: partially | T15: Only names http://zt-rada.gov.ua/pages/c515 | U15: yes | V15: http://meria.zp.ua/test/index.php?id=38 | W15: yes | X15: http://www.mrada.if.ua/%D0%BF%D1%80%D0%BE-%D0%BC%D1%96%D1%81%D1%8C%D0%BA%D1%83-%D1%80%D0%B0%D0%B4%D1%83/%D0%B4%D0%B5%D0%BF%D1%83%D1%82%D0%B0%D1%82%D1%81%D1%8C%D0%BA%D1%96-%D0%BA%D0%BE%D0%BC%D1%96%D1%81%D1%96%D1%97 | Y15: partially | Z15: http://www.izmail-rada.gov.ua/2011-11-16-07-26-09/2011-11-16-07-28-44 | AA15: no | AC15: partially | AD15: No contact information http://dndz.gov.ua/miska_vlada/miska_rada/postiyni_komisii_miskoi_radi_vii_sklikannya/perelik_ta_sklad_postiynikh_komisiy_dniprodzerzhinskoi_miskoi_radi_vii_sklikannya | AE15: yes | AF15: http://kmr.gov.ua/uk/comisii | AG15: no | AI15: partially | AJ15: Only the list and names http://rada.konotop.org/index.php/2009-03-30-12-34-05/2015-03-02-09-06-46/4453-----7- | AK15: yes | AL15: http://konstrada.gov.ua/vlada/miska-rada/35-miska-rada/postijni-komisiji | AM15: yes | AN15: http://krm.gov.ua/article/view/45 | AO15: yes | AP15: https://www.kremen.gov.ua/index.php/rozdil/miska_vlada/radanova/deputy/page/432 | AQ15: partially | AR15: Only the list and names http://kr.gov.ua/deputatskiy_korpus http://kr.gov.ua/ua/osxfile/pg/211210729440529_s_2o/%D0%BA%D0%BE%D0%BC%D1%96%D1%81%D1%96%D1%97.doc | AS15: yes | AT15: http://www.kr-rada.gov.ua/postiyni-deputatski-komisiyi.html | AU15: partially | AV15: http://lis.gov.ua/2011-03-25-08-36-56/town-council/standing-commissions.html | AW15: partially | AX15: Only the list and names http://www.lutskrada.gov.ua/commission | AY15: yes | AZ15: https://www.lvivrada.gov.ua/miska-rada/postiyni-komisii | BA15: yes | BB15: http://marsovet.org.ua/articles/show/article/2366 | BC15: no | BE15: yes | BF15: http://mkrada.gov.ua/content/sklad-postiynih-komisiy-miskoi-radi1.html | BG15: yes | BH15: https://mukachevo-rada.gov.ua/index.php/miska-vlada/mukachivska-miska-rada/deputatskyi-komisii | BI15: yes | BJ15: http://www.nizhynrada.org/article/87/grafk-priyomu.html | BK15: yes | BL15: http://www.nikopol-mrada.dp.gov.ua/postiyni-komisiyi-miskoyi-radi | BM15: partially | BN15: No contact details http://www.novomoskovsk-rada.gov.ua/comissions | BO15: partially | BP15: Only in russian version of the web-site http://omr.gov.ua/ru/155/ | BQ15: partially | BR15: No contact details http://olexrada.gov.ua/category/city_rada/cg_st_komis | BS15: partially | BT15: Only the list and names http://pavlogradmrada.dp.gov.ua/miska-rada/postoyannaya-deputatskaya-komissiya-po-voprosam-zakonnosti-deputatskojj-ehtiki-svyazyam-s-politicheskimi-partiyami-obshhestvennymi-organizaciyami-i-sredstvami-massovojj-informacii.html | BU15: partially | BV15: Only the list http://www.rada-poltava.gov.ua/rule/rada/comission/ | BW15: yes | BX15: http://www.city-adm.rv.ua/RivnePortal/ContentPages/Public/RadaDeputat/RadaComissionList.aspx?c=7 | BY15: no | CA15: no | CC15: yes | CD15: https://smr.gov.ua/uk/miska-vlada/miska-rada/postijni-komisiji.html | CE15: partially | CF15: http://rada.te.ua/deputatski-komisii/ | CG15: partially | CH15: No contact details http://rada-uzhgorod.gov.ua/postijni-komisiyi-uzhgorodskoyi-miskoyi-rady/ | CI15: yes | CJ15: http://uman-rada.gov.ua/index.php/postiini-komisii | CK15: yes | CL15: http://www.city.kharkov.ua/uk/gorodskaya-vlast/gorodskoj-sovet/komissii.html | CM15: no | CO15: partially | CP15: No contact details http://www.khmelnytsky.com/index.php?option=com_content&view=article&id=29%3A2009-09-24-08-20-08&catid=16%3A2009-09-04-07-10-03&Itemid=245#spoiler_0 | CQ15: yes | CR15: http://www.rada.cherkassy.ua/ua/rada.php?s=2&s1=168&s2=456 | CS15: yes | CT15: http://chernivtsy.eu/portal/postijni-deputatski-komisiyi-chernivetskoyi-miskoyi-rady | CU15: partially | CV15: No contact details http://www.chernigiv-rada.gov.ua/gorrada/comisii/ | CW15: yes | CX15: http://www.shostka-rada.gov.ua/government/m_skij_golova http://www.shostka-rada.gov.ua/government/miska_rada/cklad_radi
A16: Q15 | B16: Is the information on the contact details of the City Council executive committee and names of its members published on the City Council website? | C16: yes | D16: http://artemrada.gov.ua/uk/executivecommittee | E16: partially | F16: http://www.berdychiv.com.ua/sklad_vikonavchogo_komtetu.html | G16: yes | H16: http://bmr.gov.ua/index.php?id=226 | I16: yes | J16: http://bc-rada.gov.ua/node/1841 | K16: partially | L16: http://brovary-rada.gov.ua/content/chleni-vikonavchogo-komitetu.html | M16: partially | N16: No contact details http://www.vmr.gov.ua/Lists/TheExecutiveCommittee/Default.aspx | O16: no | P16: The page is in development | Q16: yes | R16: http://drohobych-rada.gov.ua/vykonavchyj-komitet/ | S16: partially | T16: Only names http://zt-rada.gov.ua/pages/p20 | U16: yes | V16: http://meria.zp.ua/test/index.php?id=34 | W16: yes | X16: http://www.mvk.if.ua/sclad | Y16: partially | Z16: http://www.izmail-rada.gov.ua/2009-09-14-09-14-45/2010-02-23-10-11-08 | AA16: yes | AB16: http://kam-pod.gov.ua/vikonkom/sklad-vikonavchogo-komitetu | AC16: partially | AD16: No contact information http://dndz.gov.ua/miska_vlada/vikonavchiy_komitet_miskoi_radi/sklad | AE16: yes | AF16: https://kievcity.gov.ua/content/24_kerivnytstvo.html | AG16: partially | AH16: Only names http://www.kovelrada.gov.ua/executive.html | AI16: partially | AJ16: Only names http://rada.konotop.org/index.php/2009-03-30-12-34-05/2009-04-10-12-33-56 | AK16: yes | AL16: http://konstrada.gov.ua/vlada/vikonavchij-komitet/42-vikonavchij-komitet/sklad-vikonavchogo-komitetu | AM16: yes | AN16: http://krm.gov.ua/article/view/58 | AO16: yes | AP16: https://www.kremen.gov.ua/index.php/rozdil/miska_vlada/komitet | AQ16: partially | AR16: Лише склад http://kr.gov.ua/sklad_vikonavchogo_komitetu | AS16: yes | AT16: http://www.kr-rada.gov.ua/sklad-vikonkomu.html | AU16: partially | AV16: http://lis.gov.ua/2011-03-25-08-36-56/executive-powers/ainmenu-50.html | AW16: partially | AX16: Only names http://www.lutskrada.gov.ua/executive-committee | AY16: yes | AZ16: http://city-adm.lviv.ua/lmr/executive-committee | BA16: yes | BB16: http://marsovet.org.ua/articles/show/article/36 | BC16: partially | BD16: Only contacts down the page on the left side http://mlt.gov.ua/index.php?option=com_frontpage&Itemid=1 | BE16: yes | BF16: http://mkrada.gov.ua/content/sklad-vikonkomu.html | BG16: yes | BH16: https://mukachevo-rada.gov.ua/index.php/miska-vlada/vykonavchyi-komitet/sklad-vikonkomu | BI16: partially | BJ16: http://www.nizhynrada.org/article/138/deputati-msko-radi.html | BK16: yes | BL16: http://www.nikopol-mrada.dp.gov.ua/sklad-vikonavchogo-komitetu-nikopolskoyi-miskoyi-radi | BM16: yes | BN16: http://www.novomoskovsk-rada.gov.ua/static/chleni-vikonavchogo-komitetu http://www.novomoskovsk-rada.gov.ua/graphic | BO16: yes | BP16: http://omr.gov.ua/ua/mayor/committee/ | BQ16: yes | BR16: http://olexrada.gov.ua/category/vkk | BS16: partially | BT16: No contact details http://pavlogradmrada.dp.gov.ua/vikonkom-2/sklad-vikonkomu.html | BU16: yes | BV16: http://www.rada-poltava.gov.ua/rule/vykonkom/membership/ | BW16: yes | BX16: http://www.city-adm.rv.ua/RivnePortal/ukr/sklad.aspx | BY16: yes | BZ16: http://sed-rada.org.ua/vikonavchi-organi/vikonavchiy-komitet | CA16: yes | CB16: http://slavrada.gov.ua/?view=sostav_ispolkom | CC16: partially | CD16: https://smr.gov.ua/uk/miska-vlada/vikonavchi-organi/vikonavchij-komitet.html | CE16: yes | CF16: http://rada.te.ua/vikonavchiy-komitet/ | CG16: yes | CH16: http://rada-uzhgorod.gov.ua/aparat_mr/chleny-vykonkomu/ | CI16: yes | CJ16: http://uman-rada.gov.ua/index.php/vykonavchyi-komitet | CK16: partially | CL16: http://www.city.kharkov.ua/uk/gorodskaya-vlast/ispolnitelnyie-organyi/sostav-ispolkoma.html | CM16: partially | CN16: http://www.city.kherson.ua/articles/personalniy-sklad-vikonavchogo-komitetu | CO16: partially | CP16: Only names http://www.khmelnytsky.com/index.php?option=com_content&view=category&layout=blog&id=21&Itemid=23 | CQ16: no | CS16: yes | CT16: http://chernivtsy.eu/portal/9/850-850.html | CU16: yes | CV16: http://www.chernigiv-rada.gov.ua/gorrada/comitet/ | CW16: partially | CX16: Only the list http://www.shostka-rada.gov.ua/government/vikonavchij_komitet
A17: Q16 | B17: Is the information on the approved socio-economic and cultural development programs, target programs, as well as reports on their implementation published on the City Council website. | C17: yes | D17: http://artemrada.gov.ua/uk/cityprogram | E17: no | G17: no | I17: no | K17: no | M17: partially | N17: No reports on implementation http://www.vmr.gov.ua/Branches/Lists/Finances/ShowContent.aspx?ID=8 http://www.vmr.gov.ua/TransparentCity/Lists/StartUp/Default.aspx http://www.vmr.gov.ua/Lists/SocialAdvertising/ShowContent.aspx?ID=1 | O17: partially | P17: There are no reports http://dniprorada.gov.ua/strategichnij-plan-rozvitku-mista-dnipropetrovska http://dniprorada.gov.ua/2016-08-30-13-57-56 | Q17: yes | R17: http://drohobych-rada.gov.ua/programy-rozvytku/ | S17: partially | T17: http://zt-rada.gov.ua/pages/c1053 | U17: partially | V17: http://meria.zp.ua/test/index.php?id=21958 | W17: partially | X17: http://www.mvk.if.ua/socprog | Y17: partially | Z17: http://www.izmail-rada.gov.ua/2010-05-05-12-39-15 | AA17: no | AC17: partially | AD17: No reports http://so.dndz.gov.ua/ua/treezas_so/pg/905273437_d1/ | AE17: yes | AF17: http://kmr.gov.ua/municipal-target-programs | AG17: yes | AH17: http://www.kovelrada.gov.ua/programeconomic.html | AI17: partially | AJ17: Reports on implementation http://rada.konotop.org/index.php/home/2009-04-01-06-13-37/2009-05-05-06-10-16 | AK17: yes | AL17: http://konstrada.gov.ua/sotsialno-ekonomichnij-rozvitok/programi | AM17: yes | AN17: http://krm.gov.ua/article/view/19 | AO17: partially | AP17: https://www.kremen.gov.ua/index.php/rozdil/gromadyanam/social/socialprograms | AQ17: yes | AR17: http://kr.gov.ua/sotsialno_ekonomichniy_rozvitok | AS17: yes | AT17: http://www.kr-rada.gov.ua/galuzevi-programi.html | AU17: partially | AV17: http://lis.gov.ua/lisichansk-today/programs.html | AW17: partially | AX17: http://www.lutskrada.gov.ua/programa-ekonomichnogo-i-socialnogo-rozvytku-mista-lucka-na-2016-2017-roky | AY17: yes | AZ17: http://city-adm.lviv.ua/lmr/economy/business | BA17: yes | BB17: http://marsovet.org.ua/articles/show/menu/2812 | BC17: yes | BD17: http://mlt.gov.ua/index.php?option=com_content&task=view&id=2662&Itemid=240 | BE17: yes | BF17: http://mkrada.gov.ua/documents/?c=6 | BG17: yes | BH17: https://mukachevo-rada.gov.ua/index.php/ekonomika/ekonomika-biznes-ta-investytsii/prohrama-ekonomichnoho-i-sotsialnoho-rozvytku | BI17: yes | BJ17: http://www.nizhynrada.org/article/139/programa-ekonomchnogo-ta-sotsalnogo-rozvitku.html | BK17: no | BM17: yes | BN17: http://www.novomoskovsk-rada.gov.ua/static/programi-socialno-ekonomichnogo-ta-kulturnogo-rozvitku-m-novomoskovska http://www.novomoskovsk-rada.gov.ua/static/vikonannya-programi-socialno-ekonomichnogo-ta-kulturnogo-rozvitku-mista | BO17: yes | BP17: http://omr.gov.ua/ru/programmes/ | BQ17: partially | BR17: In News http://olexrada.gov.ua/news/deputaty-zatverdyly-miski-tsilovi-programy.html http://olexrada.gov.ua/news/miskyj-golova-s-tsapyuk-rozpoviv-pro-nastupni-kroky-vtilennya-strategiyi-stalogo-rozvytku-m-oleksandriyi-do-2030-roku.html http://olexrada.gov.ua/news/informatsiya-pro-stan-vykonannya-progr-4.html | BS17: partially | BT17: No reports http://pavlogradmrada.dp.gov.ua/news/perelik-diyuchikh-miscevikh-program.html | BU17: yes | BV17: Available through "Search" http://www.rada-poltava.gov.ua/documents/ | BW17: yes | BX17: http://economy.rv.ua/development_programs/ | BY17: yes | BZ17: http://sed-rada.org.ua/ekonomika/strategiya-socialno-ekonomichnogo-rozvitku-mista | CA17: partially | CB17: http://slavrada.gov.ua/?view=strateg | CC17: yes | CD17: https://smr.gov.ua/uk/dokumenti/programi-rozvitku-mista.html | CE17: yes | CF17: http://rada.te.ua/normativnie-dokument/programi/ | CG17: no | CI17: yes | CJ17: http://uman-rada.gov.ua/index.php/sotsialno-ekonomichnyi-rozvytok-mista/prohrama-ekonomichnoho-ta-sotsialnoho-rozvytku | CK17: no | CM17: partially | CN17: No reports http://www.city.kherson.ua/c/ekonomichna-sfera/s/strategichniy-plan-ekonomichnogo-rozvitku-mista | CO17: yes | CP17: http://www.khmelnytsky.com/index.php?option=com_content&view=category&layout=blog&id=490&Itemid=41 http://www.khmelnytsky.com/index.php?option=com_content&view=category&layout=blog&id=490&Itemid=41 | CQ17: partially | CR17: http://rada.cherkasy.ua/myrada/html/198889.php?id=198889 | CS17: yes | CT17: http://chernivtsy.eu/portal/12832-2 | CU17: partially | CV17: http://www.chernigiv-rada.gov.ua/project/rada/7664 | CW17: yes | CX17: http://www.shostka-rada.gov.ua/resheniya/pro_vnesennya_dopovnen_do_programi_socalno_ekonomchnogo_ta_kulturnogo_rozvitku_mshostka_na_2016_rk
